BEGIN:VCALENDAR
VERSION:2.0
PRODID:-//Visit Pikeville - ECPv6.15.20//NONSGML v1.0//EN
CALSCALE:GREGORIAN
METHOD:PUBLISH
X-WR-CALNAME:Visit Pikeville
X-ORIGINAL-URL:https://visitpikeville.com
X-WR-CALDESC:Events for Visit Pikeville
REFRESH-INTERVAL;VALUE=DURATION:PT1H
X-Robots-Tag:noindex
X-PUBLISHED-TTL:PT1H
BEGIN:VTIMEZONE
TZID:America/Kentucky/Louisville
BEGIN:DAYLIGHT
TZOFFSETFROM:-0500
TZOFFSETTO:-0400
TZNAME:EDT
DTSTART:20250309T070000
END:DAYLIGHT
BEGIN:STANDARD
TZOFFSETFROM:-0400
TZOFFSETTO:-0500
TZNAME:EST
DTSTART:20251102T060000
END:STANDARD
BEGIN:DAYLIGHT
TZOFFSETFROM:-0500
TZOFFSETTO:-0400
TZNAME:EDT
DTSTART:20260308T070000
END:DAYLIGHT
BEGIN:STANDARD
TZOFFSETFROM:-0400
TZOFFSETTO:-0500
TZNAME:EST
DTSTART:20261101T060000
END:STANDARD
BEGIN:DAYLIGHT
TZOFFSETFROM:-0500
TZOFFSETTO:-0400
TZNAME:EDT
DTSTART:20270314T070000
END:DAYLIGHT
BEGIN:STANDARD
TZOFFSETFROM:-0400
TZOFFSETTO:-0500
TZNAME:EST
DTSTART:20271107T060000
END:STANDARD
END:VTIMEZONE
BEGIN:VEVENT
DTSTART;TZID=America/Kentucky/Louisville:20260325T120000
DTEND;TZID=America/Kentucky/Louisville:20260325T130000
DTSTAMP:20260421T114131
CREATED:20260323T153233Z
LAST-MODIFIED:20260323T153233Z
UID:73765-1774440000-1774443600@visitpikeville.com
SUMMARY:Free Virtual Workshops
DESCRIPTION:Business owners\, mark your calendars! \n\n\nThe first in a series of free virtual workshops is coming up soon! “The Digital Tune-up: Prepping Your Business for Online Growth” will be hosted on Thursday\, March 25\, from 12 – 1 p.m. ET.\n\n\nIn the workshop\, experts from Main Street America’s Small Business Hub will walk through an essential checklist designed to catch the critical details that often slip through the cracks. We know that when you are focused on the day-to-day reality of running a business\, it is easy to forget the ‘digital housekeeping’\, but those small gaps can add up to big missed opportunities.\n\n\nRegister here: https://savingplaces-org.zoom.us/…/WN…\n\n\n(Even if you can’t attend live\, make sure to register! You’ll get a recorded version after the fact.)
URL:https://visitpikeville.com/event/free-virtual-workshops/
LOCATION:Online Event\, Pikeville\, KY\, 41501\, United States
CATEGORIES:Pikeville Main Street
ATTACH;FMTTYPE=image/jpeg:https://visitpikeville.com/wp-content/uploads/2026/03/SMALL-BUSINESS.jpg
END:VEVENT
END:VCALENDAR