BEGIN:VCALENDAR
VERSION:2.0
PRODID:-//Visit Pikeville - ECPv6.15.20//NONSGML v1.0//EN
CALSCALE:GREGORIAN
METHOD:PUBLISH
X-WR-CALNAME:Visit Pikeville
X-ORIGINAL-URL:https://visitpikeville.com
X-WR-CALDESC:Events for Visit Pikeville
REFRESH-INTERVAL;VALUE=DURATION:PT1H
X-Robots-Tag:noindex
X-PUBLISHED-TTL:PT1H
BEGIN:VTIMEZONE
TZID:America/Kentucky/Louisville
BEGIN:DAYLIGHT
TZOFFSETFROM:-0500
TZOFFSETTO:-0400
TZNAME:EDT
DTSTART:20250309T070000
END:DAYLIGHT
BEGIN:STANDARD
TZOFFSETFROM:-0400
TZOFFSETTO:-0500
TZNAME:EST
DTSTART:20251102T060000
END:STANDARD
BEGIN:DAYLIGHT
TZOFFSETFROM:-0500
TZOFFSETTO:-0400
TZNAME:EDT
DTSTART:20260308T070000
END:DAYLIGHT
BEGIN:STANDARD
TZOFFSETFROM:-0400
TZOFFSETTO:-0500
TZNAME:EST
DTSTART:20261101T060000
END:STANDARD
BEGIN:DAYLIGHT
TZOFFSETFROM:-0500
TZOFFSETTO:-0400
TZNAME:EDT
DTSTART:20270314T070000
END:DAYLIGHT
BEGIN:STANDARD
TZOFFSETFROM:-0400
TZOFFSETTO:-0500
TZNAME:EST
DTSTART:20271107T060000
END:STANDARD
END:VTIMEZONE
BEGIN:VEVENT
DTSTART;TZID=America/Kentucky/Louisville:20260305T180000
DTEND;TZID=America/Kentucky/Louisville:20260305T190000
DTSTAMP:20260421T191937
CREATED:20260302T134451Z
LAST-MODIFIED:20260302T134451Z
UID:73328-1772733600-1772737200@visitpikeville.com
SUMMARY:Tax Credit Program
DESCRIPTION:Attention Downtown Property Owners!\n\n\nWe wanted to share an important opportunity coming up. The Kentucky Heritage Council (KHC) is hosting a FREE\, virtual webinar about Kentucky’s Historic Rehabilitation TAX Credit Program on Thursday\, March 5\, 2026\, from 6:00–7:00 PM ET. It’s designed especially for those who OWN property in the Downtown Historic District.\n\n\nThis session is open to the public for FREE and will give an easy-to-understand overview of how historic tax credits work\, who qualifies\, and how these incentives can support rehabilitation and preservation projects. If you’ve ever considered improvements to your historic property\, this webinar could be incredibly valuable!\n\n\n Date: March 5\n Time: 6:00–7:00 PM\n Format: Online Webinar\n\n\nYou may register for this webinar at:\nhttps://bit.ly/3ZnrbsK\n\n\nPLEASE help spread the word and share with other property owners who may benefit.\n\n\nLet’s continue investing in the future—and history—of our downtown!
URL:https://visitpikeville.com/event/tax-credit-program/
LOCATION:Online Event\, Pikeville\, KY\, 41501\, United States
CATEGORIES:Pikeville Main Street
ATTACH;FMTTYPE=image/jpeg:https://visitpikeville.com/wp-content/uploads/2026/03/tax-credit.jpg
END:VEVENT
END:VCALENDAR