BEGIN:VCALENDAR
VERSION:2.0
PRODID:-//Visit Pikeville - ECPv6.15.20//NONSGML v1.0//EN
CALSCALE:GREGORIAN
METHOD:PUBLISH
X-WR-CALNAME:Visit Pikeville
X-ORIGINAL-URL:https://visitpikeville.com
X-WR-CALDESC:Events for Visit Pikeville
REFRESH-INTERVAL;VALUE=DURATION:PT1H
X-Robots-Tag:noindex
X-PUBLISHED-TTL:PT1H
BEGIN:VTIMEZONE
TZID:America/Kentucky/Louisville
BEGIN:DAYLIGHT
TZOFFSETFROM:-0500
TZOFFSETTO:-0400
TZNAME:EDT
DTSTART:20240310T070000
END:DAYLIGHT
BEGIN:STANDARD
TZOFFSETFROM:-0400
TZOFFSETTO:-0500
TZNAME:EST
DTSTART:20241103T060000
END:STANDARD
BEGIN:DAYLIGHT
TZOFFSETFROM:-0500
TZOFFSETTO:-0400
TZNAME:EDT
DTSTART:20250309T070000
END:DAYLIGHT
BEGIN:STANDARD
TZOFFSETFROM:-0400
TZOFFSETTO:-0500
TZNAME:EST
DTSTART:20251102T060000
END:STANDARD
BEGIN:DAYLIGHT
TZOFFSETFROM:-0500
TZOFFSETTO:-0400
TZNAME:EDT
DTSTART:20260308T070000
END:DAYLIGHT
BEGIN:STANDARD
TZOFFSETFROM:-0400
TZOFFSETTO:-0500
TZNAME:EST
DTSTART:20261101T060000
END:STANDARD
END:VTIMEZONE
BEGIN:VEVENT
DTSTART;TZID=America/Kentucky/Louisville:20251204T170000
DTEND;TZID=America/Kentucky/Louisville:20251204T210000
DTSTAMP:20260421T191218
CREATED:20251203T175018Z
LAST-MODIFIED:20251203T175018Z
UID:71932-1764867600-1764882000@visitpikeville.com
SUMMARY:Sit N Sew Beginners
DESCRIPTION:Come and Join Us
URL:https://visitpikeville.com/event/beginners-sewing-2-2-2-2-2-2-2-2-2-2-2-2-2-2-2-2-2-2-2-2-2-2-2-2-2-2-2-2-2-2-2-2-2-2-2-2-2-2-2-2-3-2-2-2/
LOCATION:Bridgett’s Quilting and Fabric Shop\, 237 2nd St\,\, Pikeville\, KY\, 41501\, United States
CATEGORIES:Pikeville Main Street
ATTACH;FMTTYPE=image/jpeg:https://visitpikeville.com/wp-content/uploads/2023/10/bridgetts.jpeg
END:VEVENT
BEGIN:VEVENT
DTSTART;TZID=America/Kentucky/Louisville:20251205T160000
DTEND;TZID=America/Kentucky/Louisville:20251205T200000
DTSTAMP:20260421T191218
CREATED:20251124T143531Z
LAST-MODIFIED:20251124T143531Z
UID:71658-1764950400-1764964800@visitpikeville.com
SUMMARY:Carriage Rides
DESCRIPTION:We are pleased to announce that carriage rides will be offered this Friday and Saturday from 4-8.Guests can enjoy a relaxing\, scenic ride for $15 per person.This is a wonderful opportunity for families\, couples\, and individuals to experience a charming and traditional carriage outing.We look forward to providing you with a memorable and enjoyable experience.Call and book with us at 606-794-9881
URL:https://visitpikeville.com/event/carriage-rides-7-2-2/
LOCATION:Downtown Pikeville\, Pikeville\, Ky\, 41501
CATEGORIES:Pikeville Main Street,Pikeville Tourism
ATTACH;FMTTYPE=image/jpeg:https://visitpikeville.com/wp-content/uploads/2025/11/carriage.jpg
END:VEVENT
BEGIN:VEVENT
DTSTART;TZID=America/Kentucky/Louisville:20251206T160000
DTEND;TZID=America/Kentucky/Louisville:20251206T200000
DTSTAMP:20260421T191218
CREATED:20251124T143600Z
LAST-MODIFIED:20251124T143600Z
UID:71660-1765036800-1765051200@visitpikeville.com
SUMMARY:Carriage Rides
DESCRIPTION:We are pleased to announce that carriage rides will be offered this Friday and Saturday from 4-8.Guests can enjoy a relaxing\, scenic ride for $15 per person.This is a wonderful opportunity for families\, couples\, and individuals to experience a charming and traditional carriage outing.We look forward to providing you with a memorable and enjoyable experience.Call and book with us at 606-794-9881
URL:https://visitpikeville.com/event/carriage-rides-7-2-2-2/
LOCATION:Downtown Pikeville\, Pikeville\, Ky\, 41501
CATEGORIES:Pikeville Main Street,Pikeville Tourism
ATTACH;FMTTYPE=image/jpeg:https://visitpikeville.com/wp-content/uploads/2025/11/carriage.jpg
END:VEVENT
BEGIN:VEVENT
DTSTART;TZID=America/Kentucky/Louisville:20251206T170000
DTEND;TZID=America/Kentucky/Louisville:20251206T210000
DTSTAMP:20260421T191218
CREATED:20251203T181039Z
LAST-MODIFIED:20251203T181039Z
UID:71959-1765040400-1765054800@visitpikeville.com
SUMMARY:Merry on Main
DESCRIPTION:Who is READY to Sip\, Shop & Save Downtown?Go ahead and tag your shopping buddies\, friends and family!The first 100 guest to visit The Shoppes at 225 on Saturday may purchase a Red Bag with exclusive coupons\, $10 Downtown Dollars and more!Join us for a MeRrY mix of savings and seasonal cheer—your perfect excuse to shop local and celebrate! Date: Saturday\, December 6 Location: Downtown Pikeville Tag your shopping squad and make it a holiday to remember!
URL:https://visitpikeville.com/event/merry-on-main/
LOCATION:Downtown Pikeville\, Pikeville\, Ky\, 41501
CATEGORIES:Pikeville Main Street
ATTACH;FMTTYPE=image/jpeg:https://visitpikeville.com/wp-content/uploads/2025/12/merry-on-main.jpg
END:VEVENT
BEGIN:VEVENT
DTSTART;TZID=America/Kentucky/Louisville:20251211T170000
DTEND;TZID=America/Kentucky/Louisville:20251211T210000
DTSTAMP:20260421T191218
CREATED:20251203T175047Z
LAST-MODIFIED:20251203T175047Z
UID:71934-1765472400-1765486800@visitpikeville.com
SUMMARY:Sit N Sew Beginners
DESCRIPTION:Come and Join Us
URL:https://visitpikeville.com/event/beginners-sewing-2-2-2-2-2-2-2-2-2-2-2-2-2-2-2-2-2-2-2-2-2-2-2-2-2-2-2-2-2-2-2-2-2-2-2-2-2-2-2-2-3-2-2-2-2/
LOCATION:Bridgett’s Quilting and Fabric Shop\, 237 2nd St\,\, Pikeville\, KY\, 41501\, United States
CATEGORIES:Pikeville Main Street
ATTACH;FMTTYPE=image/jpeg:https://visitpikeville.com/wp-content/uploads/2023/10/bridgetts.jpeg
END:VEVENT
BEGIN:VEVENT
DTSTART;TZID=America/Kentucky/Louisville:20251212T160000
DTEND;TZID=America/Kentucky/Louisville:20251212T200000
DTSTAMP:20260421T191218
CREATED:20251124T143627Z
LAST-MODIFIED:20251124T143627Z
UID:71662-1765555200-1765569600@visitpikeville.com
SUMMARY:Carriage Rides
DESCRIPTION:We are pleased to announce that carriage rides will be offered this Friday and Saturday from 4-8.Guests can enjoy a relaxing\, scenic ride for $15 per person.This is a wonderful opportunity for families\, couples\, and individuals to experience a charming and traditional carriage outing.We look forward to providing you with a memorable and enjoyable experience.Call and book with us at 606-794-9881
URL:https://visitpikeville.com/event/carriage-rides-7-2-2-2-2/
LOCATION:Downtown Pikeville\, Pikeville\, Ky\, 41501
CATEGORIES:Pikeville Main Street,Pikeville Tourism
ATTACH;FMTTYPE=image/jpeg:https://visitpikeville.com/wp-content/uploads/2025/11/carriage.jpg
END:VEVENT
BEGIN:VEVENT
DTSTART;TZID=America/Kentucky/Louisville:20251213T160000
DTEND;TZID=America/Kentucky/Louisville:20251213T200000
DTSTAMP:20260421T191218
CREATED:20251124T143708Z
LAST-MODIFIED:20251124T143708Z
UID:71664-1765641600-1765656000@visitpikeville.com
SUMMARY:Carriage Rides
DESCRIPTION:We are pleased to announce that carriage rides will be offered this Friday and Saturday from 4-8.Guests can enjoy a relaxing\, scenic ride for $15 per person.This is a wonderful opportunity for families\, couples\, and individuals to experience a charming and traditional carriage outing.We look forward to providing you with a memorable and enjoyable experience.Call and book with us at 606-794-9881
URL:https://visitpikeville.com/event/carriage-rides-7-2-2-2-2-2/
LOCATION:Downtown Pikeville\, Pikeville\, Ky\, 41501
CATEGORIES:Pikeville Main Street,Pikeville Tourism
ATTACH;FMTTYPE=image/jpeg:https://visitpikeville.com/wp-content/uploads/2025/11/carriage.jpg
END:VEVENT
BEGIN:VEVENT
DTSTART;TZID=America/Kentucky/Louisville:20251218T170000
DTEND;TZID=America/Kentucky/Louisville:20251218T210000
DTSTAMP:20260421T191218
CREATED:20251203T175118Z
LAST-MODIFIED:20251203T175118Z
UID:71936-1766077200-1766091600@visitpikeville.com
SUMMARY:Sit N Sew Beginners
DESCRIPTION:Come and Join Us
URL:https://visitpikeville.com/event/beginners-sewing-2-2-2-2-2-2-2-2-2-2-2-2-2-2-2-2-2-2-2-2-2-2-2-2-2-2-2-2-2-2-2-2-2-2-2-2-2-2-2-2-3-2-2-2-2-2/
LOCATION:Bridgett’s Quilting and Fabric Shop\, 237 2nd St\,\, Pikeville\, KY\, 41501\, United States
CATEGORIES:Pikeville Main Street
ATTACH;FMTTYPE=image/jpeg:https://visitpikeville.com/wp-content/uploads/2023/10/bridgetts.jpeg
END:VEVENT
BEGIN:VEVENT
DTSTART;TZID=America/Kentucky/Louisville:20251219T160000
DTEND;TZID=America/Kentucky/Louisville:20251219T200000
DTSTAMP:20260421T191218
CREATED:20251124T143743Z
LAST-MODIFIED:20251124T143743Z
UID:71666-1766160000-1766174400@visitpikeville.com
SUMMARY:Carriage Rides
DESCRIPTION:We are pleased to announce that carriage rides will be offered this Friday and Saturday from 4-8.Guests can enjoy a relaxing\, scenic ride for $15 per person.This is a wonderful opportunity for families\, couples\, and individuals to experience a charming and traditional carriage outing.We look forward to providing you with a memorable and enjoyable experience.Call and book with us at 606-794-9881
URL:https://visitpikeville.com/event/carriage-rides-7-2-2-2-2-2-2/
LOCATION:Downtown Pikeville\, Pikeville\, Ky\, 41501
CATEGORIES:Pikeville Main Street,Pikeville Tourism
ATTACH;FMTTYPE=image/jpeg:https://visitpikeville.com/wp-content/uploads/2025/11/carriage.jpg
END:VEVENT
BEGIN:VEVENT
DTSTART;TZID=America/Kentucky/Louisville:20251220T110000
DTEND;TZID=America/Kentucky/Louisville:20251220T150000
DTSTAMP:20260421T191218
CREATED:20251215T141056Z
LAST-MODIFIED:20251215T141056Z
UID:72067-1766228400-1766242800@visitpikeville.com
SUMMARY:Free Christmas Wrapping
DESCRIPTION:Who needs a little help getting their Christmas Presents wrapped this Christmas? WE Got You!Let our volunteers Take the STRESS out of your holiday season—bring your gifts and enjoy **complimentary gift wrapping** by our amazing volunteers. All we ask is that you **TIP the organization WRAPPING for YOU**—your generosity helps support their incredible work!
URL:https://visitpikeville.com/event/free-christmas-wrapping/
LOCATION:The Shoppes at 225\, 225 2nd St\, KY\, 41501\, United States
CATEGORIES:Pikeville Main Street
ATTACH;FMTTYPE=image/jpeg:https://visitpikeville.com/wp-content/uploads/2025/12/gift.jpg
END:VEVENT
BEGIN:VEVENT
DTSTART;TZID=America/Kentucky/Louisville:20251220T160000
DTEND;TZID=America/Kentucky/Louisville:20251220T200000
DTSTAMP:20260421T191218
CREATED:20251124T143820Z
LAST-MODIFIED:20251124T143820Z
UID:71668-1766246400-1766260800@visitpikeville.com
SUMMARY:Carriage Rides
DESCRIPTION:We are pleased to announce that carriage rides will be offered this Friday and Saturday from 4-8.Guests can enjoy a relaxing\, scenic ride for $15 per person.This is a wonderful opportunity for families\, couples\, and individuals to experience a charming and traditional carriage outing.We look forward to providing you with a memorable and enjoyable experience.Call and book with us at 606-794-9881
URL:https://visitpikeville.com/event/carriage-rides-7-2-2-2-2-2-2-2/
LOCATION:Downtown Pikeville\, Pikeville\, Ky\, 41501
CATEGORIES:Pikeville Main Street,Pikeville Tourism
ATTACH;FMTTYPE=image/jpeg:https://visitpikeville.com/wp-content/uploads/2025/11/carriage.jpg
END:VEVENT
BEGIN:VEVENT
DTSTART;TZID=America/Kentucky/Louisville:20251226T160000
DTEND;TZID=America/Kentucky/Louisville:20251226T200000
DTSTAMP:20260421T191218
CREATED:20251124T143849Z
LAST-MODIFIED:20251124T143849Z
UID:71670-1766764800-1766779200@visitpikeville.com
SUMMARY:Carriage Rides
DESCRIPTION:We are pleased to announce that carriage rides will be offered this Friday and Saturday from 4-8.Guests can enjoy a relaxing\, scenic ride for $15 per person.This is a wonderful opportunity for families\, couples\, and individuals to experience a charming and traditional carriage outing.We look forward to providing you with a memorable and enjoyable experience.Call and book with us at 606-794-9881
URL:https://visitpikeville.com/event/carriage-rides-7-2-2-2-2-2-2-2-2/
LOCATION:Downtown Pikeville\, Pikeville\, Ky\, 41501
CATEGORIES:Pikeville Main Street,Pikeville Tourism
ATTACH;FMTTYPE=image/jpeg:https://visitpikeville.com/wp-content/uploads/2025/11/carriage.jpg
END:VEVENT
BEGIN:VEVENT
DTSTART;TZID=America/Kentucky/Louisville:20251227T160000
DTEND;TZID=America/Kentucky/Louisville:20251227T200000
DTSTAMP:20260421T191218
CREATED:20251124T143918Z
LAST-MODIFIED:20251124T143918Z
UID:71672-1766851200-1766865600@visitpikeville.com
SUMMARY:Carriage Rides
DESCRIPTION:We are pleased to announce that carriage rides will be offered this Friday and Saturday from 4-8.Guests can enjoy a relaxing\, scenic ride for $15 per person.This is a wonderful opportunity for families\, couples\, and individuals to experience a charming and traditional carriage outing.We look forward to providing you with a memorable and enjoyable experience.Call and book with us at 606-794-9881
URL:https://visitpikeville.com/event/carriage-rides-7-2-2-2-2-2-2-2-2-2/
LOCATION:Downtown Pikeville\, Pikeville\, Ky\, 41501
CATEGORIES:Pikeville Main Street,Pikeville Tourism
ATTACH;FMTTYPE=image/jpeg:https://visitpikeville.com/wp-content/uploads/2025/11/carriage.jpg
END:VEVENT
END:VCALENDAR