BEGIN:VCALENDAR
VERSION:2.0
PRODID:-//Visit Pikeville - ECPv6.15.20//NONSGML v1.0//EN
CALSCALE:GREGORIAN
METHOD:PUBLISH
X-ORIGINAL-URL:https://visitpikeville.com
X-WR-CALDESC:Events for Visit Pikeville
REFRESH-INTERVAL;VALUE=DURATION:PT1H
X-Robots-Tag:noindex
X-PUBLISHED-TTL:PT1H
BEGIN:VTIMEZONE
TZID:America/Kentucky/Louisville
BEGIN:DAYLIGHT
TZOFFSETFROM:-0500
TZOFFSETTO:-0400
TZNAME:EDT
DTSTART:20240310T070000
END:DAYLIGHT
BEGIN:STANDARD
TZOFFSETFROM:-0400
TZOFFSETTO:-0500
TZNAME:EST
DTSTART:20241103T060000
END:STANDARD
BEGIN:DAYLIGHT
TZOFFSETFROM:-0500
TZOFFSETTO:-0400
TZNAME:EDT
DTSTART:20250309T070000
END:DAYLIGHT
BEGIN:STANDARD
TZOFFSETFROM:-0400
TZOFFSETTO:-0500
TZNAME:EST
DTSTART:20251102T060000
END:STANDARD
BEGIN:DAYLIGHT
TZOFFSETFROM:-0500
TZOFFSETTO:-0400
TZNAME:EDT
DTSTART:20260308T070000
END:DAYLIGHT
BEGIN:STANDARD
TZOFFSETFROM:-0400
TZOFFSETTO:-0500
TZNAME:EST
DTSTART:20261101T060000
END:STANDARD
END:VTIMEZONE
BEGIN:VEVENT
DTSTART;TZID=America/Kentucky/Louisville:20250801T090000
DTEND;TZID=America/Kentucky/Louisville:20250801T140000
DTSTAMP:20260423T135251
CREATED:20250730T200602Z
LAST-MODIFIED:20250730T200602Z
UID:66540-1754038800-1754056800@visitpikeville.com
SUMMARY:Back to School Bash
DESCRIPTION:The Pikeville Police Department and Pikeville Fire Department are proud to join Howard Family Eyecare and Compassion Pediatrics of Pikeville for this year’s Back to School Bash.\n\n\nJoin us on Friday\, August 1st from 9:00 AM to 2:00 PM at 140 Adams Lane for a day focused on getting our community’s kids ready for a successful school year. The event will feature:\n\n\n– Pediatric eye exams\n\n\n– Inflatables\, games\, and kid-friendly activities\n\n\n– Food trucks\, ice cream\, and more\n\n\nWe look forward to spending time with families\, offering safety tips\, and helping make the transition back to school a positive experience for everyone. We hope to see you there.
URL:https://visitpikeville.com/event/back-to-school-bash/
CATEGORIES:Pikeville Fire Department,Pikeville Police Department
ATTACH;FMTTYPE=image/jpeg:https://visitpikeville.com/wp-content/uploads/2025/07/back-to-school.jpg
END:VEVENT
END:VCALENDAR