BEGIN:VCALENDAR
VERSION:2.0
PRODID:-//Visit Pikeville - ECPv6.15.20//NONSGML v1.0//EN
CALSCALE:GREGORIAN
METHOD:PUBLISH
X-ORIGINAL-URL:https://visitpikeville.com
X-WR-CALDESC:Events for Visit Pikeville
REFRESH-INTERVAL;VALUE=DURATION:PT1H
X-Robots-Tag:noindex
X-PUBLISHED-TTL:PT1H
BEGIN:VTIMEZONE
TZID:America/Kentucky/Louisville
BEGIN:DAYLIGHT
TZOFFSETFROM:-0500
TZOFFSETTO:-0400
TZNAME:EDT
DTSTART:20240310T070000
END:DAYLIGHT
BEGIN:STANDARD
TZOFFSETFROM:-0400
TZOFFSETTO:-0500
TZNAME:EST
DTSTART:20241103T060000
END:STANDARD
BEGIN:DAYLIGHT
TZOFFSETFROM:-0500
TZOFFSETTO:-0400
TZNAME:EDT
DTSTART:20250309T070000
END:DAYLIGHT
BEGIN:STANDARD
TZOFFSETFROM:-0400
TZOFFSETTO:-0500
TZNAME:EST
DTSTART:20251102T060000
END:STANDARD
BEGIN:DAYLIGHT
TZOFFSETFROM:-0500
TZOFFSETTO:-0400
TZNAME:EDT
DTSTART:20260308T070000
END:DAYLIGHT
BEGIN:STANDARD
TZOFFSETFROM:-0400
TZOFFSETTO:-0500
TZNAME:EST
DTSTART:20261101T060000
END:STANDARD
END:VTIMEZONE
BEGIN:VEVENT
DTSTART;TZID=America/Kentucky/Louisville:20251014T163000
DTEND;TZID=America/Kentucky/Louisville:20251014T190000
DTSTAMP:20260423T154016
CREATED:20251006T122939Z
LAST-MODIFIED:20251006T122939Z
UID:69297-1760459400-1760468400@visitpikeville.com
SUMMARY:Pikeville Farmers Market
DESCRIPTION:Farmers Market season is starting to wind down! Make sure you come check it out before it’s too late 
URL:https://visitpikeville.com/event/pikeville-farmers-market-7-2/
LOCATION:Pikeville Farmer’s Market\, 130 Adams Lane\, Pikeville\, Ky
CATEGORIES:Pikeville Farmers Market
ATTACH;FMTTYPE=image/jpeg:https://visitpikeville.com/wp-content/uploads/2025/10/farmers-market.jpg
END:VEVENT
BEGIN:VEVENT
DTSTART;TZID=America/Kentucky/Louisville:20251011T090000
DTEND;TZID=America/Kentucky/Louisville:20251011T130000
DTSTAMP:20260423T154016
CREATED:20251006T123327Z
LAST-MODIFIED:20251006T123327Z
UID:69306-1760173200-1760187600@visitpikeville.com
SUMMARY:Pikeville Farmers Market
DESCRIPTION:Farmers Market season is starting to wind down! Make sure you come check it out before it’s too late 
URL:https://visitpikeville.com/event/pikeville-farmers-market-7-2-2-2-2-2/
LOCATION:Pikeville Farmer’s Market\, 130 Adams Lane\, Pikeville\, Ky
CATEGORIES:Pikeville Farmers Market
ATTACH;FMTTYPE=image/jpeg:https://visitpikeville.com/wp-content/uploads/2025/10/farmers-market.jpg
END:VEVENT
BEGIN:VEVENT
DTSTART;TZID=America/Kentucky/Louisville:20251007T163000
DTEND;TZID=America/Kentucky/Louisville:20251007T190000
DTSTAMP:20260423T154016
CREATED:20251006T122858Z
LAST-MODIFIED:20251006T122858Z
UID:69294-1759854600-1759863600@visitpikeville.com
SUMMARY:Pikeville Farmers Market
DESCRIPTION:Farmers Market season is starting to wind down! Make sure you come check it out before it’s too late 
URL:https://visitpikeville.com/event/pikeville-farmers-market-7/
LOCATION:Pikeville Farmer’s Market\, 130 Adams Lane\, Pikeville\, Ky
CATEGORIES:Pikeville Farmers Market
ATTACH;FMTTYPE=image/jpeg:https://visitpikeville.com/wp-content/uploads/2025/10/farmers-market.jpg
END:VEVENT
BEGIN:VEVENT
DTSTART;TZID=America/Kentucky/Louisville:20251004T090000
DTEND;TZID=America/Kentucky/Louisville:20251004T130000
DTSTAMP:20260423T154016
CREATED:20251006T123237Z
LAST-MODIFIED:20251006T123237Z
UID:69304-1759568400-1759582800@visitpikeville.com
SUMMARY:Pikeville Farmers Market
DESCRIPTION:Farmers Market season is starting to wind down! Make sure you come check it out before it’s too late 
URL:https://visitpikeville.com/event/pikeville-farmers-market-7-2-2-2-2/
LOCATION:Pikeville Farmer’s Market\, 130 Adams Lane\, Pikeville\, Ky
CATEGORIES:Pikeville Farmers Market
ATTACH;FMTTYPE=image/jpeg:https://visitpikeville.com/wp-content/uploads/2025/10/farmers-market.jpg
END:VEVENT
BEGIN:VEVENT
DTSTART;TZID=America/Kentucky/Louisville:20250906T090000
DTEND;TZID=America/Kentucky/Louisville:20250906T170000
DTSTAMP:20260423T154016
CREATED:20250630T131253Z
LAST-MODIFIED:20250630T131253Z
UID:65320-1757149200-1757178000@visitpikeville.com
SUMMARY:Fall Festival AG Day Event
DESCRIPTION:Come join us for a fun-filled day. Bring the kids out to join in a stick horse racing contest\, pumpkin toss\, sack races\, and more. Stop Enter the chili cook-off\, bake-off\, honey tasting contest\, and biggest pumpkin contest. Vendor spaces are available\, and food truck spots are open.
URL:https://visitpikeville.com/event/fall-festival-ag-day-event/
LOCATION:Pikeville Farmer’s Market\, 130 Adams Lane\, Pikeville\, Ky
CATEGORIES:Pikeville Farmers Market
ATTACH;FMTTYPE=image/jpeg:https://visitpikeville.com/wp-content/uploads/2025/06/fall-festival.jpg
END:VEVENT
BEGIN:VEVENT
DTSTART;TZID=America/Kentucky/Louisville:20250812T173000
DTEND;TZID=America/Kentucky/Louisville:20250812T183000
DTSTAMP:20260423T154016
CREATED:20250717T132443Z
LAST-MODIFIED:20250717T132443Z
UID:66053-1755019800-1755023400@visitpikeville.com
SUMMARY:Flower Power: Establishing Pollinator Habitats
DESCRIPTION:Join us at the Pikeville Farmer’s Market pavillion for a special guest speaker\, Dr. Tamara Horn Potter presenting her book Flower Power: Establishing Pollinator Habitat.Ticket Price: $10– can be paid via paypal: Appalachian Roots Garden ClubOr cash the day of the event\nDr. Tamara Horn Potter is an author and apiarist. From 2008-2014\, she worked at EKU and with coal companies to get pollinator habitat established as a best management practice for reclamation. From 2014-2024\, she served as the KY Dept. of Agriculture State Apiarist\, working with the Kentucky Transportation Cabinet and Columbia Gas to get pollinator habitat established on highway rights-of-ways. She joined KY State University Land Grant Program as Beginner Beekeeper Coordinator in 2024.\nShe and her husband\, Doug\, manage honey bees at five apiaries in the Bluegrass\, and she’s served on more nonprofit beekeeping boards than anyone should have a right to. Dr. Potter currently served in Kentucky State University Land Grant Program\, and is the author of Bees in America: How the Honey Bee Shaped a Nation (UP of KY\, 2005)\, Beeconomy: What Women and Bees Teach us About Local Trade and Global Economics (UP of KY\, 2012); and Flower Power: Establishing Pollinator Habitat (Wicwas P\, 2019)
URL:https://visitpikeville.com/event/flower-power-establishing-pollinator-habitats/
LOCATION:Pikeville Farmer’s Market\, 130 Adams Lane\, Pikeville\, Ky
CATEGORIES:Pikeville Farmers Market
ATTACH;FMTTYPE=image/jpeg:https://visitpikeville.com/wp-content/uploads/2025/07/flower-power.jpg
END:VEVENT
BEGIN:VEVENT
DTSTART;TZID=America/Kentucky/Louisville:20250729T163000
DTEND;TZID=America/Kentucky/Louisville:20250729T190000
DTSTAMP:20260423T154016
CREATED:20250702T190518Z
LAST-MODIFIED:20250702T190518Z
UID:65488-1753806600-1753815600@visitpikeville.com
SUMMARY:Pikeville Farmers Market
DESCRIPTION:The market is now open on both Saturdays 9:00am – 1:00pm and Tuesdays 4:30 -7:00pm. Come out and get fresh local produce\, plants\, delicious baked goods\, fresh strawberries\, and more!
URL:https://visitpikeville.com/event/pikeville-farmers-market-6-2-2-2-2-2-2-2-2-2-2-2-2-2-2-2-2-2-2/
LOCATION:Pikeville Farmer’s Market\, 130 Adams Lane\, Pikeville\, Ky
CATEGORIES:Pikeville Farmers Market
ATTACH;FMTTYPE=image/jpeg:https://visitpikeville.com/wp-content/uploads/2025/06/farmers-market.jpg
END:VEVENT
BEGIN:VEVENT
DTSTART;TZID=America/Kentucky/Louisville:20250726T090000
DTEND;TZID=America/Kentucky/Louisville:20250726T130000
DTSTAMP:20260423T154016
CREATED:20250702T190412Z
LAST-MODIFIED:20250702T190412Z
UID:65486-1753520400-1753534800@visitpikeville.com
SUMMARY:Pikeville Farmers Market
DESCRIPTION:The market is now open on both Saturdays 9:00am – 1:00pm and Tuesdays 4:30 -7:00pm. Come out and get fresh local produce\, plants\, delicious baked goods\, fresh strawberries\, and more!
URL:https://visitpikeville.com/event/pikeville-farmers-market-6-2-2-2-2-2-2-2-2-2-2-2-2-2-2-2-2-2/
LOCATION:Pikeville Farmer’s Market\, 130 Adams Lane\, Pikeville\, Ky
CATEGORIES:Pikeville Farmers Market
ATTACH;FMTTYPE=image/jpeg:https://visitpikeville.com/wp-content/uploads/2025/06/farmers-market.jpg
END:VEVENT
BEGIN:VEVENT
DTSTART;TZID=America/Kentucky/Louisville:20250722T163000
DTEND;TZID=America/Kentucky/Louisville:20250722T190000
DTSTAMP:20260423T154016
CREATED:20250702T190330Z
LAST-MODIFIED:20250702T190330Z
UID:65484-1753201800-1753210800@visitpikeville.com
SUMMARY:Pikeville Farmers Market
DESCRIPTION:The market is now open on both Saturdays 9:00am – 1:00pm and Tuesdays 4:30 -7:00pm. Come out and get fresh local produce\, plants\, delicious baked goods\, fresh strawberries\, and more!
URL:https://visitpikeville.com/event/pikeville-farmers-market-6-2-2-2-2-2-2-2-2-2-2-2-2-2-2-2-2/
LOCATION:Pikeville Farmer’s Market\, 130 Adams Lane\, Pikeville\, Ky
CATEGORIES:Pikeville Farmers Market
ATTACH;FMTTYPE=image/jpeg:https://visitpikeville.com/wp-content/uploads/2025/06/farmers-market.jpg
END:VEVENT
BEGIN:VEVENT
DTSTART;TZID=America/Kentucky/Louisville:20250719T090000
DTEND;TZID=America/Kentucky/Louisville:20250719T130000
DTSTAMP:20260423T154016
CREATED:20250702T190157Z
LAST-MODIFIED:20250702T190157Z
UID:65482-1752915600-1752930000@visitpikeville.com
SUMMARY:Pikeville Farmers Market
DESCRIPTION:The market is now open on both Saturdays 9:00am – 1:00pm and Tuesdays 4:30 -7:00pm. Come out and get fresh local produce\, plants\, delicious baked goods\, fresh strawberries\, and more!
URL:https://visitpikeville.com/event/pikeville-farmers-market-6-2-2-2-2-2-2-2-2-2-2-2-2-2-2-2/
LOCATION:Pikeville Farmer’s Market\, 130 Adams Lane\, Pikeville\, Ky
CATEGORIES:Pikeville Farmers Market
ATTACH;FMTTYPE=image/jpeg:https://visitpikeville.com/wp-content/uploads/2025/06/farmers-market.jpg
END:VEVENT
BEGIN:VEVENT
DTSTART;TZID=America/Kentucky/Louisville:20250715T163000
DTEND;TZID=America/Kentucky/Louisville:20250715T190000
DTSTAMP:20260423T154016
CREATED:20250702T190028Z
LAST-MODIFIED:20250702T190028Z
UID:65480-1752597000-1752606000@visitpikeville.com
SUMMARY:Pikeville Farmers Market
DESCRIPTION:The market is now open on both Saturdays 9:00am – 1:00pm and Tuesdays 4:30 -7:00pm. Come out and get fresh local produce\, plants\, delicious baked goods\, fresh strawberries\, and more!
URL:https://visitpikeville.com/event/pikeville-farmers-market-6-2-2-2-2-2-2-2-2-2-2-2-2-2-2/
LOCATION:Pikeville Farmer’s Market\, 130 Adams Lane\, Pikeville\, Ky
CATEGORIES:Pikeville Farmers Market
ATTACH;FMTTYPE=image/jpeg:https://visitpikeville.com/wp-content/uploads/2025/06/farmers-market.jpg
END:VEVENT
BEGIN:VEVENT
DTSTART;TZID=America/Kentucky/Louisville:20250712T090000
DTEND;TZID=America/Kentucky/Louisville:20250712T130000
DTSTAMP:20260423T154016
CREATED:20250702T185831Z
LAST-MODIFIED:20250702T185831Z
UID:65478-1752310800-1752325200@visitpikeville.com
SUMMARY:Pikeville Farmers Market
DESCRIPTION:The market is now open on both Saturdays 9:00am – 1:00pm and Tuesdays 4:30 -7:00pm. Come out and get fresh local produce\, plants\, delicious baked goods\, fresh strawberries\, and more!
URL:https://visitpikeville.com/event/pikeville-farmers-market-6-2-2-2-2-2-2-2-2-2-2-2-2-2/
LOCATION:Pikeville Farmer’s Market\, 130 Adams Lane\, Pikeville\, Ky
CATEGORIES:Pikeville Farmers Market
ATTACH;FMTTYPE=image/jpeg:https://visitpikeville.com/wp-content/uploads/2025/06/farmers-market.jpg
END:VEVENT
BEGIN:VEVENT
DTSTART;TZID=America/Kentucky/Louisville:20250708T163000
DTEND;TZID=America/Kentucky/Louisville:20250708T190000
DTSTAMP:20260423T154016
CREATED:20250702T185744Z
LAST-MODIFIED:20250702T185744Z
UID:65476-1751992200-1752001200@visitpikeville.com
SUMMARY:Pikeville Farmers Market
DESCRIPTION:The market is now open on both Saturdays 9:00am – 1:00pm and Tuesdays 4:30 -7:00pm. Come out and get fresh local produce\, plants\, delicious baked goods\, fresh strawberries\, and more!
URL:https://visitpikeville.com/event/pikeville-farmers-market-6-2-2-2-2-2-2-2-2-2-2-2-2/
LOCATION:Pikeville Farmer’s Market\, 130 Adams Lane\, Pikeville\, Ky
CATEGORIES:Pikeville Farmers Market
ATTACH;FMTTYPE=image/jpeg:https://visitpikeville.com/wp-content/uploads/2025/06/farmers-market.jpg
END:VEVENT
BEGIN:VEVENT
DTSTART;TZID=America/Kentucky/Louisville:20250705T090000
DTEND;TZID=America/Kentucky/Louisville:20250705T130000
DTSTAMP:20260423T154016
CREATED:20250702T185706Z
LAST-MODIFIED:20250702T185706Z
UID:65474-1751706000-1751720400@visitpikeville.com
SUMMARY:Pikeville Farmers Market
DESCRIPTION:The market is now open on both Saturdays 9:00am – 1:00pm and Tuesdays 4:30 -7:00pm. Come out and get fresh local produce\, plants\, delicious baked goods\, fresh strawberries\, and more!
URL:https://visitpikeville.com/event/pikeville-farmers-market-6-2-2-2-2-2-2-2-2-2-2-2/
LOCATION:Pikeville Farmer’s Market\, 130 Adams Lane\, Pikeville\, Ky
CATEGORIES:Pikeville Farmers Market
ATTACH;FMTTYPE=image/jpeg:https://visitpikeville.com/wp-content/uploads/2025/06/farmers-market.jpg
END:VEVENT
BEGIN:VEVENT
DTSTART;TZID=America/Kentucky/Louisville:20250628T090000
DTEND;TZID=America/Kentucky/Louisville:20250628T130000
DTSTAMP:20260423T154016
CREATED:20250609T133708Z
LAST-MODIFIED:20250609T133708Z
UID:65070-1751101200-1751115600@visitpikeville.com
SUMMARY:Pikeville Farmers Market
DESCRIPTION:The market is now open on both Saturdays 9:00am – 1:00pm and Tuesdays 4:30 -7:00pm. Come out and get fresh local produce\, plants\, delicious baked goods\, fresh strawberries\, and more!
URL:https://visitpikeville.com/event/pikeville-farmers-market-6-2-2-2-2-2-2-2-2-2-2/
LOCATION:Pikeville Farmer’s Market\, 130 Adams Lane\, Pikeville\, Ky
CATEGORIES:Pikeville Farmers Market
ATTACH;FMTTYPE=image/jpeg:https://visitpikeville.com/wp-content/uploads/2025/06/farmers-market.jpg
END:VEVENT
BEGIN:VEVENT
DTSTART;TZID=America/Kentucky/Louisville:20250624T163000
DTEND;TZID=America/Kentucky/Louisville:20250624T190000
DTSTAMP:20260423T154016
CREATED:20250609T133632Z
LAST-MODIFIED:20250609T133632Z
UID:65068-1750782600-1750791600@visitpikeville.com
SUMMARY:Pikeville Farmers Market
DESCRIPTION:The market is now open on both Saturdays 9:00am – 1:00pm and Tuesdays 4:30 -7:00pm. Come out and get fresh local produce\, plants\, delicious baked goods\, fresh strawberries\, and more!
URL:https://visitpikeville.com/event/pikeville-farmers-market-6-2-2-2-2-2-2-2-2-2/
LOCATION:Pikeville Farmer’s Market\, 130 Adams Lane\, Pikeville\, Ky
CATEGORIES:Pikeville Farmers Market
ATTACH;FMTTYPE=image/jpeg:https://visitpikeville.com/wp-content/uploads/2025/06/farmers-market.jpg
END:VEVENT
BEGIN:VEVENT
DTSTART;TZID=America/Kentucky/Louisville:20250621T090000
DTEND;TZID=America/Kentucky/Louisville:20250621T130000
DTSTAMP:20260423T154016
CREATED:20250609T133549Z
LAST-MODIFIED:20250609T133549Z
UID:65066-1750496400-1750510800@visitpikeville.com
SUMMARY:Pikeville Farmers Market
DESCRIPTION:The market is now open on both Saturdays 9:00am – 1:00pm and Tuesdays 4:30 -7:00pm. Come out and get fresh local produce\, plants\, delicious baked goods\, fresh strawberries\, and more!
URL:https://visitpikeville.com/event/pikeville-farmers-market-6-2-2-2-2-2-2-2-2/
LOCATION:Pikeville Farmer’s Market\, 130 Adams Lane\, Pikeville\, Ky
CATEGORIES:Pikeville Farmers Market
ATTACH;FMTTYPE=image/jpeg:https://visitpikeville.com/wp-content/uploads/2025/06/farmers-market.jpg
END:VEVENT
BEGIN:VEVENT
DTSTART;TZID=America/Kentucky/Louisville:20250617T163000
DTEND;TZID=America/Kentucky/Louisville:20250617T190000
DTSTAMP:20260423T154016
CREATED:20250609T133510Z
LAST-MODIFIED:20250609T133510Z
UID:65064-1750177800-1750186800@visitpikeville.com
SUMMARY:Pikeville Farmers Market
DESCRIPTION:The market is now open on both Saturdays 9:00am – 1:00pm and Tuesdays 4:30 -7:00pm. Come out and get fresh local produce\, plants\, delicious baked goods\, fresh strawberries\, and more!
URL:https://visitpikeville.com/event/pikeville-farmers-market-6-2-2-2-2-2-2-2/
LOCATION:Pikeville Farmer’s Market\, 130 Adams Lane\, Pikeville\, Ky
CATEGORIES:Pikeville Farmers Market
ATTACH;FMTTYPE=image/jpeg:https://visitpikeville.com/wp-content/uploads/2025/06/farmers-market.jpg
END:VEVENT
BEGIN:VEVENT
DTSTART;TZID=America/Kentucky/Louisville:20250614T090000
DTEND;TZID=America/Kentucky/Louisville:20250614T130000
DTSTAMP:20260423T154016
CREATED:20250609T191940Z
LAST-MODIFIED:20250609T191940Z
UID:65159-1749891600-1749906000@visitpikeville.com
SUMMARY:Vaccine Pop Up Clinic
DESCRIPTION:Come out to the Farmers market this Saturday\, June 14th! Shop and get your vaccines with the UK College of Pharmacy!
URL:https://visitpikeville.com/event/vaccine-pop-up-clinic/
LOCATION:Pikeville Farmer’s Market\, 130 Adams Lane\, Pikeville\, Ky
CATEGORIES:Pikeville Farmers Market
ATTACH;FMTTYPE=image/jpeg:https://visitpikeville.com/wp-content/uploads/2025/06/vaccine.jpg
END:VEVENT
BEGIN:VEVENT
DTSTART;TZID=America/Kentucky/Louisville:20250614T090000
DTEND;TZID=America/Kentucky/Louisville:20250614T130000
DTSTAMP:20260423T154016
CREATED:20250609T133351Z
LAST-MODIFIED:20250609T133351Z
UID:65062-1749891600-1749906000@visitpikeville.com
SUMMARY:Pikeville Farmers Market
DESCRIPTION:The market is now open on both Saturdays 9:00am – 1:00pm and Tuesdays 4:30 -7:00pm. Come out and get fresh local produce\, plants\, delicious baked goods\, fresh strawberries\, and more!
URL:https://visitpikeville.com/event/pikeville-farmers-market-6-2-2-2-2-2-2/
LOCATION:Pikeville Farmer’s Market\, 130 Adams Lane\, Pikeville\, Ky
CATEGORIES:Pikeville Farmers Market
ATTACH;FMTTYPE=image/jpeg:https://visitpikeville.com/wp-content/uploads/2025/06/farmers-market.jpg
END:VEVENT
BEGIN:VEVENT
DTSTART;TZID=America/Kentucky/Louisville:20250610T163000
DTEND;TZID=America/Kentucky/Louisville:20250610T190000
DTSTAMP:20260423T154016
CREATED:20250609T133309Z
LAST-MODIFIED:20250609T133309Z
UID:65059-1749573000-1749582000@visitpikeville.com
SUMMARY:Pikeville Farmers Market
DESCRIPTION:The market is now open on both Saturdays 9:00am – 1:00pm and Tuesdays 4:30 -7:00pm. Come out and get fresh local produce\, plants\, delicious baked goods\, fresh strawberries\, and more!
URL:https://visitpikeville.com/event/pikeville-farmers-market-6-2-2-2-2-2/
LOCATION:Pikeville Farmer’s Market\, 130 Adams Lane\, Pikeville\, Ky
CATEGORIES:Pikeville Farmers Market
ATTACH;FMTTYPE=image/jpeg:https://visitpikeville.com/wp-content/uploads/2025/06/farmers-market.jpg
END:VEVENT
BEGIN:VEVENT
DTSTART;TZID=America/Kentucky/Louisville:20250531T090000
DTEND;TZID=America/Kentucky/Louisville:20250531T130000
DTSTAMP:20260423T154016
CREATED:20250428T142530Z
LAST-MODIFIED:20250428T142530Z
UID:64040-1748682000-1748696400@visitpikeville.com
SUMMARY:Pikeville Farmers Market
DESCRIPTION:The Pikeville Farmers Market is opening on Saturdays in May! 9:00am – 1:00pm at 130 Adams Lane\, Pikeville!\nWe have a variety of new vendors this year and are excited for the market season! We are located next to a park! Bring your family and shop local!
URL:https://visitpikeville.com/event/pikeville-farmers-market-6-2-2-2-2/
LOCATION:Pikeville Farmer’s Market\, 130 Adams Lane\, Pikeville\, Ky
CATEGORIES:Pikeville Farmers Market
ATTACH;FMTTYPE=image/jpeg:https://visitpikeville.com/wp-content/uploads/2025/04/farmers-market.jpg
END:VEVENT
BEGIN:VEVENT
DTSTART;TZID=America/Kentucky/Louisville:20250524T090000
DTEND;TZID=America/Kentucky/Louisville:20250524T130000
DTSTAMP:20260423T154016
CREATED:20250428T142446Z
LAST-MODIFIED:20250428T142446Z
UID:64038-1748077200-1748091600@visitpikeville.com
SUMMARY:Pikeville Farmers Market
DESCRIPTION:The Pikeville Farmers Market is opening on Saturdays in May! 9:00am – 1:00pm at 130 Adams Lane\, Pikeville!\nWe have a variety of new vendors this year and are excited for the market season! We are located next to a park! Bring your family and shop local!
URL:https://visitpikeville.com/event/pikeville-farmers-market-6-2-2-2/
LOCATION:Pikeville Farmer’s Market\, 130 Adams Lane\, Pikeville\, Ky
CATEGORIES:Pikeville Farmers Market
ATTACH;FMTTYPE=image/jpeg:https://visitpikeville.com/wp-content/uploads/2025/04/farmers-market.jpg
END:VEVENT
BEGIN:VEVENT
DTSTART;TZID=America/Kentucky/Louisville:20250517T090000
DTEND;TZID=America/Kentucky/Louisville:20250517T130000
DTSTAMP:20260423T154016
CREATED:20250428T142407Z
LAST-MODIFIED:20250428T142407Z
UID:64036-1747472400-1747486800@visitpikeville.com
SUMMARY:Pikeville Farmers Market
DESCRIPTION:The Pikeville Farmers Market is opening on Saturdays in May! 9:00am – 1:00pm at 130 Adams Lane\, Pikeville!\nWe have a variety of new vendors this year and are excited for the market season! We are located next to a park! Bring your family and shop local!
URL:https://visitpikeville.com/event/pikeville-farmers-market-6-2-2/
LOCATION:Pikeville Farmer’s Market\, 130 Adams Lane\, Pikeville\, Ky
CATEGORIES:Pikeville Farmers Market
ATTACH;FMTTYPE=image/jpeg:https://visitpikeville.com/wp-content/uploads/2025/04/farmers-market.jpg
END:VEVENT
BEGIN:VEVENT
DTSTART;TZID=America/Kentucky/Louisville:20250510T090000
DTEND;TZID=America/Kentucky/Louisville:20250510T130000
DTSTAMP:20260423T154016
CREATED:20250428T142314Z
LAST-MODIFIED:20250428T142314Z
UID:64034-1746867600-1746882000@visitpikeville.com
SUMMARY:Pikeville Farmers Market
DESCRIPTION:The Pikeville Farmers Market is opening on Saturdays in May! 9:00am – 1:00pm at 130 Adams Lane\, Pikeville!\nWe have a variety of new vendors this year and are excited for the market season! We are located next to a park! Bring your family and shop local!
URL:https://visitpikeville.com/event/pikeville-farmers-market-6-2/
LOCATION:Pikeville Farmer’s Market\, 130 Adams Lane\, Pikeville\, Ky
CATEGORIES:Pikeville Farmers Market
ATTACH;FMTTYPE=image/jpeg:https://visitpikeville.com/wp-content/uploads/2025/04/farmers-market.jpg
END:VEVENT
BEGIN:VEVENT
DTSTART;TZID=America/Kentucky/Louisville:20250503T090000
DTEND;TZID=America/Kentucky/Louisville:20250503T130000
DTSTAMP:20260423T154016
CREATED:20250428T142218Z
LAST-MODIFIED:20250428T142218Z
UID:64031-1746262800-1746277200@visitpikeville.com
SUMMARY:Pikeville Farmers Market
DESCRIPTION:The Pikeville Farmers Market is opening on Saturdays in May! 9:00am – 1:00pm at 130 Adams Lane\, Pikeville!\nWe have a variety of new vendors this year and are excited for the market season! We are located next to a park! Bring your family and shop local!
URL:https://visitpikeville.com/event/pikeville-farmers-market-6/
LOCATION:Pikeville Farmer’s Market\, 130 Adams Lane\, Pikeville\, Ky
CATEGORIES:Pikeville Farmers Market
ATTACH;FMTTYPE=image/jpeg:https://visitpikeville.com/wp-content/uploads/2025/04/farmers-market.jpg
END:VEVENT
END:VCALENDAR