BEGIN:VCALENDAR
VERSION:2.0
PRODID:-//Visit Pikeville - ECPv6.15.20//NONSGML v1.0//EN
CALSCALE:GREGORIAN
METHOD:PUBLISH
X-ORIGINAL-URL:https://visitpikeville.com
X-WR-CALDESC:Events for Visit Pikeville
REFRESH-INTERVAL;VALUE=DURATION:PT1H
X-Robots-Tag:noindex
X-PUBLISHED-TTL:PT1H
BEGIN:VTIMEZONE
TZID:America/Kentucky/Louisville
BEGIN:DAYLIGHT
TZOFFSETFROM:-0500
TZOFFSETTO:-0400
TZNAME:EDT
DTSTART:20240310T070000
END:DAYLIGHT
BEGIN:STANDARD
TZOFFSETFROM:-0400
TZOFFSETTO:-0500
TZNAME:EST
DTSTART:20241103T060000
END:STANDARD
BEGIN:DAYLIGHT
TZOFFSETFROM:-0500
TZOFFSETTO:-0400
TZNAME:EDT
DTSTART:20250309T070000
END:DAYLIGHT
BEGIN:STANDARD
TZOFFSETFROM:-0400
TZOFFSETTO:-0500
TZNAME:EST
DTSTART:20251102T060000
END:STANDARD
BEGIN:DAYLIGHT
TZOFFSETFROM:-0500
TZOFFSETTO:-0400
TZNAME:EDT
DTSTART:20260308T070000
END:DAYLIGHT
BEGIN:STANDARD
TZOFFSETFROM:-0400
TZOFFSETTO:-0500
TZNAME:EST
DTSTART:20261101T060000
END:STANDARD
END:VTIMEZONE
BEGIN:VEVENT
DTSTART;TZID=America/Kentucky/Louisville:20250812T173000
DTEND;TZID=America/Kentucky/Louisville:20250812T183000
DTSTAMP:20260424T024356
CREATED:20250717T132443Z
LAST-MODIFIED:20250717T132443Z
UID:66053-1755019800-1755023400@visitpikeville.com
SUMMARY:Flower Power: Establishing Pollinator Habitats
DESCRIPTION:Join us at the Pikeville Farmer’s Market pavillion for a special guest speaker\, Dr. Tamara Horn Potter presenting her book Flower Power: Establishing Pollinator Habitat.Ticket Price: $10– can be paid via paypal: Appalachian Roots Garden ClubOr cash the day of the event\nDr. Tamara Horn Potter is an author and apiarist. From 2008-2014\, she worked at EKU and with coal companies to get pollinator habitat established as a best management practice for reclamation. From 2014-2024\, she served as the KY Dept. of Agriculture State Apiarist\, working with the Kentucky Transportation Cabinet and Columbia Gas to get pollinator habitat established on highway rights-of-ways. She joined KY State University Land Grant Program as Beginner Beekeeper Coordinator in 2024.\nShe and her husband\, Doug\, manage honey bees at five apiaries in the Bluegrass\, and she’s served on more nonprofit beekeeping boards than anyone should have a right to. Dr. Potter currently served in Kentucky State University Land Grant Program\, and is the author of Bees in America: How the Honey Bee Shaped a Nation (UP of KY\, 2005)\, Beeconomy: What Women and Bees Teach us About Local Trade and Global Economics (UP of KY\, 2012); and Flower Power: Establishing Pollinator Habitat (Wicwas P\, 2019)
URL:https://visitpikeville.com/event/flower-power-establishing-pollinator-habitats/
LOCATION:Pikeville Farmer’s Market\, 130 Adams Lane\, Pikeville\, Ky
CATEGORIES:Pikeville Farmers Market
ATTACH;FMTTYPE=image/jpeg:https://visitpikeville.com/wp-content/uploads/2025/07/flower-power.jpg
END:VEVENT
END:VCALENDAR