BEGIN:VCALENDAR
VERSION:2.0
PRODID:-//Visit Pikeville - ECPv6.15.20//NONSGML v1.0//EN
CALSCALE:GREGORIAN
METHOD:PUBLISH
X-ORIGINAL-URL:https://visitpikeville.com
X-WR-CALDESC:Events for Visit Pikeville
REFRESH-INTERVAL;VALUE=DURATION:PT1H
X-Robots-Tag:noindex
X-PUBLISHED-TTL:PT1H
BEGIN:VTIMEZONE
TZID:America/Kentucky/Louisville
BEGIN:DAYLIGHT
TZOFFSETFROM:-0500
TZOFFSETTO:-0400
TZNAME:EDT
DTSTART:20240310T070000
END:DAYLIGHT
BEGIN:STANDARD
TZOFFSETFROM:-0400
TZOFFSETTO:-0500
TZNAME:EST
DTSTART:20241103T060000
END:STANDARD
BEGIN:DAYLIGHT
TZOFFSETFROM:-0500
TZOFFSETTO:-0400
TZNAME:EDT
DTSTART:20250309T070000
END:DAYLIGHT
BEGIN:STANDARD
TZOFFSETFROM:-0400
TZOFFSETTO:-0500
TZNAME:EST
DTSTART:20251102T060000
END:STANDARD
BEGIN:DAYLIGHT
TZOFFSETFROM:-0500
TZOFFSETTO:-0400
TZNAME:EDT
DTSTART:20260308T070000
END:DAYLIGHT
BEGIN:STANDARD
TZOFFSETFROM:-0400
TZOFFSETTO:-0500
TZNAME:EST
DTSTART:20261101T060000
END:STANDARD
END:VTIMEZONE
BEGIN:VEVENT
DTSTART;TZID=America/Kentucky/Louisville:20251101T090000
DTEND;TZID=America/Kentucky/Louisville:20251101T130000
DTSTAMP:20260423T201310
CREATED:20251006T125517Z
LAST-MODIFIED:20251006T125517Z
UID:69312-1761987600-1762002000@visitpikeville.com
SUMMARY:Pikeville Farmers Market
DESCRIPTION:Farmers Market season is starting to wind down! Make sure you come check it out before it’s too late 
URL:https://visitpikeville.com/event/pikeville-farmers-market-7-2-2-2-2-2-2-2-2/
LOCATION:Pikeville Farmer’s Market\, 130 Adams Lane\, Pikeville\, Ky
CATEGORIES:Pikeville Farmers Market
ATTACH;FMTTYPE=image/jpeg:https://visitpikeville.com/wp-content/uploads/2025/10/farmers-market.jpg
END:VEVENT
BEGIN:VEVENT
DTSTART;TZID=America/Kentucky/Louisville:20251108T090000
DTEND;TZID=America/Kentucky/Louisville:20251108T130000
DTSTAMP:20260423T201310
CREATED:20251006T125606Z
LAST-MODIFIED:20251006T125606Z
UID:69314-1762592400-1762606800@visitpikeville.com
SUMMARY:Pikeville Farmers Market
DESCRIPTION:Farmers Market season is starting to wind down! Make sure you come check it out before it’s too late 
URL:https://visitpikeville.com/event/pikeville-farmers-market-7-2-2-2-2-2-2-2-2-2/
LOCATION:Pikeville Farmer’s Market\, 130 Adams Lane\, Pikeville\, Ky
CATEGORIES:Pikeville Farmers Market
ATTACH;FMTTYPE=image/jpeg:https://visitpikeville.com/wp-content/uploads/2025/10/farmers-market.jpg
END:VEVENT
BEGIN:VEVENT
DTSTART;TZID=America/Kentucky/Louisville:20251115T090000
DTEND;TZID=America/Kentucky/Louisville:20251115T130000
DTSTAMP:20260423T201310
CREATED:20251006T125648Z
LAST-MODIFIED:20251006T125648Z
UID:69316-1763197200-1763211600@visitpikeville.com
SUMMARY:Pikeville Farmers Market
DESCRIPTION:Farmers Market season is starting to wind down! Make sure you come check it out before it’s too late 
URL:https://visitpikeville.com/event/pikeville-farmers-market-7-2-2-2-2-2-2-2-2-2-2/
LOCATION:Pikeville Farmer’s Market\, 130 Adams Lane\, Pikeville\, Ky
CATEGORIES:Pikeville Farmers Market
ATTACH;FMTTYPE=image/jpeg:https://visitpikeville.com/wp-content/uploads/2025/10/farmers-market.jpg
END:VEVENT
BEGIN:VEVENT
DTSTART;TZID=America/Kentucky/Louisville:20251122T090000
DTEND;TZID=America/Kentucky/Louisville:20251122T130000
DTSTAMP:20260423T201310
CREATED:20251006T125804Z
LAST-MODIFIED:20251006T125804Z
UID:69319-1763802000-1763816400@visitpikeville.com
SUMMARY:Pikeville Farmers Market
DESCRIPTION:Farmers Market season is starting to wind down! Make sure you come check it out before it’s too late 
URL:https://visitpikeville.com/event/pikeville-farmers-market-7-2-2-2-2-2-2-2-2-2-2-2/
LOCATION:Pikeville Farmer’s Market\, 130 Adams Lane\, Pikeville\, Ky
CATEGORIES:Pikeville Farmers Market
ATTACH;FMTTYPE=image/jpeg:https://visitpikeville.com/wp-content/uploads/2025/10/farmers-market.jpg
END:VEVENT
BEGIN:VEVENT
DTSTART;TZID=America/Kentucky/Louisville:20251122T090000
DTEND;TZID=America/Kentucky/Louisville:20251122T130000
DTSTAMP:20260423T201310
CREATED:20251117T194054Z
LAST-MODIFIED:20251117T194054Z
UID:71409-1763802000-1763816400@visitpikeville.com
SUMMARY:Santa at The Market
DESCRIPTION:On November 22nd\, Santa will be coming to town (or rather the farmer’s market)! This is also the last regularly scheduled market day for the 2025 season. Come out and stock up on your favorites and take FREE pictures with Santa! There will also be a free ornament decorating station.
URL:https://visitpikeville.com/event/santa-at-the-market/
LOCATION:Pikeville Farmer’s Market\, 130 Adams Lane\, Pikeville\, Ky
CATEGORIES:Pikeville Farmers Market
ATTACH;FMTTYPE=image/jpeg:https://visitpikeville.com/wp-content/uploads/2025/11/santa-at-the-market.jpg
END:VEVENT
BEGIN:VEVENT
DTSTART;TZID=America/Kentucky/Louisville:20251129T090000
DTEND;TZID=America/Kentucky/Louisville:20251129T130000
DTSTAMP:20260423T201310
CREATED:20251006T125909Z
LAST-MODIFIED:20251006T125909Z
UID:69318-1764406800-1764421200@visitpikeville.com
SUMMARY:Pikeville Farmers Market
DESCRIPTION:Farmers Market season is starting to wind down! Make sure you come check it out before it’s too late 
URL:https://visitpikeville.com/event/pikeville-farmers-market-7-2-2-2-2-2-2-2-2-2-2-3/
LOCATION:Pikeville Farmer’s Market\, 130 Adams Lane\, Pikeville\, Ky
CATEGORIES:Pikeville Farmers Market
ATTACH;FMTTYPE=image/jpeg:https://visitpikeville.com/wp-content/uploads/2025/10/farmers-market.jpg
END:VEVENT
END:VCALENDAR