BEGIN:VCALENDAR
VERSION:2.0
PRODID:-//Visit Pikeville - ECPv6.15.20//NONSGML v1.0//EN
CALSCALE:GREGORIAN
METHOD:PUBLISH
X-WR-CALNAME:Visit Pikeville
X-ORIGINAL-URL:https://visitpikeville.com
X-WR-CALDESC:Events for Visit Pikeville
REFRESH-INTERVAL;VALUE=DURATION:PT1H
X-Robots-Tag:noindex
X-PUBLISHED-TTL:PT1H
BEGIN:VTIMEZONE
TZID:America/Kentucky/Louisville
BEGIN:DAYLIGHT
TZOFFSETFROM:-0500
TZOFFSETTO:-0400
TZNAME:EDT
DTSTART:20250309T070000
END:DAYLIGHT
BEGIN:STANDARD
TZOFFSETFROM:-0400
TZOFFSETTO:-0500
TZNAME:EST
DTSTART:20251102T060000
END:STANDARD
BEGIN:DAYLIGHT
TZOFFSETFROM:-0500
TZOFFSETTO:-0400
TZNAME:EDT
DTSTART:20260308T070000
END:DAYLIGHT
BEGIN:STANDARD
TZOFFSETFROM:-0400
TZOFFSETTO:-0500
TZNAME:EST
DTSTART:20261101T060000
END:STANDARD
BEGIN:DAYLIGHT
TZOFFSETFROM:-0500
TZOFFSETTO:-0400
TZNAME:EDT
DTSTART:20270314T070000
END:DAYLIGHT
BEGIN:STANDARD
TZOFFSETFROM:-0400
TZOFFSETTO:-0500
TZNAME:EST
DTSTART:20271107T060000
END:STANDARD
END:VTIMEZONE
BEGIN:VEVENT
DTSTART;TZID=America/Kentucky/Louisville:20260430T160000
DTEND;TZID=America/Kentucky/Louisville:20260430T170000
DTSTAMP:20260421T131410
CREATED:20260406T191750Z
LAST-MODIFIED:20260406T191750Z
UID:73942-1777564800-1777568400@visitpikeville.com
SUMMARY:Teen Guitar Class 3
DESCRIPTION:Beginner guitar lessons for patrons ages 13-17. This class meets weekly on Thursdays at 4:00. Please bring your own instrument. Registration required.
URL:https://visitpikeville.com/event/teen-guitar-class-3-3-2-2-2/
LOCATION:Pike County Public Library\, 126 Lee Avenue\, Pikeville\, KY\, 41501\, United States
CATEGORIES:Pike County Public Library
ATTACH;FMTTYPE=image/png:https://visitpikeville.com/wp-content/uploads/2025/07/GuitarEmblem.png
END:VEVENT
BEGIN:VEVENT
DTSTART;TZID=America/Kentucky/Louisville:20260430T170000
DTEND;TZID=America/Kentucky/Louisville:20260430T180000
DTSTAMP:20260421T131410
CREATED:20260330T143319Z
LAST-MODIFIED:20260330T143319Z
UID:73826-1777568400-1777572000@visitpikeville.com
SUMMARY:Scam Smart
DESCRIPTION:Learn how to recognize and protect yourself from scams\, from phishing emails and romance scams to AI deepfakes.\nThis program is for everyone\, with tips especially useful for seniors. Join us to get practical advice\, hear real-life experiences\, and leave feeling informed and prepared\, without fear.
URL:https://visitpikeville.com/event/scam-smart/
LOCATION:Pike County Public Library\, 126 Lee Avenue\, Pikeville\, KY\, 41501\, United States
CATEGORIES:Pike County Public Library
ATTACH;FMTTYPE=image/jpeg:https://visitpikeville.com/wp-content/uploads/2026/03/scam.jpg
END:VEVENT
BEGIN:VEVENT
DTSTART;TZID=America/Kentucky/Louisville:20260430T170000
DTEND;TZID=America/Kentucky/Louisville:20260430T180000
DTSTAMP:20260421T131410
CREATED:20260413T164755Z
LAST-MODIFIED:20260413T164755Z
UID:74020-1777568400-1777572000@visitpikeville.com
SUMMARY:Music Theory Lecture
DESCRIPTION:Understanding how music works will give you the tools you need to write riffs\, songs\, and solos\, and learn to improvise in a friendly hands-on environment.
URL:https://visitpikeville.com/event/music-theory-lecture-2-2-2-2-2-2-2-2-2-2-2-2-2/
LOCATION:Pike County Public Library\, 126 Lee Avenue\, Pikeville\, KY\, 41501\, United States
CATEGORIES:Pike County Public Library
ATTACH;FMTTYPE=image/png:https://visitpikeville.com/wp-content/uploads/2026/01/music.png
END:VEVENT
BEGIN:VEVENT
DTSTART;TZID=America/Kentucky/Louisville:20260430T170000
DTEND;TZID=America/Kentucky/Louisville:20260430T180000
DTSTAMP:20260421T131410
CREATED:20260413T173457Z
LAST-MODIFIED:20260413T173457Z
UID:74080-1777568400-1777572000@visitpikeville.com
SUMMARY:Scam Smart
DESCRIPTION:Learn how to recognize and protect yourself from scams\, from phishing emails and romance scams to AI deepfakes.\nThis program is for everyone\, with tips especially useful for seniors. Join us to get practical advice\, hear real-life experiences\, and leave feeling informed and prepared\, without fear.
URL:https://visitpikeville.com/event/scam-smart-2/
LOCATION:Pike County Public Library\, 126 Lee Avenue\, Pikeville\, KY\, 41501\, United States
CATEGORIES:Pike County Public Library
ATTACH;FMTTYPE=image/jpeg:https://visitpikeville.com/wp-content/uploads/2026/04/scam-smart.jpg
END:VEVENT
END:VCALENDAR