BEGIN:VCALENDAR
VERSION:2.0
PRODID:-//Visit Pikeville - ECPv6.15.20//NONSGML v1.0//EN
CALSCALE:GREGORIAN
METHOD:PUBLISH
X-ORIGINAL-URL:https://visitpikeville.com
X-WR-CALDESC:Events for Visit Pikeville
REFRESH-INTERVAL;VALUE=DURATION:PT1H
X-Robots-Tag:noindex
X-PUBLISHED-TTL:PT1H
BEGIN:VTIMEZONE
TZID:America/Kentucky/Louisville
BEGIN:DAYLIGHT
TZOFFSETFROM:-0500
TZOFFSETTO:-0400
TZNAME:EDT
DTSTART:20250309T070000
END:DAYLIGHT
BEGIN:STANDARD
TZOFFSETFROM:-0400
TZOFFSETTO:-0500
TZNAME:EST
DTSTART:20251102T060000
END:STANDARD
BEGIN:DAYLIGHT
TZOFFSETFROM:-0500
TZOFFSETTO:-0400
TZNAME:EDT
DTSTART:20260308T070000
END:DAYLIGHT
BEGIN:STANDARD
TZOFFSETFROM:-0400
TZOFFSETTO:-0500
TZNAME:EST
DTSTART:20261101T060000
END:STANDARD
BEGIN:DAYLIGHT
TZOFFSETFROM:-0500
TZOFFSETTO:-0400
TZNAME:EDT
DTSTART:20270314T070000
END:DAYLIGHT
BEGIN:STANDARD
TZOFFSETFROM:-0400
TZOFFSETTO:-0500
TZNAME:EST
DTSTART:20271107T060000
END:STANDARD
END:VTIMEZONE
BEGIN:VEVENT
DTSTART;TZID=America/Kentucky/Louisville:20260422T140000
DTEND;TZID=America/Kentucky/Louisville:20260422T150000
DTSTAMP:20260421T192057
CREATED:20260406T190358Z
LAST-MODIFIED:20260406T190358Z
UID:73924-1776866400-1776870000@visitpikeville.com
SUMMARY:Adult Guitar Class 2
DESCRIPTION:Beginner guitar lessons for patrons ages 18+. This class meets weekly on Wednesdays at 2:00. Please bring your own instrument. Registration required. \n\n\n\n\n\n\n  \nCall the library at 606-437-6001 to check availability.
URL:https://visitpikeville.com/event/adult-guitar-class-4-2-2-2-2-2-2-2-2-2-2-2-2-2-2-2-2-2-2-2-2-2-2-2-2-2-2-2-2-2-2-2-3-2-2-2-2-2-2-2-2-2-2-2-2/
LOCATION:Pike County Public Library\, 126 Lee Avenue\, Pikeville\, KY\, 41501\, United States
CATEGORIES:Pike County Public Library
ATTACH;FMTTYPE=image/png:https://visitpikeville.com/wp-content/uploads/2025/05/theory.png
END:VEVENT
BEGIN:VEVENT
DTSTART;TZID=America/Kentucky/Louisville:20260422T163000
DTEND;TZID=America/Kentucky/Louisville:20260422T173000
DTSTAMP:20260421T192057
CREATED:20260406T190805Z
LAST-MODIFIED:20260406T190805Z
UID:73932-1776875400-1776879000@visitpikeville.com
SUMMARY:Teen Guitar Class 1
DESCRIPTION:Beginner guitar lessons for patrons ages 13-17. This class meets weekly on Wednesdays at 4:30. Please bring your own instrument. Registration required.
URL:https://visitpikeville.com/event/teen-guitar-class-1-2-2-2-2-2-2-2-2-2-2-2-2/
LOCATION:Pike County Public Library\, 126 Lee Avenue\, Pikeville\, KY\, 41501\, United States
CATEGORIES:Pike County Public Library
ATTACH;FMTTYPE=image/png:https://visitpikeville.com/wp-content/uploads/2026/01/music.png
END:VEVENT
BEGIN:VEVENT
DTSTART;TZID=America/Kentucky/Louisville:20260423T110000
DTEND;TZID=America/Kentucky/Louisville:20260423T120000
DTSTAMP:20260421T192057
CREATED:20260413T165418Z
LAST-MODIFIED:20260413T165418Z
UID:74030-1776942000-1776945600@visitpikeville.com
SUMMARY:Story Time
DESCRIPTION:Story Time is for children ages 5 and under and features books\, action/movement\, songs\, and a craft. Story Time is held Thursdays at 11:00 and 2:00 and Saturdays at 11:00. \n\n\n\n\n\n\n  \nBesides being fun\, Story Time also helps develop early literacy and school readiness skills through reading\, singing\, listening\, playing\, and social interaction. This program lasts approximately 30 minutes\, and caregivers and children are encouraged to linger in the library afterwards to further socialize and choose books to take home. \n  \nStory Time begins the first week of September and ends the first week of May.
URL:https://visitpikeville.com/event/story-time-2-2-2-2-2-2-2-2-2-2-2-2-2-2-2-2-2-2-2-2-2-2-2-2-2-2-2-2-2-2-2-2-2-2-2-2-2-2-2-2-2-2-2-2-2-2-2-2-2-2-2-2-2-2-2-3-2-2-2-2-2-2-2-2-2-2-2-2-2-2-2-2-2-2-2-2-2-2-2-2-2-2-2-2-2-2-2-2-2-2-2-2-2-62/
LOCATION:Pike County Public Library\, 126 Lee Avenue\, Pikeville\, KY\, 41501\, United States
CATEGORIES:Pike County Public Library
ATTACH;FMTTYPE=image/png:https://visitpikeville.com/wp-content/uploads/2025/10/Story_Time_Schedule_25.png
END:VEVENT
BEGIN:VEVENT
DTSTART;TZID=America/Kentucky/Louisville:20260423T140000
DTEND;TZID=America/Kentucky/Louisville:20260423T150000
DTSTAMP:20260421T192057
CREATED:20260413T165926Z
LAST-MODIFIED:20260413T165926Z
UID:74032-1776952800-1776956400@visitpikeville.com
SUMMARY:Story Time
DESCRIPTION:Story Time is for children ages 5 and under and features books\, action/movement\, songs\, and a craft. Story Time is held Thursdays at 11:00 and 2:00 and Saturdays at 11:00. \n\n\n\n\n\n\n  \nBesides being fun\, Story Time also helps develop early literacy and school readiness skills through reading\, singing\, listening\, playing\, and social interaction. This program lasts approximately 30 minutes\, and caregivers and children are encouraged to linger in the library afterwards to further socialize and choose books to take home. \n  \nStory Time begins the first week of September and ends the first week of May.
URL:https://visitpikeville.com/event/story-time-2-2-2-2-2-2-2-2-2-2-2-2-2-2-2-2-2-2-2-2-2-2-2-2-2-2-2-2-2-2-2-2-2-2-2-2-2-2-2-2-2-2-2-2-2-2-2-2-2-2-2-2-2-2-2-3-2-2-2-2-2-2-2-2-2-2-2-2-2-2-2-2-2-2-2-2-2-2-2-2-2-2-2-2-2-2-2-2-2-2-2-2-2-63/
LOCATION:Pike County Public Library\, 126 Lee Avenue\, Pikeville\, KY\, 41501\, United States
CATEGORIES:Pike County Public Library
ATTACH;FMTTYPE=image/png:https://visitpikeville.com/wp-content/uploads/2025/10/Story_Time_Schedule_25.png
END:VEVENT
BEGIN:VEVENT
DTSTART;TZID=America/Kentucky/Louisville:20260423T150000
DTEND;TZID=America/Kentucky/Louisville:20260423T160000
DTSTAMP:20260421T192057
CREATED:20260413T163151Z
LAST-MODIFIED:20260413T163151Z
UID:74012-1776956400-1776960000@visitpikeville.com
SUMMARY:Teen Guitar Class 2
DESCRIPTION:Beginner guitar lessons for patrons ages 13-17. This class meets weekly on Thursdays at 3:00. Please bring your own instrument. Registration required.
URL:https://visitpikeville.com/event/teen-guitar-class-2-3-2-2-2-2-2-2-2-2-2-2-2/
LOCATION:Pike County Public Library\, 126 Lee Avenue\, Pikeville\, KY\, 41501\, United States
CATEGORIES:Pike County Public Library
ATTACH;FMTTYPE=image/png:https://visitpikeville.com/wp-content/uploads/2026/01/music.png
END:VEVENT
BEGIN:VEVENT
DTSTART;TZID=America/Kentucky/Louisville:20260423T160000
DTEND;TZID=America/Kentucky/Louisville:20260423T170000
DTSTAMP:20260421T192057
CREATED:20260406T191717Z
LAST-MODIFIED:20260406T191717Z
UID:73940-1776960000-1776963600@visitpikeville.com
SUMMARY:Teen Guitar Class 3
DESCRIPTION:Beginner guitar lessons for patrons ages 13-17. This class meets weekly on Thursdays at 4:00. Please bring your own instrument. Registration required.
URL:https://visitpikeville.com/event/teen-guitar-class-3-3-2-2/
LOCATION:Pike County Public Library\, 126 Lee Avenue\, Pikeville\, KY\, 41501\, United States
CATEGORIES:Pike County Public Library
ATTACH;FMTTYPE=image/png:https://visitpikeville.com/wp-content/uploads/2025/07/GuitarEmblem.png
END:VEVENT
BEGIN:VEVENT
DTSTART;TZID=America/Kentucky/Louisville:20260423T170000
DTEND;TZID=America/Kentucky/Louisville:20260423T180000
DTSTAMP:20260421T192057
CREATED:20260413T164724Z
LAST-MODIFIED:20260413T164724Z
UID:74018-1776963600-1776967200@visitpikeville.com
SUMMARY:Music Theory Lecture
DESCRIPTION:Understanding how music works will give you the tools you need to write riffs\, songs\, and solos\, and learn to improvise in a friendly hands-on environment.
URL:https://visitpikeville.com/event/music-theory-lecture-2-2-2-2-2-2-2-2-2-2-2-2/
LOCATION:Pike County Public Library\, 126 Lee Avenue\, Pikeville\, KY\, 41501\, United States
CATEGORIES:Pike County Public Library
ATTACH;FMTTYPE=image/png:https://visitpikeville.com/wp-content/uploads/2026/01/music.png
END:VEVENT
BEGIN:VEVENT
DTSTART;TZID=America/Kentucky/Louisville:20260423T170000
DTEND;TZID=America/Kentucky/Louisville:20260423T180000
DTSTAMP:20260421T192057
CREATED:20260413T171541Z
LAST-MODIFIED:20260413T171541Z
UID:74053-1776963600-1776967200@visitpikeville.com
SUMMARY:Shaolin Breathing and Meditation for Stress Management class
DESCRIPTION:Take a pause\, breathe deeply\, and reset your mind. Join us on April 23rd at 5:00 PM for a guided Shaolin Breathing and Meditation for Stress Management class designed to help you unwind and reconnect. \n\n\n\n\n\n\n  \nOur instructor will lead participants through gentle Shaolin breathing exercises\, calming visualization techniques\, and basic meditation practices focused on reducing stress and promoting relaxation. This session is beginner-friendly and perfect for anyone looking to learn simple tools they can use in everyday life. \nPlease bring a pillow\, cushion\, or anything comfortable to sit on. Meditation pillows are welcome\, but not required—use whatever helps you feel supported and at ease. \nCome as you are\, breathe\, and leave feeling grounded and refreshed. No registration required.
URL:https://visitpikeville.com/event/shaolin-breathing-and-meditation-for-stress-management-class-2/
LOCATION:Pike County Public Library\, 126 Lee Avenue\, Pikeville\, KY\, 41501\, United States
CATEGORIES:Pike County Public Library
ATTACH;FMTTYPE=image/jpeg:https://visitpikeville.com/wp-content/uploads/2026/04/shaolin.jpg
END:VEVENT
BEGIN:VEVENT
DTSTART;TZID=America/Kentucky/Louisville:20260423T170000
DTEND;TZID=America/Kentucky/Louisville:20260423T184500
DTSTAMP:20260421T192057
CREATED:20260413T171727Z
LAST-MODIFIED:20260413T171727Z
UID:74056-1776963600-1776969900@visitpikeville.com
SUMMARY:Dungeons and Dragons
DESCRIPTION:Dungeons and Dragons Group meets every other Thursday at 5:00 at the Pike County Public Library (Lee Avenue). Beginners and experienced players alike are welcome. \n\n\n\n\n\n\n  \nDungeons and Dragons is a role playing game (RPG) where a single player plays as the Dungeon Master\, creating a world that the players interact with. Players act as a group of adventurers working together to complete quests\, slay monsters\, and achieve their own personal goals. The game uses a series of dice to help simulate how successful characters and monsters are at achieving their various goals.
URL:https://visitpikeville.com/event/dungeons-and-dragons-7-2-2-2-2-2-2-2-2-2-2-2-2-2-2-2-2-2-2/
LOCATION:Pike County Public Library\, 126 Lee Avenue\, Pikeville\, KY\, 41501\, United States
CATEGORIES:Pike County Public Library
ATTACH;FMTTYPE=image/png:https://visitpikeville.com/wp-content/uploads/2025/06/D_D_Group.png
END:VEVENT
BEGIN:VEVENT
DTSTART;TZID=America/Kentucky/Louisville:20260424T163000
DTEND;TZID=America/Kentucky/Louisville:20260424T173000
DTSTAMP:20260421T192057
CREATED:20260330T143631Z
LAST-MODIFIED:20260330T143631Z
UID:73829-1777048200-1777051800@visitpikeville.com
SUMMARY:Watercolor Painting Class
DESCRIPTION:Kids can explore colors and techniques in this fun watercolor painting class! April 24 at 4:30 PM at Pike County Public Library.
URL:https://visitpikeville.com/event/watercolor-painting-class/
LOCATION:Pike County Public Library\, 126 Lee Avenue\, Pikeville\, KY\, 41501\, United States
CATEGORIES:Pike County Public Library
ATTACH;FMTTYPE=image/jpeg:https://visitpikeville.com/wp-content/uploads/2026/03/WATERCOLOR.jpg
END:VEVENT
BEGIN:VEVENT
DTSTART;TZID=America/Kentucky/Louisville:20260424T163000
DTEND;TZID=America/Kentucky/Louisville:20260424T173000
DTSTAMP:20260421T192057
CREATED:20260413T173058Z
LAST-MODIFIED:20260413T173058Z
UID:74074-1777048200-1777051800@visitpikeville.com
SUMMARY:Watercolor Painting Class
DESCRIPTION:Kids can explore colors and techniques in this fun watercolor painting class! April 24 at 4:30 PM at Pike County Public Library.
URL:https://visitpikeville.com/event/watercolor-painting-class-2/
LOCATION:Pike County Public Library\, 126 Lee Avenue\, Pikeville\, KY\, 41501\, United States
CATEGORIES:Pike County Public Library
ATTACH;FMTTYPE=image/jpeg:https://visitpikeville.com/wp-content/uploads/2026/04/WATERCOLOR.jpg
END:VEVENT
BEGIN:VEVENT
DTSTART;TZID=America/Kentucky/Louisville:20260425T110000
DTEND;TZID=America/Kentucky/Louisville:20260425T120000
DTSTAMP:20260421T192057
CREATED:20260413T170015Z
LAST-MODIFIED:20260413T170015Z
UID:74034-1777114800-1777118400@visitpikeville.com
SUMMARY:Story Time
DESCRIPTION:Story Time is for children ages 5 and under and features books\, action/movement\, songs\, and a craft. Story Time is held Thursdays at 11:00 and 2:00 and Saturdays at 11:00. \n\n\n\n\n\n\n  \nBesides being fun\, Story Time also helps develop early literacy and school readiness skills through reading\, singing\, listening\, playing\, and social interaction. This program lasts approximately 30 minutes\, and caregivers and children are encouraged to linger in the library afterwards to further socialize and choose books to take home. \n  \nStory Time begins the first week of September and ends the first week of May.
URL:https://visitpikeville.com/event/story-time-2-2-2-2-2-2-2-2-2-2-2-2-2-2-2-2-2-2-2-2-2-2-2-2-2-2-2-2-2-2-2-2-2-2-2-2-2-2-2-2-2-2-2-2-2-2-2-2-2-2-2-2-2-2-2-3-2-2-2-2-2-2-2-2-2-2-2-2-2-2-2-2-2-2-2-2-2-2-2-2-2-2-2-2-2-2-2-2-2-2-2-2-2-64/
LOCATION:Pike County Public Library\, 126 Lee Avenue\, Pikeville\, KY\, 41501\, United States
CATEGORIES:Pike County Public Library
ATTACH;FMTTYPE=image/png:https://visitpikeville.com/wp-content/uploads/2025/10/Story_Time_Schedule_25.png
END:VEVENT
BEGIN:VEVENT
DTSTART;TZID=America/Kentucky/Louisville:20260425T110000
DTEND;TZID=America/Kentucky/Louisville:20260425T130000
DTSTAMP:20260421T192057
CREATED:20260413T171815Z
LAST-MODIFIED:20260413T171815Z
UID:74058-1777114800-1777122000@visitpikeville.com
SUMMARY:Quilters Group
DESCRIPTION:Pike County Public Library Quilters Group is a quilting social that also teaches quilting and needlework. Participants exchange patterns\, quilting ideas\, and sewing projects. \n\n\n\n\n\n\n  \nBoth beginners and experienced quilters are welcome! Quilters Group meets alternating Saturdays at noon at the Pike County Public (Lee Avenue) Library. \nNo registration required.
URL:https://visitpikeville.com/event/quilters-group-5-2-2-2-2-2-2-2-2-2-2-2-2-2-2-2-2-2-2-2-2/
LOCATION:Pike County Public Library\, 126 Lee Avenue\, Pikeville\, KY\, 41501\, United States
CATEGORIES:Pike County Public Library
ATTACH;FMTTYPE=image/png:https://visitpikeville.com/wp-content/uploads/2025/05/Quilters_GroupEDIT.png
END:VEVENT
BEGIN:VEVENT
DTSTART;TZID=America/Kentucky/Louisville:20260427T140000
DTEND;TZID=America/Kentucky/Louisville:20260427T150000
DTSTAMP:20260421T192057
CREATED:20260406T182848Z
LAST-MODIFIED:20260406T182848Z
UID:73912-1777298400-1777302000@visitpikeville.com
SUMMARY:Music Theory Class
DESCRIPTION:Understanding how music works will give you the tools you need to write riffs\, songs\, and solos\, and learn to improvise in a friendly hands-on environment. \n\n\n\n\n\n\n  \nClass is held every Monday at the Pike County Public Library (Lee Ave) at 2:00. \nNo previous knowledge of music theory or reading music is necessary\, but this class is for students who already know how to play a little bit.
URL:https://visitpikeville.com/event/music-theory-class-2-2-2-2-2-2-2-2-2-2-2/
LOCATION:Pike County Public Library\, 126 Lee Avenue\, Pikeville\, KY\, 41501\, United States
CATEGORIES:Pike County Public Library
ATTACH;FMTTYPE=image/png:https://visitpikeville.com/wp-content/uploads/2026/01/music.png
END:VEVENT
BEGIN:VEVENT
DTSTART;TZID=America/Kentucky/Louisville:20260427T160000
DTEND;TZID=America/Kentucky/Louisville:20260427T170000
DTSTAMP:20260421T192057
CREATED:20260413T170732Z
LAST-MODIFIED:20260413T170732Z
UID:74046-1777305600-1777309200@visitpikeville.com
SUMMARY:Teen Time
DESCRIPTION:Teens ages 13-17 are invited to hang out\, get creative\, and have fun at Teen Time\, meeting alternating Mondays at 4:00. \n\n\n\n\n\n\n  \nJoin us in the Teen Room for a mix of crafts\, games\, video game tournaments\, snacks\, and more. It’s a great chance to relax\, meet new friends\, and try something new each week. No registration needed.
URL:https://visitpikeville.com/event/teen-time-4-2-2-2-2-2-2-2-2/
LOCATION:Pike County Public Library\, 126 Lee Avenue\, Pikeville\, KY\, 41501\, United States
CATEGORIES:Pike County Public Library
ATTACH;FMTTYPE=image/png:https://visitpikeville.com/wp-content/uploads/2026/01/Teen_Time_updated.png
END:VEVENT
BEGIN:VEVENT
DTSTART;TZID=America/Kentucky/Louisville:20260427T163000
DTEND;TZID=America/Kentucky/Louisville:20260427T173000
DTSTAMP:20260421T192057
CREATED:20260406T185554Z
LAST-MODIFIED:20260406T185554Z
UID:73918-1777307400-1777311000@visitpikeville.com
SUMMARY:Adult Guitar Class 1
DESCRIPTION:Beginner guitar lessons for patrons ages 18+. This class meets weekly on Mondays at 4:30. Please bring your own instrument.
URL:https://visitpikeville.com/event/adult-guitar-class-4-2-2-2-2-2-2-2-2-2-2-2-2-2-3-3-2-2-2-2-2-2-2-2-2-2-2-2-2-2-2-2-2-2-2-2-2-2-2/
LOCATION:Pike County Public Library\, 126 Lee Avenue\, Pikeville\, KY\, 41501\, United States
CATEGORIES:Pike County Public Library
ATTACH;FMTTYPE=image/png:https://visitpikeville.com/wp-content/uploads/2025/05/theory.png
END:VEVENT
BEGIN:VEVENT
DTSTART;TZID=America/Kentucky/Louisville:20260427T170000
DTEND;TZID=America/Kentucky/Louisville:20260427T180000
DTSTAMP:20260421T192057
CREATED:20260413T171911Z
LAST-MODIFIED:20260413T171911Z
UID:74060-1777309200-1777312800@visitpikeville.com
SUMMARY:Alibis at The Book Club
DESCRIPTION:Alibis at The Book Club meets every other Monday at the Pike County Public Library (Lee Avenue). Join us for mystery\, thrills\, and lively discussion!
URL:https://visitpikeville.com/event/alibis-at-the-book-club-3-2-2-2-2-2-2/
LOCATION:Pike County Public Library\, 126 Lee Avenue\, Pikeville\, KY\, 41501\, United States
CATEGORIES:Pike County Public Library
ATTACH;FMTTYPE=image/png:https://visitpikeville.com/wp-content/uploads/2025/12/Alibis_at_The_Book_Club.png
END:VEVENT
BEGIN:VEVENT
DTSTART;TZID=America/Kentucky/Louisville:20260428T170000
DTEND;TZID=America/Kentucky/Louisville:20260428T180000
DTSTAMP:20260421T192057
CREATED:20260413T173253Z
LAST-MODIFIED:20260413T173253Z
UID:74077-1777395600-1777399200@visitpikeville.com
SUMMARY:Kids Cooking Workshop
DESCRIPTION:Calling all young chefs! Kids ages 6–12 are invited to get hands on in the kitchen and make quesadillas.\nParticipants will learn simple food prep skills\, practice kitchen safety\, and assemble their own delicious snack to enjoy.\nThis program will be held April 28th at 5:00 Registration required. To register\, click here: https://informationplace.libnet.info/event/16114198
URL:https://visitpikeville.com/event/kids-cooking-workshop/
LOCATION:Pike County Public Library\, 126 Lee Avenue\, Pikeville\, KY\, 41501\, United States
CATEGORIES:Pike County Public Library
ATTACH;FMTTYPE=image/jpeg:https://visitpikeville.com/wp-content/uploads/2026/04/kids-cooking.jpg
END:VEVENT
BEGIN:VEVENT
DTSTART;TZID=America/Kentucky/Louisville:20260429T140000
DTEND;TZID=America/Kentucky/Louisville:20260429T150000
DTSTAMP:20260421T192057
CREATED:20260406T190438Z
LAST-MODIFIED:20260406T190438Z
UID:73926-1777471200-1777474800@visitpikeville.com
SUMMARY:Adult Guitar Class 2
DESCRIPTION:Beginner guitar lessons for patrons ages 18+. This class meets weekly on Wednesdays at 2:00. Please bring your own instrument. Registration required. \n\n\n\n\n\n\n  \nCall the library at 606-437-6001 to check availability.
URL:https://visitpikeville.com/event/adult-guitar-class-4-2-2-2-2-2-2-2-2-2-2-2-2-2-2-2-2-2-2-2-2-2-2-2-2-2-2-2-2-2-2-2-3-2-2-2-2-2-2-2-2-2-2-2-2-2/
LOCATION:Pike County Public Library\, 126 Lee Avenue\, Pikeville\, KY\, 41501\, United States
CATEGORIES:Pike County Public Library
ATTACH;FMTTYPE=image/png:https://visitpikeville.com/wp-content/uploads/2025/05/theory.png
END:VEVENT
BEGIN:VEVENT
DTSTART;TZID=America/Kentucky/Louisville:20260429T163000
DTEND;TZID=America/Kentucky/Louisville:20260429T173000
DTSTAMP:20260421T192057
CREATED:20260406T190843Z
LAST-MODIFIED:20260406T190843Z
UID:73934-1777480200-1777483800@visitpikeville.com
SUMMARY:Teen Guitar Class 1
DESCRIPTION:Beginner guitar lessons for patrons ages 13-17. This class meets weekly on Wednesdays at 4:30. Please bring your own instrument. Registration required.
URL:https://visitpikeville.com/event/teen-guitar-class-1-2-2-2-2-2-2-2-2-2-2-2-2-2/
LOCATION:Pike County Public Library\, 126 Lee Avenue\, Pikeville\, KY\, 41501\, United States
CATEGORIES:Pike County Public Library
ATTACH;FMTTYPE=image/png:https://visitpikeville.com/wp-content/uploads/2026/01/music.png
END:VEVENT
BEGIN:VEVENT
DTSTART;TZID=America/Kentucky/Louisville:20260430T110000
DTEND;TZID=America/Kentucky/Louisville:20260430T120000
DTSTAMP:20260421T192057
CREATED:20260413T170056Z
LAST-MODIFIED:20260413T170056Z
UID:74036-1777546800-1777550400@visitpikeville.com
SUMMARY:Story Time
DESCRIPTION:Story Time is for children ages 5 and under and features books\, action/movement\, songs\, and a craft. Story Time is held Thursdays at 11:00 and 2:00 and Saturdays at 11:00. \n\n\n\n\n\n\n  \nBesides being fun\, Story Time also helps develop early literacy and school readiness skills through reading\, singing\, listening\, playing\, and social interaction. This program lasts approximately 30 minutes\, and caregivers and children are encouraged to linger in the library afterwards to further socialize and choose books to take home. \n  \nStory Time begins the first week of September and ends the first week of May.
URL:https://visitpikeville.com/event/story-time-2-2-2-2-2-2-2-2-2-2-2-2-2-2-2-2-2-2-2-2-2-2-2-2-2-2-2-2-2-2-2-2-2-2-2-2-2-2-2-2-2-2-2-2-2-2-2-2-2-2-2-2-2-2-2-3-2-2-2-2-2-2-2-2-2-2-2-2-2-2-2-2-2-2-2-2-2-2-2-2-2-2-2-2-2-2-2-2-2-2-2-2-2-65/
LOCATION:Pike County Public Library\, 126 Lee Avenue\, Pikeville\, KY\, 41501\, United States
CATEGORIES:Pike County Public Library
ATTACH;FMTTYPE=image/png:https://visitpikeville.com/wp-content/uploads/2025/10/Story_Time_Schedule_25.png
END:VEVENT
BEGIN:VEVENT
DTSTART;TZID=America/Kentucky/Louisville:20260430T140000
DTEND;TZID=America/Kentucky/Louisville:20260430T150000
DTSTAMP:20260421T192057
CREATED:20260413T170134Z
LAST-MODIFIED:20260413T170134Z
UID:74038-1777557600-1777561200@visitpikeville.com
SUMMARY:Story Time
DESCRIPTION:Story Time is for children ages 5 and under and features books\, action/movement\, songs\, and a craft. Story Time is held Thursdays at 11:00 and 2:00 and Saturdays at 11:00. \n\n\n\n\n\n\n  \nBesides being fun\, Story Time also helps develop early literacy and school readiness skills through reading\, singing\, listening\, playing\, and social interaction. This program lasts approximately 30 minutes\, and caregivers and children are encouraged to linger in the library afterwards to further socialize and choose books to take home. \n  \nStory Time begins the first week of September and ends the first week of May.
URL:https://visitpikeville.com/event/story-time-2-2-2-2-2-2-2-2-2-2-2-2-2-2-2-2-2-2-2-2-2-2-2-2-2-2-2-2-2-2-2-2-2-2-2-2-2-2-2-2-2-2-2-2-2-2-2-2-2-2-2-2-2-2-2-3-2-2-2-2-2-2-2-2-2-2-2-2-2-2-2-2-2-2-2-2-2-2-2-2-2-2-2-2-2-2-2-2-2-2-2-2-2-66/
LOCATION:Pike County Public Library\, 126 Lee Avenue\, Pikeville\, KY\, 41501\, United States
CATEGORIES:Pike County Public Library
ATTACH;FMTTYPE=image/png:https://visitpikeville.com/wp-content/uploads/2025/10/Story_Time_Schedule_25.png
END:VEVENT
BEGIN:VEVENT
DTSTART;TZID=America/Kentucky/Louisville:20260430T150000
DTEND;TZID=America/Kentucky/Louisville:20260430T160000
DTSTAMP:20260421T192057
CREATED:20260413T163223Z
LAST-MODIFIED:20260413T163223Z
UID:74014-1777561200-1777564800@visitpikeville.com
SUMMARY:Teen Guitar Class 2
DESCRIPTION:Beginner guitar lessons for patrons ages 13-17. This class meets weekly on Thursdays at 3:00. Please bring your own instrument. Registration required.
URL:https://visitpikeville.com/event/teen-guitar-class-2-3-2-2-2-2-2-2-2-2-2-2-2-2/
LOCATION:Pike County Public Library\, 126 Lee Avenue\, Pikeville\, KY\, 41501\, United States
CATEGORIES:Pike County Public Library
ATTACH;FMTTYPE=image/png:https://visitpikeville.com/wp-content/uploads/2026/01/music.png
END:VEVENT
BEGIN:VEVENT
DTSTART;TZID=America/Kentucky/Louisville:20260430T160000
DTEND;TZID=America/Kentucky/Louisville:20260430T170000
DTSTAMP:20260421T192057
CREATED:20260406T191750Z
LAST-MODIFIED:20260406T191750Z
UID:73942-1777564800-1777568400@visitpikeville.com
SUMMARY:Teen Guitar Class 3
DESCRIPTION:Beginner guitar lessons for patrons ages 13-17. This class meets weekly on Thursdays at 4:00. Please bring your own instrument. Registration required.
URL:https://visitpikeville.com/event/teen-guitar-class-3-3-2-2-2/
LOCATION:Pike County Public Library\, 126 Lee Avenue\, Pikeville\, KY\, 41501\, United States
CATEGORIES:Pike County Public Library
ATTACH;FMTTYPE=image/png:https://visitpikeville.com/wp-content/uploads/2025/07/GuitarEmblem.png
END:VEVENT
BEGIN:VEVENT
DTSTART;TZID=America/Kentucky/Louisville:20260430T170000
DTEND;TZID=America/Kentucky/Louisville:20260430T180000
DTSTAMP:20260421T192057
CREATED:20260330T143319Z
LAST-MODIFIED:20260330T143319Z
UID:73826-1777568400-1777572000@visitpikeville.com
SUMMARY:Scam Smart
DESCRIPTION:Learn how to recognize and protect yourself from scams\, from phishing emails and romance scams to AI deepfakes.\nThis program is for everyone\, with tips especially useful for seniors. Join us to get practical advice\, hear real-life experiences\, and leave feeling informed and prepared\, without fear.
URL:https://visitpikeville.com/event/scam-smart/
LOCATION:Pike County Public Library\, 126 Lee Avenue\, Pikeville\, KY\, 41501\, United States
CATEGORIES:Pike County Public Library
ATTACH;FMTTYPE=image/jpeg:https://visitpikeville.com/wp-content/uploads/2026/03/scam.jpg
END:VEVENT
BEGIN:VEVENT
DTSTART;TZID=America/Kentucky/Louisville:20260430T170000
DTEND;TZID=America/Kentucky/Louisville:20260430T180000
DTSTAMP:20260421T192057
CREATED:20260413T164755Z
LAST-MODIFIED:20260413T164755Z
UID:74020-1777568400-1777572000@visitpikeville.com
SUMMARY:Music Theory Lecture
DESCRIPTION:Understanding how music works will give you the tools you need to write riffs\, songs\, and solos\, and learn to improvise in a friendly hands-on environment.
URL:https://visitpikeville.com/event/music-theory-lecture-2-2-2-2-2-2-2-2-2-2-2-2-2/
LOCATION:Pike County Public Library\, 126 Lee Avenue\, Pikeville\, KY\, 41501\, United States
CATEGORIES:Pike County Public Library
ATTACH;FMTTYPE=image/png:https://visitpikeville.com/wp-content/uploads/2026/01/music.png
END:VEVENT
BEGIN:VEVENT
DTSTART;TZID=America/Kentucky/Louisville:20260430T170000
DTEND;TZID=America/Kentucky/Louisville:20260430T180000
DTSTAMP:20260421T192057
CREATED:20260413T173457Z
LAST-MODIFIED:20260413T173457Z
UID:74080-1777568400-1777572000@visitpikeville.com
SUMMARY:Scam Smart
DESCRIPTION:Learn how to recognize and protect yourself from scams\, from phishing emails and romance scams to AI deepfakes.\nThis program is for everyone\, with tips especially useful for seniors. Join us to get practical advice\, hear real-life experiences\, and leave feeling informed and prepared\, without fear.
URL:https://visitpikeville.com/event/scam-smart-2/
LOCATION:Pike County Public Library\, 126 Lee Avenue\, Pikeville\, KY\, 41501\, United States
CATEGORIES:Pike County Public Library
ATTACH;FMTTYPE=image/jpeg:https://visitpikeville.com/wp-content/uploads/2026/04/scam-smart.jpg
END:VEVENT
END:VCALENDAR