BEGIN:VCALENDAR
VERSION:2.0
PRODID:-//Visit Pikeville - ECPv6.15.20//NONSGML v1.0//EN
CALSCALE:GREGORIAN
METHOD:PUBLISH
X-WR-CALNAME:Visit Pikeville
X-ORIGINAL-URL:https://visitpikeville.com
X-WR-CALDESC:Events for Visit Pikeville
REFRESH-INTERVAL;VALUE=DURATION:PT1H
X-Robots-Tag:noindex
X-PUBLISHED-TTL:PT1H
BEGIN:VTIMEZONE
TZID:America/Kentucky/Louisville
BEGIN:DAYLIGHT
TZOFFSETFROM:-0500
TZOFFSETTO:-0400
TZNAME:EDT
DTSTART:20250309T070000
END:DAYLIGHT
BEGIN:STANDARD
TZOFFSETFROM:-0400
TZOFFSETTO:-0500
TZNAME:EST
DTSTART:20251102T060000
END:STANDARD
BEGIN:DAYLIGHT
TZOFFSETFROM:-0500
TZOFFSETTO:-0400
TZNAME:EDT
DTSTART:20260308T070000
END:DAYLIGHT
BEGIN:STANDARD
TZOFFSETFROM:-0400
TZOFFSETTO:-0500
TZNAME:EST
DTSTART:20261101T060000
END:STANDARD
BEGIN:DAYLIGHT
TZOFFSETFROM:-0500
TZOFFSETTO:-0400
TZNAME:EDT
DTSTART:20270314T070000
END:DAYLIGHT
BEGIN:STANDARD
TZOFFSETFROM:-0400
TZOFFSETTO:-0500
TZNAME:EST
DTSTART:20271107T060000
END:STANDARD
END:VTIMEZONE
BEGIN:VEVENT
DTSTART;VALUE=DATE:20260401
DTEND;VALUE=DATE:20260501
DTSTAMP:20260421T141849
CREATED:20260413T172518Z
LAST-MODIFIED:20260413T172518Z
UID:74065-1775001600-1777593599@visitpikeville.com
SUMMARY:Where the Sidewalk Ends
DESCRIPTION:This month at the Story Trail\, read selections from “Where the Sidewalk Ends\,” a celebrated 1974 children’s poetry collection written and illustrated by Shel Silverstein. It features whimsical\, imaginative poems and drawings\, including the title poem which describes a imaginative\, peaceful place away from the city\, and popular poems like “Sarah Cynthia Sylvia Stout Would Not Take the Garbage Out.”It will be posted all month long in celebration of National Poetry Month! Enjoy it at the Story Trail located at Bob Amos Park\, just below the Overlook Events Center. Look for our sign on the right at the head of the trail.
URL:https://visitpikeville.com/event/where-the-sidewalk-ends/
LOCATION:The Story Trail\, 424 Bob Amos Dr\,\, Pikeville\, KY\, 41501\, United States
CATEGORIES:Pike County Public Library
ATTACH;FMTTYPE=image/jpeg:https://visitpikeville.com/wp-content/uploads/2026/04/sidewalk.jpg
END:VEVENT
BEGIN:VEVENT
DTSTART;TZID=America/Kentucky/Louisville:20260425T110000
DTEND;TZID=America/Kentucky/Louisville:20260425T120000
DTSTAMP:20260421T141849
CREATED:20260413T170015Z
LAST-MODIFIED:20260413T170015Z
UID:74034-1777114800-1777118400@visitpikeville.com
SUMMARY:Story Time
DESCRIPTION:Story Time is for children ages 5 and under and features books\, action/movement\, songs\, and a craft. Story Time is held Thursdays at 11:00 and 2:00 and Saturdays at 11:00. \n\n\n\n\n\n\n  \nBesides being fun\, Story Time also helps develop early literacy and school readiness skills through reading\, singing\, listening\, playing\, and social interaction. This program lasts approximately 30 minutes\, and caregivers and children are encouraged to linger in the library afterwards to further socialize and choose books to take home. \n  \nStory Time begins the first week of September and ends the first week of May.
URL:https://visitpikeville.com/event/story-time-2-2-2-2-2-2-2-2-2-2-2-2-2-2-2-2-2-2-2-2-2-2-2-2-2-2-2-2-2-2-2-2-2-2-2-2-2-2-2-2-2-2-2-2-2-2-2-2-2-2-2-2-2-2-2-3-2-2-2-2-2-2-2-2-2-2-2-2-2-2-2-2-2-2-2-2-2-2-2-2-2-2-2-2-2-2-2-2-2-2-2-2-2-64/
LOCATION:Pike County Public Library\, 126 Lee Avenue\, Pikeville\, KY\, 41501\, United States
CATEGORIES:Pike County Public Library
ATTACH;FMTTYPE=image/png:https://visitpikeville.com/wp-content/uploads/2025/10/Story_Time_Schedule_25.png
END:VEVENT
BEGIN:VEVENT
DTSTART;TZID=America/Kentucky/Louisville:20260425T110000
DTEND;TZID=America/Kentucky/Louisville:20260425T130000
DTSTAMP:20260421T141849
CREATED:20260413T171815Z
LAST-MODIFIED:20260413T171815Z
UID:74058-1777114800-1777122000@visitpikeville.com
SUMMARY:Quilters Group
DESCRIPTION:Pike County Public Library Quilters Group is a quilting social that also teaches quilting and needlework. Participants exchange patterns\, quilting ideas\, and sewing projects. \n\n\n\n\n\n\n  \nBoth beginners and experienced quilters are welcome! Quilters Group meets alternating Saturdays at noon at the Pike County Public (Lee Avenue) Library. \nNo registration required.
URL:https://visitpikeville.com/event/quilters-group-5-2-2-2-2-2-2-2-2-2-2-2-2-2-2-2-2-2-2-2-2/
LOCATION:Pike County Public Library\, 126 Lee Avenue\, Pikeville\, KY\, 41501\, United States
CATEGORIES:Pike County Public Library
ATTACH;FMTTYPE=image/png:https://visitpikeville.com/wp-content/uploads/2025/05/Quilters_GroupEDIT.png
END:VEVENT
END:VCALENDAR