BEGIN:VCALENDAR
VERSION:2.0
PRODID:-//Visit Pikeville - ECPv6.15.20//NONSGML v1.0//EN
CALSCALE:GREGORIAN
METHOD:PUBLISH
X-ORIGINAL-URL:https://visitpikeville.com
X-WR-CALDESC:Events for Visit Pikeville
REFRESH-INTERVAL;VALUE=DURATION:PT1H
X-Robots-Tag:noindex
X-PUBLISHED-TTL:PT1H
BEGIN:VTIMEZONE
TZID:America/Kentucky/Louisville
BEGIN:DAYLIGHT
TZOFFSETFROM:-0500
TZOFFSETTO:-0400
TZNAME:EDT
DTSTART:20250309T070000
END:DAYLIGHT
BEGIN:STANDARD
TZOFFSETFROM:-0400
TZOFFSETTO:-0500
TZNAME:EST
DTSTART:20251102T060000
END:STANDARD
BEGIN:DAYLIGHT
TZOFFSETFROM:-0500
TZOFFSETTO:-0400
TZNAME:EDT
DTSTART:20260308T070000
END:DAYLIGHT
BEGIN:STANDARD
TZOFFSETFROM:-0400
TZOFFSETTO:-0500
TZNAME:EST
DTSTART:20261101T060000
END:STANDARD
BEGIN:DAYLIGHT
TZOFFSETFROM:-0500
TZOFFSETTO:-0400
TZNAME:EDT
DTSTART:20270314T070000
END:DAYLIGHT
BEGIN:STANDARD
TZOFFSETFROM:-0400
TZOFFSETTO:-0500
TZNAME:EST
DTSTART:20271107T060000
END:STANDARD
END:VTIMEZONE
BEGIN:VEVENT
DTSTART;VALUE=DATE:20260401
DTEND;VALUE=DATE:20260501
DTSTAMP:20260421T081604
CREATED:20260413T172518Z
LAST-MODIFIED:20260413T172518Z
UID:74065-1775001600-1777593599@visitpikeville.com
SUMMARY:Where the Sidewalk Ends
DESCRIPTION:This month at the Story Trail\, read selections from “Where the Sidewalk Ends\,” a celebrated 1974 children’s poetry collection written and illustrated by Shel Silverstein. It features whimsical\, imaginative poems and drawings\, including the title poem which describes a imaginative\, peaceful place away from the city\, and popular poems like “Sarah Cynthia Sylvia Stout Would Not Take the Garbage Out.”It will be posted all month long in celebration of National Poetry Month! Enjoy it at the Story Trail located at Bob Amos Park\, just below the Overlook Events Center. Look for our sign on the right at the head of the trail.
URL:https://visitpikeville.com/event/where-the-sidewalk-ends/
LOCATION:The Story Trail\, 424 Bob Amos Dr\,\, Pikeville\, KY\, 41501\, United States
CATEGORIES:Pike County Public Library
ATTACH;FMTTYPE=image/jpeg:https://visitpikeville.com/wp-content/uploads/2026/04/sidewalk.jpg
END:VEVENT
BEGIN:VEVENT
DTSTART;TZID=America/Kentucky/Louisville:20260420T140000
DTEND;TZID=America/Kentucky/Louisville:20260420T150000
DTSTAMP:20260421T081604
CREATED:20260406T182806Z
LAST-MODIFIED:20260406T182806Z
UID:73910-1776693600-1776697200@visitpikeville.com
SUMMARY:Music Theory Class
DESCRIPTION:Understanding how music works will give you the tools you need to write riffs\, songs\, and solos\, and learn to improvise in a friendly hands-on environment. \n\n\n\n\n\n\n  \nClass is held every Monday at the Pike County Public Library (Lee Ave) at 2:00. \nNo previous knowledge of music theory or reading music is necessary\, but this class is for students who already know how to play a little bit.
URL:https://visitpikeville.com/event/music-theory-class-2-2-2-2-2-2-2-2-2-2/
LOCATION:Pike County Public Library\, 126 Lee Avenue\, Pikeville\, KY\, 41501\, United States
CATEGORIES:Pike County Public Library
ATTACH;FMTTYPE=image/png:https://visitpikeville.com/wp-content/uploads/2026/01/music.png
END:VEVENT
BEGIN:VEVENT
DTSTART;TZID=America/Kentucky/Louisville:20260420T160000
DTEND;TZID=America/Kentucky/Louisville:20260420T170000
DTSTAMP:20260421T081604
CREATED:20260413T170650Z
LAST-MODIFIED:20260413T170650Z
UID:74044-1776700800-1776704400@visitpikeville.com
SUMMARY:Teen Time
DESCRIPTION:Teens ages 13-17 are invited to hang out\, get creative\, and have fun at Teen Time\, meeting alternating Mondays at 4:00. \n\n\n\n\n\n\n  \nJoin us in the Teen Room for a mix of crafts\, games\, video game tournaments\, snacks\, and more. It’s a great chance to relax\, meet new friends\, and try something new each week. No registration needed.
URL:https://visitpikeville.com/event/teen-time-4-2-2-2-2-2-2-2/
LOCATION:Pike County Public Library\, 126 Lee Avenue\, Pikeville\, KY\, 41501\, United States
CATEGORIES:Pike County Public Library
ATTACH;FMTTYPE=image/png:https://visitpikeville.com/wp-content/uploads/2026/01/Teen_Time_updated.png
END:VEVENT
BEGIN:VEVENT
DTSTART;TZID=America/Kentucky/Louisville:20260420T163000
DTEND;TZID=America/Kentucky/Louisville:20260420T173000
DTSTAMP:20260421T081604
CREATED:20260406T184116Z
LAST-MODIFIED:20260406T185506Z
UID:73916-1776702600-1776706200@visitpikeville.com
SUMMARY:Adult Guitar Class 1
DESCRIPTION:Beginner guitar lessons for patrons ages 18+. This class meets weekly on Mondays at 4:30. Please bring your own instrument.
URL:https://visitpikeville.com/event/adult-guitar-class-4-2-2-2-2-2-2-2-2-2-2-2-2-2-3-3-2-2-2-2-2-2-2-2-2-2-2-2-2-2-2-2-2-2-2-2-2-2/
LOCATION:Pike County Public Library\, 126 Lee Avenue\, Pikeville\, KY\, 41501\, United States
CATEGORIES:Pike County Public Library
ATTACH;FMTTYPE=image/png:https://visitpikeville.com/wp-content/uploads/2025/05/theory.png
END:VEVENT
BEGIN:VEVENT
DTSTART;TZID=America/Kentucky/Louisville:20260420T173000
DTEND;TZID=America/Kentucky/Louisville:20260420T180000
DTSTAMP:20260421T081604
CREATED:20260413T171019Z
LAST-MODIFIED:20260413T171019Z
UID:74048-1776706200-1776708000@visitpikeville.com
SUMMARY:Teen Book Club
DESCRIPTION:Teen Book Club is the perfect place to read\, relax\, and talk about great books with friends. Join us for fun discussions and new reads! Meets alternating Mondays at 5:30 PM.
URL:https://visitpikeville.com/event/teen-book-club-4/
LOCATION:Pike County Public Library\, 126 Lee Avenue\, Pikeville\, KY\, 41501\, United States
CATEGORIES:Pike County Public Library
ATTACH;FMTTYPE=image/png:https://visitpikeville.com/wp-content/uploads/2026/04/Teen_Book_Club.png
END:VEVENT
END:VCALENDAR