BEGIN:VCALENDAR
VERSION:2.0
PRODID:-//Visit Pikeville - ECPv6.15.20//NONSGML v1.0//EN
CALSCALE:GREGORIAN
METHOD:PUBLISH
X-WR-CALNAME:Visit Pikeville
X-ORIGINAL-URL:https://visitpikeville.com
X-WR-CALDESC:Events for Visit Pikeville
REFRESH-INTERVAL;VALUE=DURATION:PT1H
X-Robots-Tag:noindex
X-PUBLISHED-TTL:PT1H
BEGIN:VTIMEZONE
TZID:America/Kentucky/Louisville
BEGIN:DAYLIGHT
TZOFFSETFROM:-0500
TZOFFSETTO:-0400
TZNAME:EDT
DTSTART:20250309T070000
END:DAYLIGHT
BEGIN:STANDARD
TZOFFSETFROM:-0400
TZOFFSETTO:-0500
TZNAME:EST
DTSTART:20251102T060000
END:STANDARD
BEGIN:DAYLIGHT
TZOFFSETFROM:-0500
TZOFFSETTO:-0400
TZNAME:EDT
DTSTART:20260308T070000
END:DAYLIGHT
BEGIN:STANDARD
TZOFFSETFROM:-0400
TZOFFSETTO:-0500
TZNAME:EST
DTSTART:20261101T060000
END:STANDARD
BEGIN:DAYLIGHT
TZOFFSETFROM:-0500
TZOFFSETTO:-0400
TZNAME:EDT
DTSTART:20270314T070000
END:DAYLIGHT
BEGIN:STANDARD
TZOFFSETFROM:-0400
TZOFFSETTO:-0500
TZNAME:EST
DTSTART:20271107T060000
END:STANDARD
END:VTIMEZONE
BEGIN:VEVENT
DTSTART;TZID=America/Kentucky/Louisville:20260331T170000
DTEND;TZID=America/Kentucky/Louisville:20260331T180000
DTSTAMP:20260421T155213
CREATED:20260302T155949Z
LAST-MODIFIED:20260302T155949Z
UID:73438-1774976400-1774980000@visitpikeville.com
SUMMARY:Kids Cooking Workshop: Pancakes
DESCRIPTION:Calling all young chefs! Kids ages 6–12 are invited to get hands on in the kitchen and make pancakes. \n\n\n\n\n\n\n  \nParticipants will learn simple food prep skills\, practice kitchen safety\, and assemble their own delicious snack to enjoy. \nThis program is designed for children\, but an adult must be present throughout the workshop. Registration is required\, as space is limited. Parents do not need to register; only the child.
URL:https://visitpikeville.com/event/kids-cooking-workshop-pancakes/
LOCATION:Pike County Public Library\, 126 Lee Avenue\, Pikeville\, KY\, 41501\, United States
CATEGORIES:Pike County Public Library
ATTACH;FMTTYPE=image/png:https://visitpikeville.com/wp-content/uploads/2026/03/KidsCookingClass.png
END:VEVENT
BEGIN:VEVENT
DTSTART;TZID=America/Kentucky/Louisville:20260331T170000
DTEND;TZID=America/Kentucky/Louisville:20260331T183000
DTSTAMP:20260421T155213
CREATED:20260216T133744Z
LAST-MODIFIED:20260216T133744Z
UID:73107-1774976400-1774981800@visitpikeville.com
SUMMARY:Intermediate ASL course
DESCRIPTION:This 6-week Intermediate ASL course is designed for those who have completed our Beginner ASL class (or have equivalent experience) and want to continue building confidence and fluency.\nParticipants will expand their vocabulary\, practice more complex sentence structures\, and engage in conversational signing through interactive activities and real-world scenarios.\nClasses will meet every Tuesday from 5:00–6:30 PM\, March 3 through April 7. This course builds directly on the concepts introduced in the Beginner ASL class\, which will be offered again in the fall.\nRegistration is required. Click here to register: https://informationplace.libnet.info/event/15772159
URL:https://visitpikeville.com/event/intermediate-asl-course-2-2-2-2/
LOCATION:Pike County Public Library\, 126 Lee Avenue\, Pikeville\, KY\, 41501\, United States
CATEGORIES:Pike County Public Library
ATTACH;FMTTYPE=image/jpeg:https://visitpikeville.com/wp-content/uploads/2026/02/sign-language.jpg
END:VEVENT
END:VCALENDAR