BEGIN:VCALENDAR
VERSION:2.0
PRODID:-//Visit Pikeville - ECPv6.15.20//NONSGML v1.0//EN
CALSCALE:GREGORIAN
METHOD:PUBLISH
X-ORIGINAL-URL:https://visitpikeville.com
X-WR-CALDESC:Events for Visit Pikeville
REFRESH-INTERVAL;VALUE=DURATION:PT1H
X-Robots-Tag:noindex
X-PUBLISHED-TTL:PT1H
BEGIN:VTIMEZONE
TZID:America/Kentucky/Louisville
BEGIN:DAYLIGHT
TZOFFSETFROM:-0500
TZOFFSETTO:-0400
TZNAME:EDT
DTSTART:20250309T070000
END:DAYLIGHT
BEGIN:STANDARD
TZOFFSETFROM:-0400
TZOFFSETTO:-0500
TZNAME:EST
DTSTART:20251102T060000
END:STANDARD
BEGIN:DAYLIGHT
TZOFFSETFROM:-0500
TZOFFSETTO:-0400
TZNAME:EDT
DTSTART:20260308T070000
END:DAYLIGHT
BEGIN:STANDARD
TZOFFSETFROM:-0400
TZOFFSETTO:-0500
TZNAME:EST
DTSTART:20261101T060000
END:STANDARD
BEGIN:DAYLIGHT
TZOFFSETFROM:-0500
TZOFFSETTO:-0400
TZNAME:EDT
DTSTART:20270314T070000
END:DAYLIGHT
BEGIN:STANDARD
TZOFFSETFROM:-0400
TZOFFSETTO:-0500
TZNAME:EST
DTSTART:20271107T060000
END:STANDARD
END:VTIMEZONE
BEGIN:VEVENT
DTSTART;TZID=America/Kentucky/Louisville:20260324T170000
DTEND;TZID=America/Kentucky/Louisville:20260324T180000
DTSTAMP:20260421T155459
CREATED:20260302T152136Z
LAST-MODIFIED:20260302T152136Z
UID:73422-1774371600-1774375200@visitpikeville.com
SUMMARY:Book Talks Book Club
DESCRIPTION:Book Talks is a book club that meets for discussion at the Pike County Public Library (Lee Avenue). No registration required.
URL:https://visitpikeville.com/event/book-talks-book-club-10-2-2-2-2-2-2-2-2/
LOCATION:Pike County Public Library\, 126 Lee Avenue\, Pikeville\, KY\, 41501\, United States
CATEGORIES:Pike County Public Library
ATTACH;FMTTYPE=image/png:https://visitpikeville.com/wp-content/uploads/2025/05/Book_Talks_Book_Club_UPDATED.png
END:VEVENT
BEGIN:VEVENT
DTSTART;TZID=America/Kentucky/Louisville:20260324T170000
DTEND;TZID=America/Kentucky/Louisville:20260324T183000
DTSTAMP:20260421T155459
CREATED:20260216T133701Z
LAST-MODIFIED:20260216T133701Z
UID:73105-1774371600-1774377000@visitpikeville.com
SUMMARY:Intermediate ASL course
DESCRIPTION:This 6-week Intermediate ASL course is designed for those who have completed our Beginner ASL class (or have equivalent experience) and want to continue building confidence and fluency.\nParticipants will expand their vocabulary\, practice more complex sentence structures\, and engage in conversational signing through interactive activities and real-world scenarios.\nClasses will meet every Tuesday from 5:00–6:30 PM\, March 3 through April 7. This course builds directly on the concepts introduced in the Beginner ASL class\, which will be offered again in the fall.\nRegistration is required. Click here to register: https://informationplace.libnet.info/event/15772159
URL:https://visitpikeville.com/event/intermediate-asl-course-2-2-2/
LOCATION:Pike County Public Library\, 126 Lee Avenue\, Pikeville\, KY\, 41501\, United States
CATEGORIES:Pike County Public Library
ATTACH;FMTTYPE=image/jpeg:https://visitpikeville.com/wp-content/uploads/2026/02/sign-language.jpg
END:VEVENT
BEGIN:VEVENT
DTSTART;TZID=America/Kentucky/Louisville:20260324T170000
DTEND;TZID=America/Kentucky/Louisville:20260324T190000
DTSTAMP:20260421T155459
CREATED:20260216T133010Z
LAST-MODIFIED:20260216T133010Z
UID:73092-1774371600-1774378800@visitpikeville.com
SUMMARY:Portraits with Peter Rabbit
DESCRIPTION:Hop into spring with a special photo opportunity at the library! Bring the whole family to snap a sweet springtime portrait with Peter Rabbit\, perfect for sharing and celebrating the season together.Photos will be uploaded online for unlimited free downloads\, so you can print and share your favorites with friends and family.Don’t miss this egg-stra special way to welcome spring at the library! No registration required.Portraits with Peter Rabbit will be held at the following times:March 17 | 5:00 – Belfry Public LibraryMarch 19 | 5:00 – Elkhorn City Public LibraryMarch 24 | 5:00 – Pike County Public LibraryMarch 26 | 5:00 – Phelps Public LibraryMarch 31 | 5:00 – Vesta Roberts Johnson Memorial Library
URL:https://visitpikeville.com/event/portraits-with-peter-rabbit-2/
LOCATION:Pike County Public Library\, 126 Lee Avenue\, Pikeville\, KY\, 41501\, United States
CATEGORIES:Pike County Public Library
ATTACH;FMTTYPE=image/jpeg:https://visitpikeville.com/wp-content/uploads/2026/02/peter-rabbit.jpg
END:VEVENT
END:VCALENDAR