BEGIN:VCALENDAR
VERSION:2.0
PRODID:-//Visit Pikeville - ECPv6.15.20//NONSGML v1.0//EN
CALSCALE:GREGORIAN
METHOD:PUBLISH
X-WR-CALNAME:Visit Pikeville
X-ORIGINAL-URL:https://visitpikeville.com
X-WR-CALDESC:Events for Visit Pikeville
REFRESH-INTERVAL;VALUE=DURATION:PT1H
X-Robots-Tag:noindex
X-PUBLISHED-TTL:PT1H
BEGIN:VTIMEZONE
TZID:America/Kentucky/Louisville
BEGIN:DAYLIGHT
TZOFFSETFROM:-0500
TZOFFSETTO:-0400
TZNAME:EDT
DTSTART:20250309T070000
END:DAYLIGHT
BEGIN:STANDARD
TZOFFSETFROM:-0400
TZOFFSETTO:-0500
TZNAME:EST
DTSTART:20251102T060000
END:STANDARD
BEGIN:DAYLIGHT
TZOFFSETFROM:-0500
TZOFFSETTO:-0400
TZNAME:EDT
DTSTART:20260308T070000
END:DAYLIGHT
BEGIN:STANDARD
TZOFFSETFROM:-0400
TZOFFSETTO:-0500
TZNAME:EST
DTSTART:20261101T060000
END:STANDARD
BEGIN:DAYLIGHT
TZOFFSETFROM:-0500
TZOFFSETTO:-0400
TZNAME:EDT
DTSTART:20270314T070000
END:DAYLIGHT
BEGIN:STANDARD
TZOFFSETFROM:-0400
TZOFFSETTO:-0500
TZNAME:EST
DTSTART:20271107T060000
END:STANDARD
END:VTIMEZONE
BEGIN:VEVENT
DTSTART;TZID=America/Kentucky/Louisville:20260224T140000
DTEND;TZID=America/Kentucky/Louisville:20260224T150000
DTSTAMP:20260421T173552
CREATED:20260209T180818Z
LAST-MODIFIED:20260209T180818Z
UID:72963-1771941600-1771945200@visitpikeville.com
SUMMARY:Adult Guitar Class 2
DESCRIPTION:Beginner guitar lessons for patrons ages 18+. This class meets weekly on Wednesdays at 2:00. Please bring your own instrument. Registration required. \n\n\n\n\n\n\n  \nCall the library at 606-437-6001 to check availability.
URL:https://visitpikeville.com/event/adult-guitar-class-4-2-2-2-2-2-2-2-2-2-2-2-2-2-2-2-2-2-2-2-2-2-2-2-2-2-2-2-2-2-2-2-3-2-2-2-2-2/
LOCATION:Pike County Public Library\, 126 Lee Avenue\, Pikeville\, KY\, 41501\, United States
CATEGORIES:Pike County Public Library
ATTACH;FMTTYPE=image/png:https://visitpikeville.com/wp-content/uploads/2025/05/theory.png
END:VEVENT
BEGIN:VEVENT
DTSTART;TZID=America/Kentucky/Louisville:20260224T170000
DTEND;TZID=America/Kentucky/Louisville:20260224T180000
DTSTAMP:20260421T173552
CREATED:20260203T161127Z
LAST-MODIFIED:20260203T161127Z
UID:72870-1771952400-1771956000@visitpikeville.com
SUMMARY:Kids Cooking Workshop: Chocolate Banana Bacon Toast
DESCRIPTION:Calling all young chefs! Kids ages 6–12 are invited to get hands on in the kitchen as we create a sweet-and-savory treat: Chocolate Banana Bacon Toast.\nParticipants will learn simple food prep skills\, practice kitchen safety\, and assemble their own delicious snack to enjoy.\nThis program is designed for children\, and an adult must be present throughout the workshop. Registration is required\, as space is limited. Parents do not need to register; only the child.\nTo register\, click here: https://informationplace.libnet.info/event/15648504
URL:https://visitpikeville.com/event/kids-cooking-workshop-chocolate-banana-bacon-toast/
LOCATION:Pike County Public Library\, 126 Lee Avenue\, Pikeville\, KY\, 41501\, United States
CATEGORIES:Pike County Public Library
ATTACH;FMTTYPE=image/jpeg:https://visitpikeville.com/wp-content/uploads/2026/02/kids-workshop.jpg
END:VEVENT
BEGIN:VEVENT
DTSTART;TZID=America/Kentucky/Louisville:20260224T170000
DTEND;TZID=America/Kentucky/Louisville:20260224T180000
DTSTAMP:20260421T173552
CREATED:20260209T205313Z
LAST-MODIFIED:20260209T205313Z
UID:73030-1771952400-1771956000@visitpikeville.com
SUMMARY:Kids Cooking Workshop: Chocolate Banana Bacon Toast
DESCRIPTION:Calling all young chefs! Kids ages 6–12 are invited to get hands on in the kitchen as we create a sweet-and-savory treat: Chocolate Banana Bacon Toast. \n\n\n\n\n\n\n  \nParticipants will learn simple food prep skills\, practice kitchen safety\, and assemble their own delicious snack to enjoy. \nThis program is designed for children\, but an adult must be present throughout the workshop. Registration is required\, as space is limited. Parents do not need to register; only the child.
URL:https://visitpikeville.com/event/kids-cooking-workshop-chocolate-banana-bacon-toast-2/
LOCATION:Pike County Public Library\, 126 Lee Avenue\, Pikeville\, KY\, 41501\, United States
CATEGORIES:Pike County Public Library
ATTACH;FMTTYPE=image/png:https://visitpikeville.com/wp-content/uploads/2026/02/KidsCookingClass.png
END:VEVENT
END:VCALENDAR