BEGIN:VCALENDAR
VERSION:2.0
PRODID:-//Visit Pikeville - ECPv6.15.20//NONSGML v1.0//EN
CALSCALE:GREGORIAN
METHOD:PUBLISH
X-WR-CALNAME:Visit Pikeville
X-ORIGINAL-URL:https://visitpikeville.com
X-WR-CALDESC:Events for Visit Pikeville
REFRESH-INTERVAL;VALUE=DURATION:PT1H
X-Robots-Tag:noindex
X-PUBLISHED-TTL:PT1H
BEGIN:VTIMEZONE
TZID:America/Kentucky/Louisville
BEGIN:DAYLIGHT
TZOFFSETFROM:-0500
TZOFFSETTO:-0400
TZNAME:EDT
DTSTART:20250309T070000
END:DAYLIGHT
BEGIN:STANDARD
TZOFFSETFROM:-0400
TZOFFSETTO:-0500
TZNAME:EST
DTSTART:20251102T060000
END:STANDARD
BEGIN:DAYLIGHT
TZOFFSETFROM:-0500
TZOFFSETTO:-0400
TZNAME:EDT
DTSTART:20260308T070000
END:DAYLIGHT
BEGIN:STANDARD
TZOFFSETFROM:-0400
TZOFFSETTO:-0500
TZNAME:EST
DTSTART:20261101T060000
END:STANDARD
BEGIN:DAYLIGHT
TZOFFSETFROM:-0500
TZOFFSETTO:-0400
TZNAME:EDT
DTSTART:20270314T070000
END:DAYLIGHT
BEGIN:STANDARD
TZOFFSETFROM:-0400
TZOFFSETTO:-0500
TZNAME:EST
DTSTART:20271107T060000
END:STANDARD
END:VTIMEZONE
BEGIN:VEVENT
DTSTART;TZID=America/Kentucky/Louisville:20260217T140000
DTEND;TZID=America/Kentucky/Louisville:20260217T150000
DTSTAMP:20260421T173555
CREATED:20260209T180720Z
LAST-MODIFIED:20260209T180720Z
UID:72961-1771336800-1771340400@visitpikeville.com
SUMMARY:Adult Guitar Class 2
DESCRIPTION:Beginner guitar lessons for patrons ages 18+. This class meets weekly on Wednesdays at 2:00. Please bring your own instrument. Registration required. \n\n\n\n\n\n\n  \nCall the library at 606-437-6001 to check availability.
URL:https://visitpikeville.com/event/adult-guitar-class-4-2-2-2-2-2-2-2-2-2-2-2-2-2-2-2-2-2-2-2-2-2-2-2-2-2-2-2-2-2-2-2-3-2-2-2-2/
LOCATION:Pike County Public Library\, 126 Lee Avenue\, Pikeville\, KY\, 41501\, United States
CATEGORIES:Pike County Public Library
ATTACH;FMTTYPE=image/png:https://visitpikeville.com/wp-content/uploads/2025/05/theory.png
END:VEVENT
BEGIN:VEVENT
DTSTART;TZID=America/Kentucky/Louisville:20260217T170000
DTEND;TZID=America/Kentucky/Louisville:20260217T180000
DTSTAMP:20260421T173555
CREATED:20260209T205026Z
LAST-MODIFIED:20260209T205026Z
UID:73027-1771347600-1771351200@visitpikeville.com
SUMMARY:Precious Metals (Numismatics\, Bullion\, Mining Stocks)
DESCRIPTION:What are the most basic precious metals that the public doesn’t pay enough attention to? How did these precious metals perform in 2025? What are some of the reasons for that performance? \n\n\n\n\n\n\n  \nWhy did an analyst in late 2025 from Investment firm Morgan Staney recommend a stock portfolio composed of 60% stocks\, 20% bonds\, 20%Gold from 60%Stocks \,40%Bonds? This recommendation to 20% gold has never been recommended by a Wall Street investment firm. \nWhat are the expectations for these metals in 2026? \nIn this session\, Big Sandy Community and Technical College professor Daniel Bell will briefly discuss these questions. He will introduce various speakers available to the public through YouTube to help further educate on these topics. Get ready for a wealth of information from some top professionals who have years of experience in the precious metals and equity markets related to the producers of these metals! \nThis program will be held at the Pike County Public Library on Tuesday\, February 17th at 5:00. No registration required.
URL:https://visitpikeville.com/event/precious-metals-numismatics-bullion-mining-stocks/
LOCATION:Pike County Public Library\, 126 Lee Avenue\, Pikeville\, KY\, 41501\, United States
CATEGORIES:Pike County Public Library
ATTACH;FMTTYPE=image/png:https://visitpikeville.com/wp-content/uploads/2026/02/Precious_Metals.png
END:VEVENT
END:VCALENDAR