BEGIN:VCALENDAR
VERSION:2.0
PRODID:-//Visit Pikeville - ECPv6.15.20//NONSGML v1.0//EN
CALSCALE:GREGORIAN
METHOD:PUBLISH
X-WR-CALNAME:Visit Pikeville
X-ORIGINAL-URL:https://visitpikeville.com
X-WR-CALDESC:Events for Visit Pikeville
REFRESH-INTERVAL;VALUE=DURATION:PT1H
X-Robots-Tag:noindex
X-PUBLISHED-TTL:PT1H
BEGIN:VTIMEZONE
TZID:America/Kentucky/Louisville
BEGIN:DAYLIGHT
TZOFFSETFROM:-0500
TZOFFSETTO:-0400
TZNAME:EDT
DTSTART:20250309T070000
END:DAYLIGHT
BEGIN:STANDARD
TZOFFSETFROM:-0400
TZOFFSETTO:-0500
TZNAME:EST
DTSTART:20251102T060000
END:STANDARD
BEGIN:DAYLIGHT
TZOFFSETFROM:-0500
TZOFFSETTO:-0400
TZNAME:EDT
DTSTART:20260308T070000
END:DAYLIGHT
BEGIN:STANDARD
TZOFFSETFROM:-0400
TZOFFSETTO:-0500
TZNAME:EST
DTSTART:20261101T060000
END:STANDARD
BEGIN:DAYLIGHT
TZOFFSETFROM:-0500
TZOFFSETTO:-0400
TZNAME:EDT
DTSTART:20270314T070000
END:DAYLIGHT
BEGIN:STANDARD
TZOFFSETFROM:-0400
TZOFFSETTO:-0500
TZNAME:EST
DTSTART:20271107T060000
END:STANDARD
END:VTIMEZONE
BEGIN:VEVENT
DTSTART;TZID=America/Kentucky/Louisville:20260210T140000
DTEND;TZID=America/Kentucky/Louisville:20260210T150000
DTSTAMP:20260421T173552
CREATED:20260209T180620Z
LAST-MODIFIED:20260209T180620Z
UID:72959-1770732000-1770735600@visitpikeville.com
SUMMARY:Adult Guitar Class 2
DESCRIPTION:Beginner guitar lessons for patrons ages 18+. This class meets weekly on Wednesdays at 2:00. Please bring your own instrument. Registration required. \n\n\n\n\n\n\n  \nCall the library at 606-437-6001 to check availability.
URL:https://visitpikeville.com/event/adult-guitar-class-4-2-2-2-2-2-2-2-2-2-2-2-2-2-2-2-2-2-2-2-2-2-2-2-2-2-2-2-2-2-2-2-3-2-2-2/
LOCATION:Pike County Public Library\, 126 Lee Avenue\, Pikeville\, KY\, 41501\, United States
CATEGORIES:Pike County Public Library
ATTACH;FMTTYPE=image/png:https://visitpikeville.com/wp-content/uploads/2025/05/theory.png
END:VEVENT
BEGIN:VEVENT
DTSTART;TZID=America/Kentucky/Louisville:20260210T170000
DTEND;TZID=America/Kentucky/Louisville:20260210T180000
DTSTAMP:20260421T173552
CREATED:20260209T203807Z
LAST-MODIFIED:20260209T203807Z
UID:73012-1770742800-1770746400@visitpikeville.com
SUMMARY:Couples Painting Class: Valentine Gnomes
DESCRIPTION:Celebrate Valentine’s Day with a creative twist! Couples are invited to attend this guided painting class led by Kenna’s Creative Canvas.\nEach pair will work together to create a charming\, two-canvas Valentine gnome painting that forms a complete piece when displayed side by side.\nNo painting experience is required! Kenna will provide step-by-step instruction in a relaxed\, fun atmosphere. All supplies will be provided. Just bring a partner and enjoy an evening of art\, laughter\, and quality time together. Perfect for couples\, friends\, or family members!\nThis program will be held on Tuesday\, February 10th at 5:00 and again on Thursday\, February 12th at 5:00.\nTo register for the Tuesday (2/10) session\, click here: https://informationplace.libnet.info/event/15597666\nTo register for the Thursday (2/12) session\, click here: https://informationplace.libnet.info/event/15597690
URL:https://visitpikeville.com/event/couples-painting-class-valentine-gnomes/
LOCATION:Pike County Public Library\, 126 Lee Avenue\, Pikeville\, KY\, 41501\, United States
CATEGORIES:Pike County Public Library
ATTACH;FMTTYPE=image/jpeg:https://visitpikeville.com/wp-content/uploads/2026/02/couples-painting.jpg
END:VEVENT
END:VCALENDAR