BEGIN:VCALENDAR
VERSION:2.0
PRODID:-//Visit Pikeville - ECPv6.15.20//NONSGML v1.0//EN
CALSCALE:GREGORIAN
METHOD:PUBLISH
X-ORIGINAL-URL:https://visitpikeville.com
X-WR-CALDESC:Events for Visit Pikeville
REFRESH-INTERVAL;VALUE=DURATION:PT1H
X-Robots-Tag:noindex
X-PUBLISHED-TTL:PT1H
BEGIN:VTIMEZONE
TZID:America/Kentucky/Louisville
BEGIN:DAYLIGHT
TZOFFSETFROM:-0500
TZOFFSETTO:-0400
TZNAME:EDT
DTSTART:20240310T070000
END:DAYLIGHT
BEGIN:STANDARD
TZOFFSETFROM:-0400
TZOFFSETTO:-0500
TZNAME:EST
DTSTART:20241103T060000
END:STANDARD
BEGIN:DAYLIGHT
TZOFFSETFROM:-0500
TZOFFSETTO:-0400
TZNAME:EDT
DTSTART:20250309T070000
END:DAYLIGHT
BEGIN:STANDARD
TZOFFSETFROM:-0400
TZOFFSETTO:-0500
TZNAME:EST
DTSTART:20251102T060000
END:STANDARD
BEGIN:DAYLIGHT
TZOFFSETFROM:-0500
TZOFFSETTO:-0400
TZNAME:EDT
DTSTART:20260308T070000
END:DAYLIGHT
BEGIN:STANDARD
TZOFFSETFROM:-0400
TZOFFSETTO:-0500
TZNAME:EST
DTSTART:20261101T060000
END:STANDARD
END:VTIMEZONE
BEGIN:VEVENT
DTSTART;TZID=America/Kentucky/Louisville:20251220T110000
DTEND;TZID=America/Kentucky/Louisville:20251220T120000
DTSTAMP:20260422T053002
CREATED:20251201T154716Z
LAST-MODIFIED:20251201T154716Z
UID:71842-1766228400-1766232000@visitpikeville.com
SUMMARY:Story Time
DESCRIPTION:Story Time is for children ages 5 and under and features books\, action/movement\, songs\, and a craft. Story Time is held Thursdays at 11:00 and 2:00 and Saturdays at 11:00. \n\n\n\n\n\n\n  \nBesides being fun\, Story Time also helps develop early literacy and school readiness skills through reading\, singing\, listening\, playing\, and social interaction. This program lasts approximately 30 minutes\, and caregivers and children are encouraged to linger in the library afterwards to further socialize and choose books to take home. \n  \nStory Time begins the first week of September and ends the first week of May.
URL:https://visitpikeville.com/event/story-time-2-2-2-2-2-2-2-2-2-2-2-2-2-2-2-2-2-2-2-2-2-2-2-2-2-2-2-2-2-2-2-2-2-2-2-2-2-2-2-2-2-2-2-2-2-2-2-2-2-2-2-2-2-2-2-3-2-2-2-2-2-2-2-2-2-2-2-2-2-2-2-2-2-2-2-2-2-2-2-2-2-2-2-2-2-2-2-2-2-2-2-2-2-42/
LOCATION:Pike County Public Library\, 126 Lee Avenue\, Pikeville\, KY\, 41501\, United States
CATEGORIES:Pike County Public Library
ATTACH;FMTTYPE=image/png:https://visitpikeville.com/wp-content/uploads/2025/10/Story_Time_Schedule_25.png
END:VEVENT
BEGIN:VEVENT
DTSTART;TZID=America/Kentucky/Louisville:20251220T110000
DTEND;TZID=America/Kentucky/Louisville:20251220T130000
DTSTAMP:20260422T053002
CREATED:20251201T160035Z
LAST-MODIFIED:20251201T160035Z
UID:71864-1766228400-1766235600@visitpikeville.com
SUMMARY:Quilters Group
DESCRIPTION:Pike County Public Library Quilters Group is a quilting social that also teaches quilting and needlework. Participants exchange patterns\, quilting ideas\, and sewing projects. \n\n\n\n\n\n\n  \nBoth beginners and experienced quilters are welcome! Quilters Group meets alternating Saturdays at noon at the Pike County Public (Lee Avenue) Library. \nNo registration required.
URL:https://visitpikeville.com/event/quilters-group-5-2-2-2-2-2-2-2-2-2-2-2-2-2/
LOCATION:Pike County Public Library\, 126 Lee Avenue\, Pikeville\, KY\, 41501\, United States
CATEGORIES:Pike County Public Library
ATTACH;FMTTYPE=image/png:https://visitpikeville.com/wp-content/uploads/2025/05/Quilters_GroupEDIT.png
END:VEVENT
BEGIN:VEVENT
DTSTART;TZID=America/Kentucky/Louisville:20251220T130000
DTEND;TZID=America/Kentucky/Louisville:20251220T160000
DTSTAMP:20260422T053002
CREATED:20251201T143511Z
LAST-MODIFIED:20251201T143511Z
UID:71761-1766235600-1766246400@visitpikeville.com
SUMMARY:Christmas at The Library
DESCRIPTION:Celebrate the season with Christmas at the Library! Join us on Friday\, December 20\, from 1:00–4:00 PM at the Pike County Public Library for an afternoon full of holiday cheer.\nKick off the fun on the third floor of the library with a Christmas Magic Show at 1:00\, where you’ll see a magical chimney that suddenly fills up in an instant\, a 10-foot candy cane that appears from thin air\, appearing lights\, stars\, puppets\, songs and much more!\nFrom 2:00-4:00 in the field behind the library you’ll find the Nativity Petting Zoo\, featuring 9 animals\, including goats\, sheep\, an alpaca\, a cow and a miniature donkey\, plus a camel! Hand sanitizer and grain will be available to feed the animals.\nAlso stationed outside is our Holiday Bounce House!\nWhen it’s time to warm up\, head back inside the library to visit the hot cocoa station and listen to the live band\, Coaltown Dixie\, as they conduct a Christmas Sing-Along. And keep your eyes peeled—Santa himself just might make a special appearance!\nThis free family event is presented in partnership with the Pike County Community Early Childhood Council. No registration required.
URL:https://visitpikeville.com/event/christmas-at-the-library/
LOCATION:Pike County Public Library\, 126 Lee Avenue\, Pikeville\, KY\, 41501\, United States
CATEGORIES:Pike County Public Library
ATTACH;FMTTYPE=image/jpeg:https://visitpikeville.com/wp-content/uploads/2025/12/christmas-library.jpg
END:VEVENT
BEGIN:VEVENT
DTSTART;TZID=America/Kentucky/Louisville:20251220T150000
DTEND;TZID=America/Kentucky/Louisville:20251220T170000
DTSTAMP:20260422T053002
CREATED:20251201T164229Z
LAST-MODIFIED:20251201T164229Z
UID:71896-1766242800-1766250000@visitpikeville.com
SUMMARY:Holiday Piano Recital
DESCRIPTION:Join us for an afternoon of holiday music as our library piano students showcase their talents! Enjoy performances from beginners to advanced players in a celebration of learning and creativity.
URL:https://visitpikeville.com/event/holiday-piano-recital-2/
LOCATION:Pike County Public Library\, 126 Lee Avenue\, Pikeville\, KY\, 41501\, United States
CATEGORIES:Pike County Public Library
ATTACH;FMTTYPE=image/png:https://visitpikeville.com/wp-content/uploads/2025/12/Holiday_Piano_Recital_2025.png
END:VEVENT
END:VCALENDAR