BEGIN:VCALENDAR
VERSION:2.0
PRODID:-//Visit Pikeville - ECPv6.15.20//NONSGML v1.0//EN
CALSCALE:GREGORIAN
METHOD:PUBLISH
X-WR-CALNAME:Visit Pikeville
X-ORIGINAL-URL:https://visitpikeville.com
X-WR-CALDESC:Events for Visit Pikeville
REFRESH-INTERVAL;VALUE=DURATION:PT1H
X-Robots-Tag:noindex
X-PUBLISHED-TTL:PT1H
BEGIN:VTIMEZONE
TZID:America/Kentucky/Louisville
BEGIN:DAYLIGHT
TZOFFSETFROM:-0500
TZOFFSETTO:-0400
TZNAME:EDT
DTSTART:20240310T070000
END:DAYLIGHT
BEGIN:STANDARD
TZOFFSETFROM:-0400
TZOFFSETTO:-0500
TZNAME:EST
DTSTART:20241103T060000
END:STANDARD
BEGIN:DAYLIGHT
TZOFFSETFROM:-0500
TZOFFSETTO:-0400
TZNAME:EDT
DTSTART:20250309T070000
END:DAYLIGHT
BEGIN:STANDARD
TZOFFSETFROM:-0400
TZOFFSETTO:-0500
TZNAME:EST
DTSTART:20251102T060000
END:STANDARD
BEGIN:DAYLIGHT
TZOFFSETFROM:-0500
TZOFFSETTO:-0400
TZNAME:EDT
DTSTART:20260308T070000
END:DAYLIGHT
BEGIN:STANDARD
TZOFFSETFROM:-0400
TZOFFSETTO:-0500
TZNAME:EST
DTSTART:20261101T060000
END:STANDARD
END:VTIMEZONE
BEGIN:VEVENT
DTSTART;TZID=America/Kentucky/Louisville:20251204T110000
DTEND;TZID=America/Kentucky/Louisville:20251204T120000
DTSTAMP:20260422T061533
CREATED:20251201T153837Z
LAST-MODIFIED:20251201T153837Z
UID:71822-1764846000-1764849600@visitpikeville.com
SUMMARY:Story Time
DESCRIPTION:Story Time is for children ages 5 and under and features books\, action/movement\, songs\, and a craft. Story Time is held Thursdays at 11:00 and 2:00 and Saturdays at 11:00. \n\n\n\n\n\n\n  \nBesides being fun\, Story Time also helps develop early literacy and school readiness skills through reading\, singing\, listening\, playing\, and social interaction. This program lasts approximately 30 minutes\, and caregivers and children are encouraged to linger in the library afterwards to further socialize and choose books to take home. \n  \nStory Time begins the first week of September and ends the first week of May.
URL:https://visitpikeville.com/event/story-time-2-2-2-2-2-2-2-2-2-2-2-2-2-2-2-2-2-2-2-2-2-2-2-2-2-2-2-2-2-2-2-2-2-2-2-2-2-2-2-2-2-2-2-2-2-2-2-2-2-2-2-2-2-2-2-3-2-2-2-2-2-2-2-2-2-2-2-2-2-2-2-2-2-2-2-2-2-2-2-2-2-2-2-2-2-2-2-2-2-2-2-2-2-40/
LOCATION:Pike County Public Library\, 126 Lee Avenue\, Pikeville\, KY\, 41501\, United States
CATEGORIES:Pike County Public Library
ATTACH;FMTTYPE=image/png:https://visitpikeville.com/wp-content/uploads/2025/10/Story_Time_Schedule_25.png
END:VEVENT
BEGIN:VEVENT
DTSTART;TZID=America/Kentucky/Louisville:20251204T140000
DTEND;TZID=America/Kentucky/Louisville:20251204T150000
DTSTAMP:20260422T061533
CREATED:20251201T154151Z
LAST-MODIFIED:20251201T154151Z
UID:71830-1764856800-1764860400@visitpikeville.com
SUMMARY:Story Time
DESCRIPTION:Story Time is for children ages 5 and under and features books\, action/movement\, songs\, and a craft. Story Time is held Thursdays at 11:00 and 2:00 and Saturdays at 11:00. \n\n\n\n\n\n\n  \nBesides being fun\, Story Time also helps develop early literacy and school readiness skills through reading\, singing\, listening\, playing\, and social interaction. This program lasts approximately 30 minutes\, and caregivers and children are encouraged to linger in the library afterwards to further socialize and choose books to take home. \n  \nStory Time begins the first week of September and ends the first week of May.
URL:https://visitpikeville.com/event/story-time-2-2-2-2-2-2-2-2-2-2-2-2-2-2-2-2-2-2-2-2-2-2-2-2-2-2-2-2-2-2-2-2-2-2-2-2-2-2-2-2-2-2-2-2-2-2-2-2-2-2-2-2-2-2-2-3-2-2-2-2-2-2-2-2-2-2-2-2-2-2-2-2-2-2-2-2-2-2-2-2-2-2-2-2-2-2-2-2-2-2-2-2-2-4-5/
LOCATION:Pike County Public Library\, 126 Lee Avenue\, Pikeville\, KY\, 41501\, United States
CATEGORIES:Pike County Public Library
ATTACH;FMTTYPE=image/png:https://visitpikeville.com/wp-content/uploads/2025/10/Story_Time_Schedule_25.png
END:VEVENT
BEGIN:VEVENT
DTSTART;TZID=America/Kentucky/Louisville:20251204T160000
DTEND;TZID=America/Kentucky/Louisville:20251204T170000
DTSTAMP:20260422T061533
CREATED:20251201T151615Z
LAST-MODIFIED:20251201T151615Z
UID:71804-1764864000-1764867600@visitpikeville.com
SUMMARY:Teen Guitar Class 2
DESCRIPTION:Beginner guitar lessons for patrons ages 13-17. This class meets weekly on Thursdays at 4:00. Please bring your own instrument. Registration required. \n\n\n\n\n\n\n  \nPlease call the library at 606-437-6001 to check availability.
URL:https://visitpikeville.com/event/teen-guitar-class-3-2-2-2-2-2-2-2-2-3-2-2-2-2-2-2-2-2-2-2-2-2-2-2-2-2-2-2/
LOCATION:Pike County Public Library\, 126 Lee Avenue\, Pikeville\, KY\, 41501\, United States
CATEGORIES:Pike County Public Library
ATTACH;FMTTYPE=image/png:https://visitpikeville.com/wp-content/uploads/2025/05/theory.png
END:VEVENT
BEGIN:VEVENT
DTSTART;TZID=America/Kentucky/Louisville:20251204T170000
DTEND;TZID=America/Kentucky/Louisville:20251204T180000
DTSTAMP:20260422T061533
CREATED:20251201T152927Z
LAST-MODIFIED:20251201T152927Z
UID:71812-1764867600-1764871200@visitpikeville.com
SUMMARY:Music Theory for Guitarists
DESCRIPTION:Understanding how music works will give you the tools you need to write riffs\, songs\, and solos\, and learn to improvise in a friendly hands-on environment. \n\n\n\n\n\n\nClass is held weekly at the Pike County Public Library (Lee Ave) every Thursday at 5:00. \nNo previous knowledge of music theory or reading music is necessary\, but this class is for adults and teens who already know how to play a little bit. \nRegistration required. Please call the library to check availability. 606-437-6001.
URL:https://visitpikeville.com/event/music-theory-for-guitarists-6-2-2-2-2-2-2-2-2-2-2-2-2-2-2-2-2/
LOCATION:Pike County Public Library\, 126 Lee Avenue\, Pikeville\, KY\, 41501\, United States
CATEGORIES:Pike County Public Library
ATTACH;FMTTYPE=image/png:https://visitpikeville.com/wp-content/uploads/2025/05/theory.png
END:VEVENT
BEGIN:VEVENT
DTSTART;TZID=America/Kentucky/Louisville:20251204T170000
DTEND;TZID=America/Kentucky/Louisville:20251204T184500
DTSTAMP:20260422T061533
CREATED:20251201T155638Z
LAST-MODIFIED:20251201T155638Z
UID:71854-1764867600-1764873900@visitpikeville.com
SUMMARY:Dungeons and Dragons
DESCRIPTION:Dungeons and Dragons Group meets every other Thursday at 5:00 at the Pike County Public Library (Lee Avenue). Beginners and experienced players alike are welcome. \n\n\n\n\n\n\n  \nDungeons and Dragons is a role playing game (RPG) where a single player plays as the Dungeon Master\, creating a world that the players interact with. Players act as a group of adventurers working together to complete quests\, slay monsters\, and achieve their own personal goals. The game uses a series of dice to help simulate how successful characters and monsters are at achieving their various goals.
URL:https://visitpikeville.com/event/dungeons-and-dragons-7-2-2-2-2-2-2-2-2-2-2/
LOCATION:Pike County Public Library\, 126 Lee Avenue\, Pikeville\, KY\, 41501\, United States
CATEGORIES:Pike County Public Library
ATTACH;FMTTYPE=image/png:https://visitpikeville.com/wp-content/uploads/2025/06/D_D_Group.png
END:VEVENT
BEGIN:VEVENT
DTSTART;TZID=America/Kentucky/Louisville:20251204T170000
DTEND;TZID=America/Kentucky/Louisville:20251204T190000
DTSTAMP:20260422T061533
CREATED:20251201T160846Z
LAST-MODIFIED:20251201T160846Z
UID:71871-1764867600-1764874800@visitpikeville.com
SUMMARY:Yuletide Ukulele Workshop
DESCRIPTION:Strum into the holiday spirit! Learn to play a few easy Christmas songs on the ukulele in this fun\, beginner-friendly workshop. Ukuleles are provided—just come ready to play and enjoy the music!
URL:https://visitpikeville.com/event/yuletide-ukulele-workshop/
LOCATION:Pike County Public Library\, 126 Lee Avenue\, Pikeville\, KY\, 41501\, United States
CATEGORIES:Pike County Public Library
ATTACH;FMTTYPE=image/png:https://visitpikeville.com/wp-content/uploads/2025/12/Yuletide_Ukulele.png
END:VEVENT
END:VCALENDAR