BEGIN:VCALENDAR
VERSION:2.0
PRODID:-//Visit Pikeville - ECPv6.15.20//NONSGML v1.0//EN
CALSCALE:GREGORIAN
METHOD:PUBLISH
X-WR-CALNAME:Visit Pikeville
X-ORIGINAL-URL:https://visitpikeville.com
X-WR-CALDESC:Events for Visit Pikeville
REFRESH-INTERVAL;VALUE=DURATION:PT1H
X-Robots-Tag:noindex
X-PUBLISHED-TTL:PT1H
BEGIN:VTIMEZONE
TZID:America/Kentucky/Louisville
BEGIN:DAYLIGHT
TZOFFSETFROM:-0500
TZOFFSETTO:-0400
TZNAME:EDT
DTSTART:20240310T070000
END:DAYLIGHT
BEGIN:STANDARD
TZOFFSETFROM:-0400
TZOFFSETTO:-0500
TZNAME:EST
DTSTART:20241103T060000
END:STANDARD
BEGIN:DAYLIGHT
TZOFFSETFROM:-0500
TZOFFSETTO:-0400
TZNAME:EDT
DTSTART:20250309T070000
END:DAYLIGHT
BEGIN:STANDARD
TZOFFSETFROM:-0400
TZOFFSETTO:-0500
TZNAME:EST
DTSTART:20251102T060000
END:STANDARD
BEGIN:DAYLIGHT
TZOFFSETFROM:-0500
TZOFFSETTO:-0400
TZNAME:EDT
DTSTART:20260308T070000
END:DAYLIGHT
BEGIN:STANDARD
TZOFFSETFROM:-0400
TZOFFSETTO:-0500
TZNAME:EST
DTSTART:20261101T060000
END:STANDARD
END:VTIMEZONE
BEGIN:VEVENT
DTSTART;TZID=America/Kentucky/Louisville:20250811T140000
DTEND;TZID=America/Kentucky/Louisville:20250811T150000
DTSTAMP:20260424T060221
CREATED:20250811T124034Z
LAST-MODIFIED:20250811T124034Z
UID:66962-1754920800-1754924400@visitpikeville.com
SUMMARY:Music Theory for Homeschoolers
DESCRIPTION:Understanding how music works will give you the tools you need to write riffs\, songs\, and solos\, and learn to improvise in a friendly hands-on environment. \n\n\n\n\n\n\n  \nClass is held every Monday at the Pike County Public Library (Lee Ave) at 2:00. \nNo previous knowledge of music theory or reading music is necessary\, but this class is for students who already know how to play a little bit.
URL:https://visitpikeville.com/event/basic-computer-skills-5-2-2-2-2/
LOCATION:Pike County Public Library\, 126 Lee Avenue\, Pikeville\, KY\, 41501\, United States
CATEGORIES:Pike County Public Library
ATTACH;FMTTYPE=image/png:https://visitpikeville.com/wp-content/uploads/2025/07/GuitarEmblem.png
END:VEVENT
BEGIN:VEVENT
DTSTART;TZID=America/Kentucky/Louisville:20250811T170000
DTEND;TZID=America/Kentucky/Louisville:20250811T171500
DTSTAMP:20260424T060221
CREATED:20250714T145025Z
LAST-MODIFIED:20250714T145025Z
UID:65941-1754931600-1754932500@visitpikeville.com
SUMMARY:How Money Works
DESCRIPTION:Life is full of surprises! To have a great life you have to know how certain things work. Knowing How Money Works is at the top of that list. Without this important life skill\, you can expect your opportunities and potential to be limited. All the dreams you have for yourself require one thing; for you to know How Money Works. Do you know How Money Works?\nIn this free weekly program\, you’ll learn about:\nDebt Management\nCash Flow\nProper Protection\nEmergency Fund\nAsset Accumulation\nEstate Preservation\nMeets every Monday in August at 5:00 at the Pike County Public Library (Lee Avenue). Register here: http://form.jotform.com/hookl…/hmw-event-pikeville-library
URL:https://visitpikeville.com/event/how-money-works-2/
LOCATION:Pike County Public Library\, 126 Lee Avenue\, Pikeville\, KY\, 41501\, United States
CATEGORIES:Pike County Public Library
ATTACH;FMTTYPE=image/jpeg:https://visitpikeville.com/wp-content/uploads/2025/07/money.jpg
END:VEVENT
END:VCALENDAR