BEGIN:VCALENDAR
VERSION:2.0
PRODID:-//Visit Pikeville - ECPv6.15.20//NONSGML v1.0//EN
CALSCALE:GREGORIAN
METHOD:PUBLISH
X-WR-CALNAME:Visit Pikeville
X-ORIGINAL-URL:https://visitpikeville.com
X-WR-CALDESC:Events for Visit Pikeville
REFRESH-INTERVAL;VALUE=DURATION:PT1H
X-Robots-Tag:noindex
X-PUBLISHED-TTL:PT1H
BEGIN:VTIMEZONE
TZID:America/Kentucky/Louisville
BEGIN:DAYLIGHT
TZOFFSETFROM:-0500
TZOFFSETTO:-0400
TZNAME:EDT
DTSTART:20240310T070000
END:DAYLIGHT
BEGIN:STANDARD
TZOFFSETFROM:-0400
TZOFFSETTO:-0500
TZNAME:EST
DTSTART:20241103T060000
END:STANDARD
BEGIN:DAYLIGHT
TZOFFSETFROM:-0500
TZOFFSETTO:-0400
TZNAME:EDT
DTSTART:20250309T070000
END:DAYLIGHT
BEGIN:STANDARD
TZOFFSETFROM:-0400
TZOFFSETTO:-0500
TZNAME:EST
DTSTART:20251102T060000
END:STANDARD
BEGIN:DAYLIGHT
TZOFFSETFROM:-0500
TZOFFSETTO:-0400
TZNAME:EDT
DTSTART:20260308T070000
END:DAYLIGHT
BEGIN:STANDARD
TZOFFSETFROM:-0400
TZOFFSETTO:-0500
TZNAME:EST
DTSTART:20261101T060000
END:STANDARD
END:VTIMEZONE
BEGIN:VEVENT
DTSTART;TZID=America/Kentucky/Louisville:20250805T170000
DTEND;TZID=America/Kentucky/Louisville:20250805T180000
DTSTAMP:20260424T042928
CREATED:20250714T145418Z
LAST-MODIFIED:20250714T145418Z
UID:65949-1754413200-1754416800@visitpikeville.com
SUMMARY:Smokey Bear Visits the Library
DESCRIPTION:Join us for a special story time featuring a visit from Smokey Bear! We’ll hear Smokey’s story and learn how we can help protect our forests and stay safe around fire. Kids will then have a chance to meet Smokey Bear and take photos. A perfect event for little nature lovers and future forest rangers!\nSmokey Bear will be at the following libraries:Pike County Public Library (Lee Ave) – August 5 at 5:00Belfry Public Library – August 7 at 5:00Vesta Roberts Johnson Memorial Library – August 12 at 5:00Elkhorn City Public Library – August 14 at 5:00Phelps Public Library – August 19 at 5:00\nNo registration required.\nPlease note that this event is happening at multiple locations. This event page will only allow one address\, which is to our Pike County Public Library (Lee Avenue) location. For addresses for other branches\, please visit our website at www.informationplace.org or send us a message!
URL:https://visitpikeville.com/event/smokey-bear-visits-the-library-2/
LOCATION:Pike County Public Library\, 126 Lee Avenue\, Pikeville\, KY\, 41501\, United States
CATEGORIES:Pike County Public Library
ATTACH;FMTTYPE=image/jpeg:https://visitpikeville.com/wp-content/uploads/2025/07/SMOKEY.jpg
END:VEVENT
BEGIN:VEVENT
DTSTART;TZID=America/Kentucky/Louisville:20250805T170000
DTEND;TZID=America/Kentucky/Louisville:20250805T180000
DTSTAMP:20260424T042928
CREATED:20250811T124431Z
LAST-MODIFIED:20250811T124431Z
UID:66968-1754413200-1754416800@visitpikeville.com
SUMMARY:Adult Guitar Class
DESCRIPTION:Beginner guitar lessons for patrons ages 18+. This class meets weekly on Tuesdays at 5:00. Please bring your own instrument. Registration required. \n\n\n\n\n\n\n  \nCall the library at 606-437-6001 to check availability.
URL:https://visitpikeville.com/event/adult-guitar-class-4-2-2-2-2-2-2-2-2-2-2/
LOCATION:Pike County Public Library\, 126 Lee Avenue\, Pikeville\, KY\, 41501\, United States
CATEGORIES:Pike County Public Library
ATTACH;FMTTYPE=image/png:https://visitpikeville.com/wp-content/uploads/2025/05/theory.png
END:VEVENT
END:VCALENDAR