BEGIN:VCALENDAR
VERSION:2.0
PRODID:-//Visit Pikeville - ECPv6.15.20//NONSGML v1.0//EN
CALSCALE:GREGORIAN
METHOD:PUBLISH
X-WR-CALNAME:Visit Pikeville
X-ORIGINAL-URL:https://visitpikeville.com
X-WR-CALDESC:Events for Visit Pikeville
REFRESH-INTERVAL;VALUE=DURATION:PT1H
X-Robots-Tag:noindex
X-PUBLISHED-TTL:PT1H
BEGIN:VTIMEZONE
TZID:America/Kentucky/Louisville
BEGIN:DAYLIGHT
TZOFFSETFROM:-0500
TZOFFSETTO:-0400
TZNAME:EDT
DTSTART:20240310T070000
END:DAYLIGHT
BEGIN:STANDARD
TZOFFSETFROM:-0400
TZOFFSETTO:-0500
TZNAME:EST
DTSTART:20241103T060000
END:STANDARD
BEGIN:DAYLIGHT
TZOFFSETFROM:-0500
TZOFFSETTO:-0400
TZNAME:EDT
DTSTART:20250309T070000
END:DAYLIGHT
BEGIN:STANDARD
TZOFFSETFROM:-0400
TZOFFSETTO:-0500
TZNAME:EST
DTSTART:20251102T060000
END:STANDARD
BEGIN:DAYLIGHT
TZOFFSETFROM:-0500
TZOFFSETTO:-0400
TZNAME:EDT
DTSTART:20260308T070000
END:DAYLIGHT
BEGIN:STANDARD
TZOFFSETFROM:-0400
TZOFFSETTO:-0500
TZNAME:EST
DTSTART:20261101T060000
END:STANDARD
END:VTIMEZONE
BEGIN:VEVENT
DTSTART;TZID=America/Kentucky/Louisville:20250728T140000
DTEND;TZID=America/Kentucky/Louisville:20250728T150000
DTSTAMP:20260424T060201
CREATED:20250721T122420Z
LAST-MODIFIED:20250721T122420Z
UID:66210-1753711200-1753714800@visitpikeville.com
SUMMARY:Music Theory for Homeschoolers
DESCRIPTION:Understanding how music works will give you the tools you need to write riffs\, songs\, and solos\, and learn to improvise in a friendly hands-on environment. \n\n\n\n\n\n\n  \nClass is held every Monday at the Pike County Public Library (Lee Ave) at 2:00. \nNo previous knowledge of music theory or reading music is necessary\, but this class is for students who already know how to play a little bit.
URL:https://visitpikeville.com/event/basic-computer-skills-5-2-2-2/
LOCATION:Pike County Public Library\, 126 Lee Avenue\, Pikeville\, KY\, 41501\, United States
CATEGORIES:Pike County Public Library
ATTACH;FMTTYPE=image/png:https://visitpikeville.com/wp-content/uploads/2025/07/GuitarEmblem.png
END:VEVENT
BEGIN:VEVENT
DTSTART;TZID=America/Kentucky/Louisville:20250728T170000
DTEND;TZID=America/Kentucky/Louisville:20250728T180000
DTSTAMP:20260424T060201
CREATED:20250512T185415Z
LAST-MODIFIED:20250512T185415Z
UID:64526-1753722000-1753725600@visitpikeville.com
SUMMARY:Summer Yoga Class
DESCRIPTION:Join us for a basic yoga class in June and July\, every Monday at 5:00! Bring a mat if you have one\, but they are not required. For adult patrons age 18 or older.\nParticipants must sign a liability waiver.
URL:https://visitpikeville.com/event/summer-yoga-class-3-2-2-2-2-2-2-2-2/
LOCATION:Pike County Public Library\, 126 Lee Avenue\, Pikeville\, KY\, 41501\, United States
CATEGORIES:Pike County Public Library
ATTACH;FMTTYPE=image/jpeg:https://visitpikeville.com/wp-content/uploads/2025/05/summer-yoga.jpg
END:VEVENT
END:VCALENDAR