BEGIN:VCALENDAR
VERSION:2.0
PRODID:-//Visit Pikeville - ECPv6.15.20//NONSGML v1.0//EN
CALSCALE:GREGORIAN
METHOD:PUBLISH
X-WR-CALNAME:Visit Pikeville
X-ORIGINAL-URL:https://visitpikeville.com
X-WR-CALDESC:Events for Visit Pikeville
REFRESH-INTERVAL;VALUE=DURATION:PT1H
X-Robots-Tag:noindex
X-PUBLISHED-TTL:PT1H
BEGIN:VTIMEZONE
TZID:America/Kentucky/Louisville
BEGIN:DAYLIGHT
TZOFFSETFROM:-0500
TZOFFSETTO:-0400
TZNAME:EDT
DTSTART:20240310T070000
END:DAYLIGHT
BEGIN:STANDARD
TZOFFSETFROM:-0400
TZOFFSETTO:-0500
TZNAME:EST
DTSTART:20241103T060000
END:STANDARD
BEGIN:DAYLIGHT
TZOFFSETFROM:-0500
TZOFFSETTO:-0400
TZNAME:EDT
DTSTART:20250309T070000
END:DAYLIGHT
BEGIN:STANDARD
TZOFFSETFROM:-0400
TZOFFSETTO:-0500
TZNAME:EST
DTSTART:20251102T060000
END:STANDARD
BEGIN:DAYLIGHT
TZOFFSETFROM:-0500
TZOFFSETTO:-0400
TZNAME:EDT
DTSTART:20260308T070000
END:DAYLIGHT
BEGIN:STANDARD
TZOFFSETFROM:-0400
TZOFFSETTO:-0500
TZNAME:EST
DTSTART:20261101T060000
END:STANDARD
END:VTIMEZONE
BEGIN:VEVENT
DTSTART;TZID=America/Kentucky/Louisville:20251015T123000
DTEND;TZID=America/Kentucky/Louisville:20251015T163000
DTSTAMP:20260421T192711
CREATED:20250929T135517Z
LAST-MODIFIED:20250929T135517Z
UID:69021-1760531400-1760545800@visitpikeville.com
SUMMARY:CPR Training
DESCRIPTION:Hands on Training
URL:https://visitpikeville.com/event/cpr-training-3/
LOCATION:Pike County Health Department\, 119 River Drive\,\, Pikeville\, KY\, 41501\, United States
CATEGORIES:Pike County Health Department
ATTACH;FMTTYPE=image/jpeg:https://visitpikeville.com/wp-content/uploads/2025/09/cpr.jpg
END:VEVENT
BEGIN:VEVENT
DTSTART;TZID=America/Kentucky/Louisville:20250930T130000
DTEND;TZID=America/Kentucky/Louisville:20250930T160000
DTSTAMP:20260421T192711
CREATED:20250929T135243Z
LAST-MODIFIED:20250929T135243Z
UID:69018-1759237200-1759248000@visitpikeville.com
SUMMARY:Car Seat Safety Check Up Event!
DESCRIPTION:Certified technicians will be on-site to inspect your car seat\, ensure it’s installed properly\, and answer any safety questions — for FREE!l
URL:https://visitpikeville.com/event/car-seat-safety-check-up-event/
LOCATION:Pikeville Walmart Supercenter\, 254 Cassady Blvd\,\, Pikeville\, KY\, 41501\, United States
CATEGORIES:Pike County Health Department
ATTACH;FMTTYPE=image/jpeg:https://visitpikeville.com/wp-content/uploads/2025/09/car.jpg
END:VEVENT
BEGIN:VEVENT
DTSTART;TZID=America/Kentucky/Louisville:20250925T130000
DTEND;TZID=America/Kentucky/Louisville:20250925T160000
DTSTAMP:20260421T192711
CREATED:20250915T133720Z
LAST-MODIFIED:20250915T133720Z
UID:68472-1758805200-1758816000@visitpikeville.com
SUMMARY:Child Safety Seat Check
DESCRIPTION:@Pikeville Walmart
URL:https://visitpikeville.com/event/child-safety-seat-check-2/
LOCATION:Pikeville Walmart Supercenter\, 254 Cassady Blvd\,\, Pikeville\, KY\, 41501\, United States
CATEGORIES:Pike County Health Department
ATTACH;FMTTYPE=image/jpeg:https://visitpikeville.com/wp-content/uploads/2025/09/seat.jpg
END:VEVENT
BEGIN:VEVENT
DTSTART;TZID=America/Kentucky/Louisville:20250917T130000
DTEND;TZID=America/Kentucky/Louisville:20250917T150000
DTSTAMP:20260421T192711
CREATED:20250915T134026Z
LAST-MODIFIED:20250915T134026Z
UID:68475-1758114000-1758121200@visitpikeville.com
SUMMARY:Community Baby Shower
DESCRIPTION:Hosted by KY-Moms MATR & Pike County Health Department Hands
URL:https://visitpikeville.com/event/community-baby-shower-2/
LOCATION:Pikeville YMCA\, 424 Bob Amos Dr\,\, Pikeville\, Ky\, 41501
CATEGORIES:Pike County Health Department
ATTACH;FMTTYPE=image/jpeg:https://visitpikeville.com/wp-content/uploads/2025/09/baby-shower.jpg
END:VEVENT
BEGIN:VEVENT
DTSTART;TZID=America/Kentucky/Louisville:20250916T130000
DTEND;TZID=America/Kentucky/Louisville:20250916T170000
DTSTAMP:20260421T192711
CREATED:20250811T120848Z
LAST-MODIFIED:20250811T120848Z
UID:66946-1758027600-1758042000@visitpikeville.com
SUMMARY:CPR Training
DESCRIPTION:Learn life-saving skills from certified instructors & earn your 2-year certification through the American Heart Association! Call 606-509-5500 for more information.
URL:https://visitpikeville.com/event/cpr-training-2-2/
LOCATION:Pike County Health Department\, 119 River Drive\,\, Pikeville\, KY\, 41501\, United States
CATEGORIES:Pike County Health Department
ATTACH;FMTTYPE=image/jpeg:https://visitpikeville.com/wp-content/uploads/2025/08/cpr.jpg
END:VEVENT
BEGIN:VEVENT
DTSTART;TZID=America/Kentucky/Louisville:20250916T080000
DTEND;TZID=America/Kentucky/Louisville:20250916T170000
DTSTAMP:20260421T192711
CREATED:20250902T132455Z
LAST-MODIFIED:20250902T132455Z
UID:67756-1758009600-1758042000@visitpikeville.com
SUMMARY:Monthly Support Group for Grieving Parents
DESCRIPTION:Third Tuesday of every month
URL:https://visitpikeville.com/event/monthly-support-group-for-grieving-parents/
LOCATION:Pike County Health Department\, 119 River Drive\,\, Pikeville\, KY\, 41501\, United States
CATEGORIES:Pike County Health Department
ATTACH;FMTTYPE=image/jpeg:https://visitpikeville.com/wp-content/uploads/2025/09/support-group.jpg
END:VEVENT
BEGIN:VEVENT
DTSTART;TZID=America/Kentucky/Louisville:20250908T170000
DTEND;TZID=America/Kentucky/Louisville:20250908T210000
DTSTAMP:20260421T192711
CREATED:20250811T120712Z
LAST-MODIFIED:20250811T120712Z
UID:66944-1757350800-1757365200@visitpikeville.com
SUMMARY:CPR Training
DESCRIPTION:Learn life-saving skills from certified instructors & earn your 2-year certification through the American Heart Association! Call 606-509-5500 for more information.
URL:https://visitpikeville.com/event/cpr-training-2/
LOCATION:Pike County Health Department\, 119 River Drive\,\, Pikeville\, KY\, 41501\, United States
CATEGORIES:Pike County Health Department
ATTACH;FMTTYPE=image/jpeg:https://visitpikeville.com/wp-content/uploads/2025/08/cpr.jpg
END:VEVENT
BEGIN:VEVENT
DTSTART;TZID=America/Kentucky/Louisville:20250904T180000
DTEND;TZID=America/Kentucky/Louisville:20250904T200000
DTSTAMP:20260421T192711
CREATED:20250902T132206Z
LAST-MODIFIED:20250902T132206Z
UID:67753-1757008800-1757016000@visitpikeville.com
SUMMARY:Casey's Law Workshop
DESCRIPTION:Do you have a loved one struggling with substance use disorder? Join us Thursday\, September 4 at 6 p.m. for an interactive workshop providing education on Casey’s Law and a guided walk through of the petition process. Resources will be available for families and loved ones at no cost.
URL:https://visitpikeville.com/event/caseys-law-workshop/
LOCATION:Pike County Health Department\, 119 River Drive\,\, Pikeville\, KY\, 41501\, United States
CATEGORIES:Pike County Health Department
ATTACH;FMTTYPE=image/jpeg:https://visitpikeville.com/wp-content/uploads/2025/09/health.jpeg
END:VEVENT
BEGIN:VEVENT
DTSTART;TZID=America/Kentucky/Louisville:20250904T090000
DTEND;TZID=America/Kentucky/Louisville:20250904T130000
DTSTAMP:20260421T192711
CREATED:20250811T120453Z
LAST-MODIFIED:20250811T120453Z
UID:66941-1756976400-1756990800@visitpikeville.com
SUMMARY:CPR Training
DESCRIPTION:Learn life-saving skills from certified instructors & earn your 2-year certification through the American Heart Association! Call 606-509-5500 for more information.
URL:https://visitpikeville.com/event/cpr-training/
LOCATION:Pike County Health Department\, 119 River Drive\,\, Pikeville\, KY\, 41501\, United States
CATEGORIES:Pike County Health Department
ATTACH;FMTTYPE=image/jpeg:https://visitpikeville.com/wp-content/uploads/2025/08/cpr.jpg
END:VEVENT
BEGIN:VEVENT
DTSTART;VALUE=DATE:20250731
DTEND;VALUE=DATE:20250801
DTSTAMP:20260421T192711
CREATED:20250630T132651Z
LAST-MODIFIED:20250630T132651Z
UID:65331-1753920000-1754006399@visitpikeville.com
SUMMARY:Public Health Poster Contest!
DESCRIPTION:Attention all Pike County students! \n\n\nThe Pike County Health Department invites all K–12 students in Pike County Schools\, including Pikeville Independent Schools\, to take part in this year’s Public Health Poster Contest! Showcase your creativity for a chance to win a $100 gift card and have your artwork featured across local media platforms including the digital billboard by Walmart.\n\n\nSubmissions are due July 21st\nWinners will be announced July 30th\nPosters can be dropped off at either Pike County Health Department location in Pikeville or Belfry.\n\n\n Don’t forget to include your name\, school\, grade\, and phone number on the back of your poster.\nFor more information\, call us at 606-509-5500 \nLet’s see your creativity shine\, Pike County!
URL:https://visitpikeville.com/event/public-health-poster-contest/
LOCATION:Pike County Health Department\, 119 River Drive\,\, Pikeville\, KY\, 41501\, United States
CATEGORIES:Pike County Health Department
ATTACH;FMTTYPE=image/jpeg:https://visitpikeville.com/wp-content/uploads/2025/06/poster.jpg
END:VEVENT
BEGIN:VEVENT
DTSTART;TZID=America/Kentucky/Louisville:20250724T110000
DTEND;TZID=America/Kentucky/Louisville:20250724T150000
DTSTAMP:20260421T192711
CREATED:20250609T142815Z
LAST-MODIFIED:20250609T142815Z
UID:65137-1753354800-1753369200@visitpikeville.com
SUMMARY:BEARS Immunization Station
DESCRIPTION:Want to get $50 gift cards AND get your child’s vaccines up to date? Want a chance to win a PS5 or need some school supplies? Come to the BEARS Immunization Station at the YMCA on Thursday\, July 24th from 11 AM – 3 PM!! Vaccines are FREE.
URL:https://visitpikeville.com/event/bears-immunization-station/
LOCATION:Pikeville YMCA\, 424 Bob Amos Dr\,\, Pikeville\, Ky\, 41501
CATEGORIES:Pike County Health Department,UPike
ATTACH;FMTTYPE=image/jpeg:https://visitpikeville.com/wp-content/uploads/2025/06/immunizations.jpg
END:VEVENT
BEGIN:VEVENT
DTSTART;TZID=America/Kentucky/Louisville:20250722T180000
DTEND;TZID=America/Kentucky/Louisville:20250722T200000
DTSTAMP:20260421T192711
CREATED:20250721T120333Z
LAST-MODIFIED:20250721T120333Z
UID:66188-1753207200-1753214400@visitpikeville.com
SUMMARY:Support Group for Grieving Parents
DESCRIPTION:Due to scheduling conflicts\, Willow’s Friends will hold their July meeting on the fourth Tuesday\, July 22nd\, from 6:00 p.m. to 8:00 p.m. Virtual options are available. Please call 606-509-5500 for more information.
URL:https://visitpikeville.com/event/support-group-for-grieving-parents-3/
LOCATION:Pike County Health Department\, 119 River Drive\,\, Pikeville\, KY\, 41501\, United States
CATEGORIES:Pike County Health Department
ATTACH;FMTTYPE=image/jpeg:https://visitpikeville.com/wp-content/uploads/2025/07/grieving.jpg
END:VEVENT
BEGIN:VEVENT
DTSTART;TZID=America/Kentucky/Louisville:20250619T103000
DTEND;TZID=America/Kentucky/Louisville:20250619T153000
DTSTAMP:20260421T192711
CREATED:20250609T141816Z
LAST-MODIFIED:20250609T141816Z
UID:65134-1750329000-1750347000@visitpikeville.com
SUMMARY:Last Will & Testament
DESCRIPTION:@ Pike County Health Department
URL:https://visitpikeville.com/event/last-will-testament/
LOCATION:Pike County Health Department\, 119 River Drive\,\, Pikeville\, KY\, 41501\, United States
CATEGORIES:Pike County Health Department
ATTACH;FMTTYPE=image/jpeg:https://visitpikeville.com/wp-content/uploads/2025/06/testament.jpg
END:VEVENT
BEGIN:VEVENT
DTSTART;TZID=America/Kentucky/Louisville:20250520T180000
DTEND;TZID=America/Kentucky/Louisville:20250520T200000
DTSTAMP:20260421T192711
CREATED:20250519T141004Z
LAST-MODIFIED:20250519T141004Z
UID:64663-1747764000-1747771200@visitpikeville.com
SUMMARY:Diabetes Prevention Program
DESCRIPTION:Our Diabetes Prevention Program starts May 20\, 2025\, at 6:00 PM at the Pike County Health Department. This free program provides coaching\, support\, and tools to help you build a healthier lifestyle. Call 606-509-5500 today for more information.
URL:https://visitpikeville.com/event/diabetes-prevention-program/
LOCATION:Pike County Health Department\, 119 River Drive\,\, Pikeville\, KY\, 41501\, United States
CATEGORIES:Pike County Health Department
ATTACH;FMTTYPE=image/jpeg:https://visitpikeville.com/wp-content/uploads/2025/05/diabetes-program.jpg
END:VEVENT
BEGIN:VEVENT
DTSTART;TZID=America/Kentucky/Louisville:20250520T180000
DTEND;TZID=America/Kentucky/Louisville:20250520T200000
DTSTAMP:20260421T192711
CREATED:20250505T142817Z
LAST-MODIFIED:20250505T142817Z
UID:64181-1747764000-1747771200@visitpikeville.com
SUMMARY:Support group for Grieving Parents
DESCRIPTION:Join us for our monthly session of Willow’s Friends at 6pm. Virtual options are available.
URL:https://visitpikeville.com/event/support-group-for-grieving-parents-2/
LOCATION:Pike County Health Department\, 119 River Drive\,\, Pikeville\, KY\, 41501\, United States
CATEGORIES:Pike County Health Department
ATTACH;FMTTYPE=image/jpeg:https://visitpikeville.com/wp-content/uploads/2025/05/grieving-parents.jpg
END:VEVENT
BEGIN:VEVENT
DTSTART;TZID=America/Kentucky/Louisville:20250417T180000
DTEND;TZID=America/Kentucky/Louisville:20250417T200000
DTSTAMP:20260421T192711
CREATED:20250331T133656Z
LAST-MODIFIED:20250331T133656Z
UID:63710-1744912800-1744920000@visitpikeville.com
SUMMARY:Support Group for Grieving Parents
DESCRIPTION:Please join us for Willow’s Friends\, our monthly support group for grieving parents\, from 6pm-8pm.
URL:https://visitpikeville.com/event/support-group-for-grieving-parents/
LOCATION:Pike County Health Department\, 119 River Drive\,\, Pikeville\, KY\, 41501\, United States
CATEGORIES:Pike County Health Department
ATTACH;FMTTYPE=image/jpeg:https://visitpikeville.com/wp-content/uploads/2025/03/GRIEVING.jpg
END:VEVENT
BEGIN:VEVENT
DTSTART;TZID=America/Kentucky/Louisville:20250409T180000
DTEND;TZID=America/Kentucky/Louisville:20250409T190000
DTSTAMP:20260421T192711
CREATED:20250331T133417Z
LAST-MODIFIED:20250331T133417Z
UID:63706-1744221600-1744225200@visitpikeville.com
SUMMARY:Youth Nicotine Cessation Program
DESCRIPTION:If you have a teen who needs help quitting smoking or vaping\, we’re here to support them! Now offering youth vaping cessation classes at the Pike County Health Department. Classes begin April 9th at 6:00 p.m. Call 606-509-5500 and ask for Julie Chaney\, Tobacco Coordinator\, to register.
URL:https://visitpikeville.com/event/youth-nicotine-cessation-program/
LOCATION:Pike County Health Department\, 119 River Drive\,\, Pikeville\, KY\, 41501\, United States
CATEGORIES:Pike County Health Department
ATTACH;FMTTYPE=image/jpeg:https://visitpikeville.com/wp-content/uploads/2025/03/youth-nicotine.jpg
END:VEVENT
BEGIN:VEVENT
DTSTART;TZID=America/Kentucky/Louisville:20250327T150000
DTEND;TZID=America/Kentucky/Louisville:20250327T160000
DTSTAMP:20260421T192711
CREATED:20250303T152630Z
LAST-MODIFIED:20250303T152630Z
UID:63241-1743087600-1743091200@visitpikeville.com
SUMMARY:Kids Guitar Class B
DESCRIPTION:Beginner guitar lessons for children ages 8-12. This class will be for 8 weeks\, meeting weekly in March and April. Please bring your own instrument. Registration required. \n\n\n\n\n\n\n  \nMeets every Thursday at 3:00 March 6 – April 24.
URL:https://visitpikeville.com/event/kids-guitar-class-b-2-2-2/
LOCATION:Pike County Public Library\, 126 Lee Avenue\, Pikeville\, KY\, 41501\, United States
CATEGORIES:Pike County Health Department
ATTACH;FMTTYPE=image/png:https://visitpikeville.com/wp-content/uploads/2025/03/kids-guitar-b.png
END:VEVENT
BEGIN:VEVENT
DTSTART;TZID=America/Kentucky/Louisville:20250325T170000
DTEND;TZID=America/Kentucky/Louisville:20250325T180000
DTSTAMP:20260421T192711
CREATED:20250303T151151Z
LAST-MODIFIED:20250303T151151Z
UID:63210-1742922000-1742925600@visitpikeville.com
SUMMARY:Adult Guitar Class
DESCRIPTION:Beginner guitar lessons for patrons ages 18+. This class will be for 8 weeks\, meeting weekly in February and March. Please bring your own instrument. Registration required. \n\n\n\n\n\n\n  \nMeets every Tuesday at 5:00 Feb 4 – March 25.
URL:https://visitpikeville.com/event/adult-guitar-class-3-2-2-2/
LOCATION:Pike County Public Library\, 126 Lee Avenue\, Pikeville\, KY\, 41501\, United States
CATEGORIES:Pike County Health Department
ATTACH;FMTTYPE=image/png:https://visitpikeville.com/wp-content/uploads/2025/03/Beginner_Guitar_Classes.png
END:VEVENT
BEGIN:VEVENT
DTSTART;TZID=America/Kentucky/Louisville:20250320T150000
DTEND;TZID=America/Kentucky/Louisville:20250320T160000
DTSTAMP:20260421T192711
CREATED:20250303T152553Z
LAST-MODIFIED:20250303T152553Z
UID:63239-1742482800-1742486400@visitpikeville.com
SUMMARY:Kids Guitar Class B
DESCRIPTION:Beginner guitar lessons for children ages 8-12. This class will be for 8 weeks\, meeting weekly in March and April. Please bring your own instrument. Registration required. \n\n\n\n\n\n\n  \nMeets every Thursday at 3:00 March 6 – April 24.
URL:https://visitpikeville.com/event/kids-guitar-class-b-2-2/
LOCATION:Pike County Public Library\, 126 Lee Avenue\, Pikeville\, KY\, 41501\, United States
CATEGORIES:Pike County Health Department
ATTACH;FMTTYPE=image/png:https://visitpikeville.com/wp-content/uploads/2025/03/kids-guitar-b.png
END:VEVENT
BEGIN:VEVENT
DTSTART;TZID=America/Kentucky/Louisville:20250319T090000
DTEND;TZID=America/Kentucky/Louisville:20250319T100000
DTSTAMP:20260421T192711
CREATED:20250113T133629Z
LAST-MODIFIED:20250113T133629Z
UID:61978-1742374800-1742378400@visitpikeville.com
SUMMARY:Septic Installer Classes
DESCRIPTION:For more information call: 606-437-5500
URL:https://visitpikeville.com/event/septic-installer-classes-2-2/
LOCATION:Pike County Health Department\, 119 River Drive\,\, Pikeville\, KY\, 41501\, United States
CATEGORIES:Pike County Health Department
ATTACH;FMTTYPE=image/jpeg:https://visitpikeville.com/wp-content/uploads/2025/01/septic.jpg
END:VEVENT
BEGIN:VEVENT
DTSTART;TZID=America/Kentucky/Louisville:20250318T170000
DTEND;TZID=America/Kentucky/Louisville:20250318T180000
DTSTAMP:20260421T192711
CREATED:20250303T151127Z
LAST-MODIFIED:20250303T151127Z
UID:63208-1742317200-1742320800@visitpikeville.com
SUMMARY:Adult Guitar Class
DESCRIPTION:Beginner guitar lessons for patrons ages 18+. This class will be for 8 weeks\, meeting weekly in February and March. Please bring your own instrument. Registration required. \n\n\n\n\n\n\n  \nMeets every Tuesday at 5:00 Feb 4 – March 25.
URL:https://visitpikeville.com/event/adult-guitar-class-3-2-2/
LOCATION:Pike County Public Library\, 126 Lee Avenue\, Pikeville\, KY\, 41501\, United States
CATEGORIES:Pike County Health Department
ATTACH;FMTTYPE=image/png:https://visitpikeville.com/wp-content/uploads/2025/03/Beginner_Guitar_Classes.png
END:VEVENT
BEGIN:VEVENT
DTSTART;TZID=America/Kentucky/Louisville:20250313T150000
DTEND;TZID=America/Kentucky/Louisville:20250313T160000
DTSTAMP:20260421T192711
CREATED:20250303T152514Z
LAST-MODIFIED:20250303T152514Z
UID:63237-1741878000-1741881600@visitpikeville.com
SUMMARY:Kids Guitar Class B
DESCRIPTION:Beginner guitar lessons for children ages 8-12. This class will be for 8 weeks\, meeting weekly in March and April. Please bring your own instrument. Registration required. \n\n\n\n\n\n\n  \nMeets every Thursday at 3:00 March 6 – April 24.
URL:https://visitpikeville.com/event/kids-guitar-class-b-2/
LOCATION:Pike County Public Library\, 126 Lee Avenue\, Pikeville\, KY\, 41501\, United States
CATEGORIES:Pike County Health Department
ATTACH;FMTTYPE=image/png:https://visitpikeville.com/wp-content/uploads/2025/03/kids-guitar-b.png
END:VEVENT
BEGIN:VEVENT
DTSTART;TZID=America/Kentucky/Louisville:20250311T170000
DTEND;TZID=America/Kentucky/Louisville:20250311T180000
DTSTAMP:20260421T192711
CREATED:20250303T151059Z
LAST-MODIFIED:20250303T151059Z
UID:63206-1741712400-1741716000@visitpikeville.com
SUMMARY:Adult Guitar Class
DESCRIPTION:Beginner guitar lessons for patrons ages 18+. This class will be for 8 weeks\, meeting weekly in February and March. Please bring your own instrument. Registration required. \n\n\n\n\n\n\n  \nMeets every Tuesday at 5:00 Feb 4 – March 25.
URL:https://visitpikeville.com/event/adult-guitar-class-3-2/
LOCATION:Pike County Public Library\, 126 Lee Avenue\, Pikeville\, KY\, 41501\, United States
CATEGORIES:Pike County Health Department
ATTACH;FMTTYPE=image/png:https://visitpikeville.com/wp-content/uploads/2025/03/Beginner_Guitar_Classes.png
END:VEVENT
BEGIN:VEVENT
DTSTART;TZID=America/Kentucky/Louisville:20250307T080000
DTEND;TZID=America/Kentucky/Louisville:20250310T163000
DTSTAMP:20260421T192711
CREATED:20250303T142801Z
LAST-MODIFIED:20250303T142801Z
UID:63150-1741334400-1741624200@visitpikeville.com
SUMMARY:Extended Hours
DESCRIPTION:The Pike County Health Department locations\, Pikeville and Belfry\, will have extended hours through March 7th for vaccination services. Belfry location will also provide services tomorrow\, February 27\, 2025\, from 9:00 am to 4:00 pm.
URL:https://visitpikeville.com/event/extended-hours-2/
LOCATION:Pike County Health Department\, 119 River Drive\,\, Pikeville\, KY\, 41501\, United States
CATEGORIES:Pike County Health Department
ATTACH;FMTTYPE=image/jpeg:https://visitpikeville.com/wp-content/uploads/2025/03/EXTENDED.jpg
END:VEVENT
BEGIN:VEVENT
DTSTART;TZID=America/Kentucky/Louisville:20250306T150000
DTEND;TZID=America/Kentucky/Louisville:20250306T160000
DTSTAMP:20260421T192711
CREATED:20250303T152441Z
LAST-MODIFIED:20250303T152441Z
UID:63234-1741273200-1741276800@visitpikeville.com
SUMMARY:Kids Guitar Class B
DESCRIPTION:Beginner guitar lessons for children ages 8-12. This class will be for 8 weeks\, meeting weekly in March and April. Please bring your own instrument. Registration required. \n\n\n\n\n\n\n  \nMeets every Thursday at 3:00 March 6 – April 24.
URL:https://visitpikeville.com/event/kids-guitar-class-b/
LOCATION:Pike County Public Library\, 126 Lee Avenue\, Pikeville\, KY\, 41501\, United States
CATEGORIES:Pike County Health Department
ATTACH;FMTTYPE=image/png:https://visitpikeville.com/wp-content/uploads/2025/03/kids-guitar-b.png
END:VEVENT
BEGIN:VEVENT
DTSTART;TZID=America/Kentucky/Louisville:20250304T170000
DTEND;TZID=America/Kentucky/Louisville:20250304T180000
DTSTAMP:20260421T192711
CREATED:20250303T151030Z
LAST-MODIFIED:20250303T151030Z
UID:63203-1741107600-1741111200@visitpikeville.com
SUMMARY:Adult Guitar Class
DESCRIPTION:Beginner guitar lessons for patrons ages 18+. This class will be for 8 weeks\, meeting weekly in February and March. Please bring your own instrument. Registration required. \n\n\n\n\n\n\n  \nMeets every Tuesday at 5:00 Feb 4 – March 25.
URL:https://visitpikeville.com/event/adult-guitar-class-3/
LOCATION:Pike County Public Library\, 126 Lee Avenue\, Pikeville\, KY\, 41501\, United States
CATEGORIES:Pike County Health Department
ATTACH;FMTTYPE=image/png:https://visitpikeville.com/wp-content/uploads/2025/03/Beginner_Guitar_Classes.png
END:VEVENT
BEGIN:VEVENT
DTSTART;TZID=America/Kentucky/Louisville:20250304T103000
DTEND;TZID=America/Kentucky/Louisville:20250304T113000
DTSTAMP:20260421T192711
CREATED:20250303T150210Z
LAST-MODIFIED:20250303T150210Z
UID:63188-1741084200-1741087800@visitpikeville.com
SUMMARY:Smartphone Basics
DESCRIPTION:Join us for a hands-on class designed to help patrons learn how to use their cell phones with confidence! We’ll cover the basics\, as well as explore using apps and adjusting settings. \n\n\n\n\n\n\n  \nBring your phone and your questions—our friendly staff will guide you every step of the way.
URL:https://visitpikeville.com/event/smartphone-basics/
LOCATION:Pike County Public Library\, 126 Lee Avenue\, Pikeville\, KY\, 41501\, United States
CATEGORIES:Pike County Health Department
END:VEVENT
BEGIN:VEVENT
DTSTART;TZID=America/Kentucky/Louisville:20250303T114500
DTEND;TZID=America/Kentucky/Louisville:20250303T153000
DTSTAMP:20260421T192711
CREATED:20250303T142256Z
LAST-MODIFIED:20250303T142314Z
UID:63143-1741002300-1741015800@visitpikeville.com
SUMMARY:Replacing Vital Records Certificates
DESCRIPTION:The Office of Vital Statistics will be on site at two of the Disaster Recovery Centers in Pike County starting next week to assist those who lost important identification documents during the flood event.\n\n\nIf you have additional questions or need assistance\, you can call the health department at 606-509-5500.
URL:https://visitpikeville.com/event/replacing-vital-records-certificates/
LOCATION:Pike County Public Library\, 126 Lee Avenue\, Pikeville\, KY\, 41501\, United States
CATEGORIES:Pike County Health Department,Pike County Public Library
ATTACH;FMTTYPE=image/jpeg:https://visitpikeville.com/wp-content/uploads/2025/03/certificates.jpg
END:VEVENT
BEGIN:VEVENT
DTSTART;TZID=America/Kentucky/Louisville:20250303T080000
DTEND;TZID=America/Kentucky/Louisville:20250306T190000
DTSTAMP:20260421T192711
CREATED:20250303T142715Z
LAST-MODIFIED:20250303T142715Z
UID:63147-1740988800-1741287600@visitpikeville.com
SUMMARY:Extended Hours
DESCRIPTION:The Pike County Health Department locations\, Pikeville and Belfry\, will have extended hours through March 7th for vaccination services. Belfry location will also provide services tomorrow\, February 27\, 2025\, from 9:00 am to 4:00 pm.
URL:https://visitpikeville.com/event/extended-hours/
LOCATION:Pike County Health Department\, 119 River Drive\,\, Pikeville\, KY\, 41501\, United States
CATEGORIES:Pike County Health Department
ATTACH;FMTTYPE=image/jpeg:https://visitpikeville.com/wp-content/uploads/2025/03/EXTENDED.jpg
END:VEVENT
END:VCALENDAR