BEGIN:VCALENDAR
VERSION:2.0
PRODID:-//Visit Pikeville - ECPv6.15.20//NONSGML v1.0//EN
CALSCALE:GREGORIAN
METHOD:PUBLISH
X-ORIGINAL-URL:https://visitpikeville.com
X-WR-CALDESC:Events for Visit Pikeville
REFRESH-INTERVAL;VALUE=DURATION:PT1H
X-Robots-Tag:noindex
X-PUBLISHED-TTL:PT1H
BEGIN:VTIMEZONE
TZID:America/Kentucky/Louisville
BEGIN:DAYLIGHT
TZOFFSETFROM:-0500
TZOFFSETTO:-0400
TZNAME:EDT
DTSTART:20250309T070000
END:DAYLIGHT
BEGIN:STANDARD
TZOFFSETFROM:-0400
TZOFFSETTO:-0500
TZNAME:EST
DTSTART:20251102T060000
END:STANDARD
BEGIN:DAYLIGHT
TZOFFSETFROM:-0500
TZOFFSETTO:-0400
TZNAME:EDT
DTSTART:20260308T070000
END:DAYLIGHT
BEGIN:STANDARD
TZOFFSETFROM:-0400
TZOFFSETTO:-0500
TZNAME:EST
DTSTART:20261101T060000
END:STANDARD
BEGIN:DAYLIGHT
TZOFFSETFROM:-0500
TZOFFSETTO:-0400
TZNAME:EDT
DTSTART:20270314T070000
END:DAYLIGHT
BEGIN:STANDARD
TZOFFSETFROM:-0400
TZOFFSETTO:-0500
TZNAME:EST
DTSTART:20271107T060000
END:STANDARD
END:VTIMEZONE
BEGIN:VEVENT
DTSTART;TZID=America/Kentucky/Louisville:20260204T090000
DTEND;TZID=America/Kentucky/Louisville:20260204T100000
DTSTAMP:20260422T180755
CREATED:20260203T155023Z
LAST-MODIFIED:20260203T155023Z
UID:72850-1770195600-1770199200@visitpikeville.com
SUMMARY:Food Handlers Class
DESCRIPTION:February 4th @9:00am
URL:https://visitpikeville.com/event/food-handlers-class-2/
LOCATION:Pike County Health Department\, 119 River Drive\,\, Pikeville\, KY\, 41501\, United States
CATEGORIES:Pike County Health Department
ATTACH;FMTTYPE=image/jpeg:https://visitpikeville.com/wp-content/uploads/2026/02/health-dpt-flyer.jpg
END:VEVENT
BEGIN:VEVENT
DTSTART;TZID=America/Kentucky/Louisville:20260204T170000
DTEND;TZID=America/Kentucky/Louisville:20260204T190000
DTSTAMP:20260422T180755
CREATED:20260203T155758Z
LAST-MODIFIED:20260203T155758Z
UID:72859-1770224400-1770231600@visitpikeville.com
SUMMARY:Smoking Cessation
DESCRIPTION:Wednesdays 5:00pm to 7:00pm
URL:https://visitpikeville.com/event/smoking-cessation/
LOCATION:Pike County Health Department\, 119 River Drive\,\, Pikeville\, KY\, 41501\, United States
CATEGORIES:Pike County Health Department
ATTACH;FMTTYPE=image/jpeg:https://visitpikeville.com/wp-content/uploads/2026/02/health-dpt-flyer.jpg
END:VEVENT
BEGIN:VEVENT
DTSTART;TZID=America/Kentucky/Louisville:20260211T170000
DTEND;TZID=America/Kentucky/Louisville:20260211T190000
DTSTAMP:20260422T180755
CREATED:20260203T155829Z
LAST-MODIFIED:20260203T155829Z
UID:72861-1770829200-1770836400@visitpikeville.com
SUMMARY:Smoking Cessation
DESCRIPTION:Wednesdays 5:00pm to 7:00pm
URL:https://visitpikeville.com/event/smoking-cessation-2/
LOCATION:Pike County Health Department\, 119 River Drive\,\, Pikeville\, KY\, 41501\, United States
CATEGORIES:Pike County Health Department
ATTACH;FMTTYPE=image/jpeg:https://visitpikeville.com/wp-content/uploads/2026/02/health-dpt-flyer.jpg
END:VEVENT
BEGIN:VEVENT
DTSTART;TZID=America/Kentucky/Louisville:20260217T180000
DTEND;TZID=America/Kentucky/Louisville:20260217T190000
DTSTAMP:20260422T180755
CREATED:20260203T155428Z
LAST-MODIFIED:20260203T155428Z
UID:72855-1771351200-1771354800@visitpikeville.com
SUMMARY:Willow's Friends Grief Support
DESCRIPTION:February 17th 6:00pm to 7:00pm
URL:https://visitpikeville.com/event/willows-friends-grief-support-4/
LOCATION:Pike County Health Department\, 119 River Drive\,\, Pikeville\, KY\, 41501\, United States
CATEGORIES:Pike County Health Department
ATTACH;FMTTYPE=image/jpeg:https://visitpikeville.com/wp-content/uploads/2026/02/health-dpt-flyer.jpg
END:VEVENT
BEGIN:VEVENT
DTSTART;TZID=America/Kentucky/Louisville:20260218T123000
DTEND;TZID=America/Kentucky/Louisville:20260218T163000
DTSTAMP:20260422T180755
CREATED:20260112T155056Z
LAST-MODIFIED:20260112T155322Z
UID:72430-1771417800-1771432200@visitpikeville.com
SUMMARY:CPR training
DESCRIPTION:CPR training gives you the skills and confidence to respond in an emergency when it matters most. Register for our upcoming CPR classes today.To register\, call 606-509-5500 or email Jessica Anderson at janderson@mypchd.com.
URL:https://visitpikeville.com/event/cpr-training-4-2/
LOCATION:Pike County Health Department\, 119 River Drive\,\, Pikeville\, KY\, 41501\, United States
CATEGORIES:Pike County Health Department
ATTACH;FMTTYPE=image/jpeg:https://visitpikeville.com/wp-content/uploads/2026/01/cpr-healthcare.jpg
END:VEVENT
BEGIN:VEVENT
DTSTART;TZID=America/Kentucky/Louisville:20260218T170000
DTEND;TZID=America/Kentucky/Louisville:20260218T190000
DTSTAMP:20260422T180755
CREATED:20260203T155857Z
LAST-MODIFIED:20260203T155857Z
UID:72863-1771434000-1771441200@visitpikeville.com
SUMMARY:Smoking Cessation
DESCRIPTION:Wednesdays 5:00pm to 7:00pm
URL:https://visitpikeville.com/event/smoking-cessation-2-2/
LOCATION:Pike County Health Department\, 119 River Drive\,\, Pikeville\, KY\, 41501\, United States
CATEGORIES:Pike County Health Department
ATTACH;FMTTYPE=image/jpeg:https://visitpikeville.com/wp-content/uploads/2026/02/health-dpt-flyer.jpg
END:VEVENT
BEGIN:VEVENT
DTSTART;TZID=America/Kentucky/Louisville:20260221T120000
DTEND;TZID=America/Kentucky/Louisville:20260221T130000
DTSTAMP:20260422T180755
CREATED:20260203T155611Z
LAST-MODIFIED:20260203T155611Z
UID:72857-1771675200-1771678800@visitpikeville.com
SUMMARY:CPR First Aid
DESCRIPTION:February 21th 12:00pm
URL:https://visitpikeville.com/event/cpr-first-aid-2/
LOCATION:Pike County Health Department\, 119 River Drive\,\, Pikeville\, KY\, 41501\, United States
CATEGORIES:Pike County Health Department
ATTACH;FMTTYPE=image/jpeg:https://visitpikeville.com/wp-content/uploads/2026/02/health-dpt-flyer.jpg
END:VEVENT
BEGIN:VEVENT
DTSTART;TZID=America/Kentucky/Louisville:20260225T170000
DTEND;TZID=America/Kentucky/Louisville:20260225T190000
DTSTAMP:20260422T180755
CREATED:20260203T155939Z
LAST-MODIFIED:20260203T155939Z
UID:72865-1772038800-1772046000@visitpikeville.com
SUMMARY:Smoking Cessation
DESCRIPTION:Wednesdays 5:00pm to 7:00pm
URL:https://visitpikeville.com/event/smoking-cessation-2-2-2/
LOCATION:Pike County Health Department\, 119 River Drive\,\, Pikeville\, KY\, 41501\, United States
CATEGORIES:Pike County Health Department
ATTACH;FMTTYPE=image/jpeg:https://visitpikeville.com/wp-content/uploads/2026/02/health-dpt-flyer.jpg
END:VEVENT
BEGIN:VEVENT
DTSTART;TZID=America/Kentucky/Louisville:20260311T170000
DTEND;TZID=America/Kentucky/Louisville:20260311T180000
DTSTAMP:20260422T180755
CREATED:20260309T150656Z
LAST-MODIFIED:20260309T150656Z
UID:73540-1773248400-1773252000@visitpikeville.com
SUMMARY:Smoking Cessation
DESCRIPTION:Wednesdays 5-7pm
URL:https://visitpikeville.com/event/smoking-cessation-3/
LOCATION:Pike County Health Department\, 119 River Drive\,\, Pikeville\, KY\, 41501\, United States
CATEGORIES:Pike County Health Department
ATTACH;FMTTYPE=image/jpeg:https://visitpikeville.com/wp-content/uploads/2026/03/pchd-newsletter.jpg
END:VEVENT
BEGIN:VEVENT
DTSTART;TZID=America/Kentucky/Louisville:20260318T090000
DTEND;TZID=America/Kentucky/Louisville:20260318T100000
DTSTAMP:20260422T180755
CREATED:20260309T150326Z
LAST-MODIFIED:20260309T150326Z
UID:73534-1773824400-1773828000@visitpikeville.com
SUMMARY:Septic Installer Class
DESCRIPTION:March 18 @9am
URL:https://visitpikeville.com/event/septic-installer-class/
LOCATION:Pike County Health Department\, 119 River Drive\,\, Pikeville\, KY\, 41501\, United States
CATEGORIES:Pike County Health Department
ATTACH;FMTTYPE=image/jpeg:https://visitpikeville.com/wp-content/uploads/2026/03/pchd-newsletter.jpg
END:VEVENT
BEGIN:VEVENT
DTSTART;TZID=America/Kentucky/Louisville:20260318T123000
DTEND;TZID=America/Kentucky/Louisville:20260318T163000
DTSTAMP:20260422T180755
CREATED:20260112T155452Z
LAST-MODIFIED:20260112T155452Z
UID:72435-1773837000-1773851400@visitpikeville.com
SUMMARY:CPR training
DESCRIPTION:CPR training gives you the skills and confidence to respond in an emergency when it matters most. Register for our upcoming CPR classes today.To register\, call 606-509-5500 or email Jessica Anderson at janderson@mypchd.com.
URL:https://visitpikeville.com/event/cpr-training-4-2-2/
LOCATION:Pike County Health Department\, 119 River Drive\,\, Pikeville\, KY\, 41501\, United States
CATEGORIES:Pike County Health Department
ATTACH;FMTTYPE=image/jpeg:https://visitpikeville.com/wp-content/uploads/2026/01/cpr-healthcare.jpg
END:VEVENT
BEGIN:VEVENT
DTSTART;TZID=America/Kentucky/Louisville:20260318T170000
DTEND;TZID=America/Kentucky/Louisville:20260318T180000
DTSTAMP:20260422T180755
CREATED:20260309T150802Z
LAST-MODIFIED:20260309T150802Z
UID:73542-1773853200-1773856800@visitpikeville.com
SUMMARY:Smoking Cessation
DESCRIPTION:Wednesdays 5-7pm
URL:https://visitpikeville.com/event/smoking-cessation-3-2/
LOCATION:Pike County Health Department\, 119 River Drive\,\, Pikeville\, KY\, 41501\, United States
CATEGORIES:Pike County Health Department
ATTACH;FMTTYPE=image/jpeg:https://visitpikeville.com/wp-content/uploads/2026/03/pchd-newsletter.jpg
END:VEVENT
BEGIN:VEVENT
DTSTART;TZID=America/Kentucky/Louisville:20260320T100000
DTEND;TZID=America/Kentucky/Louisville:20260320T110000
DTSTAMP:20260422T180755
CREATED:20260309T151704Z
LAST-MODIFIED:20260309T151704Z
UID:73549-1774000800-1774004400@visitpikeville.com
SUMMARY:National Diabetes Prevention Program
DESCRIPTION:The Pike County Health Department is bringing their free\, CDC-recognized 12-month Diabetes Prevention Program designed to help residents with prediabetes make sustainable lifestyle changes to the library! This evidence-based program includes group sessions focused on healthy eating\, stress management\, and increased physical activity to help participants reduce their risk of developing type 2 diabetes.Get started at the Pike County Public Library on March 20th and 27th at 10:00\, as well as April 3rd at 10:00.
URL:https://visitpikeville.com/event/national-diabetes-prevention-program/
LOCATION:Pike County Public Library\, 126 Lee Avenue\, Pikeville\, KY\, 41501\, United States
CATEGORIES:Pike County Health Department,Pike County Public Library
ATTACH;FMTTYPE=image/jpeg:https://visitpikeville.com/wp-content/uploads/2026/03/diabetes.jpg
END:VEVENT
BEGIN:VEVENT
DTSTART;TZID=America/Kentucky/Louisville:20260320T170000
DTEND;TZID=America/Kentucky/Louisville:20260320T180000
DTSTAMP:20260422T180755
CREATED:20260309T150103Z
LAST-MODIFIED:20260309T150103Z
UID:73531-1774026000-1774029600@visitpikeville.com
SUMMARY:New and Emerging Drug Trends Overview
DESCRIPTION:@Pike County Health Department
URL:https://visitpikeville.com/event/new-and-emerging-drug-trends-overview/
LOCATION:Pike County Health Department\, 119 River Drive\,\, Pikeville\, KY\, 41501\, United States
CATEGORIES:Pike County Health Department
ATTACH;FMTTYPE=image/jpeg:https://visitpikeville.com/wp-content/uploads/2026/03/drug-trends.jpg
END:VEVENT
BEGIN:VEVENT
DTSTART;TZID=America/Kentucky/Louisville:20260324T180000
DTEND;TZID=America/Kentucky/Louisville:20260324T190000
DTSTAMP:20260422T180755
CREATED:20260309T150518Z
LAST-MODIFIED:20260309T150518Z
UID:73537-1774375200-1774378800@visitpikeville.com
SUMMARY:Willow's Friends Grief Support
DESCRIPTION:March 24th @6pm
URL:https://visitpikeville.com/event/willows-friends-grief-support-5/
LOCATION:Pike County Health Department\, 119 River Drive\,\, Pikeville\, KY\, 41501\, United States
CATEGORIES:Pike County Health Department
ATTACH;FMTTYPE=image/jpeg:https://visitpikeville.com/wp-content/uploads/2026/03/pchd-newsletter.jpg
END:VEVENT
BEGIN:VEVENT
DTSTART;TZID=America/Kentucky/Louisville:20260325T170000
DTEND;TZID=America/Kentucky/Louisville:20260325T180000
DTSTAMP:20260422T180755
CREATED:20260309T150837Z
LAST-MODIFIED:20260309T150837Z
UID:73544-1774458000-1774461600@visitpikeville.com
SUMMARY:Smoking Cessation
DESCRIPTION:Wednesdays 5-7pm
URL:https://visitpikeville.com/event/smoking-cessation-3-2-2/
LOCATION:Pike County Health Department\, 119 River Drive\,\, Pikeville\, KY\, 41501\, United States
CATEGORIES:Pike County Health Department
ATTACH;FMTTYPE=image/jpeg:https://visitpikeville.com/wp-content/uploads/2026/03/pchd-newsletter.jpg
END:VEVENT
BEGIN:VEVENT
DTSTART;TZID=America/Kentucky/Louisville:20260327T100000
DTEND;TZID=America/Kentucky/Louisville:20260327T110000
DTSTAMP:20260422T180755
CREATED:20260309T151851Z
LAST-MODIFIED:20260309T151851Z
UID:73552-1774605600-1774609200@visitpikeville.com
SUMMARY:National Diabetes Prevention Program
DESCRIPTION:The Pike County Health Department is bringing their free\, CDC-recognized 12-month Diabetes Prevention Program designed to help residents with prediabetes make sustainable lifestyle changes to the library! This evidence-based program includes group sessions focused on healthy eating\, stress management\, and increased physical activity to help participants reduce their risk of developing type 2 diabetes.Get started at the Pike County Public Library on March 20th and 27th at 10:00\, as well as April 3rd at 10:00.
URL:https://visitpikeville.com/event/national-diabetes-prevention-program-2/
LOCATION:Pike County Public Library\, 126 Lee Avenue\, Pikeville\, KY\, 41501\, United States
CATEGORIES:Pike County Health Department,Pike County Public Library
ATTACH;FMTTYPE=image/jpeg:https://visitpikeville.com/wp-content/uploads/2026/03/diabetes.jpg
END:VEVENT
BEGIN:VEVENT
DTSTART;TZID=America/Kentucky/Louisville:20260403T100000
DTEND;TZID=America/Kentucky/Louisville:20260403T110000
DTSTAMP:20260422T180755
CREATED:20260309T151926Z
LAST-MODIFIED:20260309T151926Z
UID:73554-1775210400-1775214000@visitpikeville.com
SUMMARY:National Diabetes Prevention Program
DESCRIPTION:The Pike County Health Department is bringing their free\, CDC-recognized 12-month Diabetes Prevention Program designed to help residents with prediabetes make sustainable lifestyle changes to the library! This evidence-based program includes group sessions focused on healthy eating\, stress management\, and increased physical activity to help participants reduce their risk of developing type 2 diabetes.Get started at the Pike County Public Library on March 20th and 27th at 10:00\, as well as April 3rd at 10:00.
URL:https://visitpikeville.com/event/national-diabetes-prevention-program-2-2/
LOCATION:Pike County Public Library\, 126 Lee Avenue\, Pikeville\, KY\, 41501\, United States
CATEGORIES:Pike County Health Department,Pike County Public Library
ATTACH;FMTTYPE=image/jpeg:https://visitpikeville.com/wp-content/uploads/2026/03/diabetes.jpg
END:VEVENT
BEGIN:VEVENT
DTSTART;TZID=America/Kentucky/Louisville:20260410T130000
DTEND;TZID=America/Kentucky/Louisville:20260410T150000
DTSTAMP:20260422T180755
CREATED:20260330T142330Z
LAST-MODIFIED:20260330T142330Z
UID:73820-1775826000-1775833200@visitpikeville.com
SUMMARY:Child Passenger Safety Seat Check
DESCRIPTION:Mark your calendars for our upcoming Child Passenger Safety Seat Check events this April. Nationally certified technicians will be on-site to ensure your child’s car seat is installed correctly\, answer questions about transitioning between car seats and booster seats\, and provide recommendations to keep your child safe on the road.
URL:https://visitpikeville.com/event/child-passenger-safety-seat-check/
LOCATION:Pike County Health Department\, 119 River Drive\,\, Pikeville\, KY\, 41501\, United States
CATEGORIES:Pike County Health Department
ATTACH;FMTTYPE=image/jpeg:https://visitpikeville.com/wp-content/uploads/2026/03/child-safety-seat.jpg
END:VEVENT
BEGIN:VEVENT
DTSTART;TZID=America/Kentucky/Louisville:20260415T123000
DTEND;TZID=America/Kentucky/Louisville:20260415T163000
DTSTAMP:20260422T180755
CREATED:20260112T155533Z
LAST-MODIFIED:20260112T155533Z
UID:72437-1776256200-1776270600@visitpikeville.com
SUMMARY:CPR training
DESCRIPTION:CPR training gives you the skills and confidence to respond in an emergency when it matters most. Register for our upcoming CPR classes today.To register\, call 606-509-5500 or email Jessica Anderson at janderson@mypchd.com.
URL:https://visitpikeville.com/event/cpr-training-4-2-2-2/
LOCATION:Pike County Health Department\, 119 River Drive\,\, Pikeville\, KY\, 41501\, United States
CATEGORIES:Pike County Health Department
ATTACH;FMTTYPE=image/jpeg:https://visitpikeville.com/wp-content/uploads/2026/01/cpr-healthcare.jpg
END:VEVENT
BEGIN:VEVENT
DTSTART;TZID=America/Kentucky/Louisville:20260420T140000
DTEND;TZID=America/Kentucky/Louisville:20260420T160000
DTSTAMP:20260422T180755
CREATED:20260413T195925Z
LAST-MODIFIED:20260413T195925Z
UID:74103-1776693600-1776700800@visitpikeville.com
SUMMARY:Diabetes and Obesity Innovation Team
DESCRIPTION:Rural Health Transformation
URL:https://visitpikeville.com/event/diabetes-and-obesity-innovation-team/
LOCATION:Appalachian Wireless Arena\, 126 Main Street\, Pikeville\, Ky\, 41501
CATEGORIES:Pike County Health Department
ATTACH;FMTTYPE=image/jpeg:https://visitpikeville.com/wp-content/uploads/2026/04/diabetes.jpg
END:VEVENT
BEGIN:VEVENT
DTSTART;TZID=America/Kentucky/Louisville:20260421T180000
DTEND;TZID=America/Kentucky/Louisville:20260421T190000
DTSTAMP:20260422T180755
CREATED:20260406T182206Z
LAST-MODIFIED:20260406T182206Z
UID:73905-1776794400-1776798000@visitpikeville.com
SUMMARY:Willow's Friends Grief Support
DESCRIPTION:April 21st @6pm
URL:https://visitpikeville.com/event/willows-friends-grief-support-5-2/
LOCATION:Pike County Health Department\, 119 River Drive\,\, Pikeville\, KY\, 41501\, United States
CATEGORIES:Pike County Health Department
ATTACH;FMTTYPE=image/jpeg:https://visitpikeville.com/wp-content/uploads/2026/04/april-newsletter.jpg
END:VEVENT
BEGIN:VEVENT
DTSTART;TZID=America/Kentucky/Louisville:20260423T140000
DTEND;TZID=America/Kentucky/Louisville:20260423T180000
DTSTAMP:20260422T180755
CREATED:20260330T142543Z
LAST-MODIFIED:20260330T142543Z
UID:73823-1776952800-1776967200@visitpikeville.com
SUMMARY:FREE Expungement Clinic
DESCRIPTION:Do you or someone you know need help removing past charges or convictions from your record? Join us on April 23rd for a FREE Expungement Clinic where individuals can meet one-on-one with an attorney to learn if they qualify and receive guidance on the next steps in the expungement process.
URL:https://visitpikeville.com/event/free-expungement-clinic/
LOCATION:Pike County Health Department\, 119 River Drive\,\, Pikeville\, KY\, 41501\, United States
CATEGORIES:Pike County Health Department
ATTACH;FMTTYPE=image/jpeg:https://visitpikeville.com/wp-content/uploads/2026/03/expungment.jpg
END:VEVENT
BEGIN:VEVENT
DTSTART;TZID=America/Kentucky/Louisville:20260520T123000
DTEND;TZID=America/Kentucky/Louisville:20260520T163000
DTSTAMP:20260422T180755
CREATED:20260112T155610Z
LAST-MODIFIED:20260112T155610Z
UID:72439-1779280200-1779294600@visitpikeville.com
SUMMARY:CPR training
DESCRIPTION:CPR training gives you the skills and confidence to respond in an emergency when it matters most. Register for our upcoming CPR classes today.To register\, call 606-509-5500 or email Jessica Anderson at janderson@mypchd.com.
URL:https://visitpikeville.com/event/cpr-training-4-2-2-2-2/
LOCATION:Pike County Health Department\, 119 River Drive\,\, Pikeville\, KY\, 41501\, United States
CATEGORIES:Pike County Health Department
ATTACH;FMTTYPE=image/jpeg:https://visitpikeville.com/wp-content/uploads/2026/01/cpr-healthcare.jpg
END:VEVENT
BEGIN:VEVENT
DTSTART;TZID=America/Kentucky/Louisville:20260617T123000
DTEND;TZID=America/Kentucky/Louisville:20260617T163000
DTSTAMP:20260422T180755
CREATED:20260112T155705Z
LAST-MODIFIED:20260112T155705Z
UID:72441-1781699400-1781713800@visitpikeville.com
SUMMARY:CPR training
DESCRIPTION:CPR training gives you the skills and confidence to respond in an emergency when it matters most. Register for our upcoming CPR classes today.To register\, call 606-509-5500 or email Jessica Anderson at janderson@mypchd.com.
URL:https://visitpikeville.com/event/cpr-training-4-2-2-2-2-2/
LOCATION:Pike County Health Department\, 119 River Drive\,\, Pikeville\, KY\, 41501\, United States
CATEGORIES:Pike County Health Department
ATTACH;FMTTYPE=image/jpeg:https://visitpikeville.com/wp-content/uploads/2026/01/cpr-healthcare.jpg
END:VEVENT
END:VCALENDAR