BEGIN:VCALENDAR
VERSION:2.0
PRODID:-//Visit Pikeville - ECPv6.15.20//NONSGML v1.0//EN
CALSCALE:GREGORIAN
METHOD:PUBLISH
X-WR-CALNAME:Visit Pikeville
X-ORIGINAL-URL:https://visitpikeville.com
X-WR-CALDESC:Events for Visit Pikeville
REFRESH-INTERVAL;VALUE=DURATION:PT1H
X-Robots-Tag:noindex
X-PUBLISHED-TTL:PT1H
BEGIN:VTIMEZONE
TZID:America/Kentucky/Louisville
BEGIN:DAYLIGHT
TZOFFSETFROM:-0500
TZOFFSETTO:-0400
TZNAME:EDT
DTSTART:20250309T070000
END:DAYLIGHT
BEGIN:STANDARD
TZOFFSETFROM:-0400
TZOFFSETTO:-0500
TZNAME:EST
DTSTART:20251102T060000
END:STANDARD
BEGIN:DAYLIGHT
TZOFFSETFROM:-0500
TZOFFSETTO:-0400
TZNAME:EDT
DTSTART:20260308T070000
END:DAYLIGHT
BEGIN:STANDARD
TZOFFSETFROM:-0400
TZOFFSETTO:-0500
TZNAME:EST
DTSTART:20261101T060000
END:STANDARD
BEGIN:DAYLIGHT
TZOFFSETFROM:-0500
TZOFFSETTO:-0400
TZNAME:EDT
DTSTART:20270314T070000
END:DAYLIGHT
BEGIN:STANDARD
TZOFFSETFROM:-0400
TZOFFSETTO:-0500
TZNAME:EST
DTSTART:20271107T060000
END:STANDARD
END:VTIMEZONE
BEGIN:VEVENT
DTSTART;TZID=America/Kentucky/Louisville:20260106T130000
DTEND;TZID=America/Kentucky/Louisville:20260106T150000
DTSTAMP:20260422T001006
CREATED:20260105T152014Z
LAST-MODIFIED:20260105T152014Z
UID:72313-1767704400-1767711600@visitpikeville.com
SUMMARY:Child Passenger Safety Events
DESCRIPTION:January 6th and 9th \n1:00pm- 3:00pm
URL:https://visitpikeville.com/event/child-passenger-safety-events/
LOCATION:Pike County Health Department\, 119 River Drive\,\, Pikeville\, KY\, 41501\, United States
CATEGORIES:Pike County Health Department
ATTACH;FMTTYPE=image/jpeg:https://visitpikeville.com/wp-content/uploads/2026/01/newsletter.jpg
END:VEVENT
BEGIN:VEVENT
DTSTART;TZID=America/Kentucky/Louisville:20260107T173000
DTEND;TZID=America/Kentucky/Louisville:20260107T190000
DTSTAMP:20260422T001006
CREATED:20260105T151527Z
LAST-MODIFIED:20260105T151527Z
UID:72303-1767807000-1767812400@visitpikeville.com
SUMMARY:Freedom from Smoking
DESCRIPTION:Wednesdays 5:30pm to 7:00pm
URL:https://visitpikeville.com/event/freedom-from-smoking-4/
LOCATION:Pike County Health Department\, 119 River Drive\,\, Pikeville\, KY\, 41501\, United States
CATEGORIES:Pike County Health Department
ATTACH;FMTTYPE=image/jpeg:https://visitpikeville.com/wp-content/uploads/2026/01/newsletter.jpg
END:VEVENT
BEGIN:VEVENT
DTSTART;TZID=America/Kentucky/Louisville:20260109T130000
DTEND;TZID=America/Kentucky/Louisville:20260109T150000
DTSTAMP:20260422T001006
CREATED:20260105T152054Z
LAST-MODIFIED:20260105T152054Z
UID:72315-1767963600-1767970800@visitpikeville.com
SUMMARY:Child Passenger Safety Events
DESCRIPTION:January 6th and 9th \n1:00pm- 3:00pm
URL:https://visitpikeville.com/event/child-passenger-safety-events-2/
LOCATION:Pike County Health Department\, 119 River Drive\,\, Pikeville\, KY\, 41501\, United States
CATEGORIES:Pike County Health Department
ATTACH;FMTTYPE=image/jpeg:https://visitpikeville.com/wp-content/uploads/2026/01/newsletter.jpg
END:VEVENT
BEGIN:VEVENT
DTSTART;TZID=America/Kentucky/Louisville:20260114T173000
DTEND;TZID=America/Kentucky/Louisville:20260114T190000
DTSTAMP:20260422T001006
CREATED:20260105T151636Z
LAST-MODIFIED:20260105T151636Z
UID:72307-1768411800-1768417200@visitpikeville.com
SUMMARY:Freedom from Smoking
DESCRIPTION:Wednesdays 5:30pm to 7:00pm
URL:https://visitpikeville.com/event/freedom-from-smoking-4-2/
LOCATION:Pike County Health Department\, 119 River Drive\,\, Pikeville\, KY\, 41501\, United States
CATEGORIES:Pike County Health Department
ATTACH;FMTTYPE=image/jpeg:https://visitpikeville.com/wp-content/uploads/2026/01/newsletter.jpg
END:VEVENT
BEGIN:VEVENT
DTSTART;TZID=America/Kentucky/Louisville:20260120T180000
DTEND;TZID=America/Kentucky/Louisville:20260120T190000
DTSTAMP:20260422T001006
CREATED:20260105T152251Z
LAST-MODIFIED:20260105T152251Z
UID:72317-1768932000-1768935600@visitpikeville.com
SUMMARY:Willow's Friends Grief Support
DESCRIPTION:January 20th \n6:00pm – 7:00pm
URL:https://visitpikeville.com/event/willows-friends-grief-support-3/
LOCATION:Pike County Health Department\, 119 River Drive\,\, Pikeville\, KY\, 41501\, United States
CATEGORIES:Pike County Health Department
ATTACH;FMTTYPE=image/jpeg:https://visitpikeville.com/wp-content/uploads/2026/01/newsletter.jpg
END:VEVENT
BEGIN:VEVENT
DTSTART;TZID=America/Kentucky/Louisville:20260121T173000
DTEND;TZID=America/Kentucky/Louisville:20260121T190000
DTSTAMP:20260422T001006
CREATED:20260105T151713Z
LAST-MODIFIED:20260105T151713Z
UID:72309-1769016600-1769022000@visitpikeville.com
SUMMARY:Freedom from Smoking
DESCRIPTION:Wednesdays 5:30pm to 7:00pm
URL:https://visitpikeville.com/event/freedom-from-smoking-4-2-2/
LOCATION:Pike County Health Department\, 119 River Drive\,\, Pikeville\, KY\, 41501\, United States
CATEGORIES:Pike County Health Department
ATTACH;FMTTYPE=image/jpeg:https://visitpikeville.com/wp-content/uploads/2026/01/newsletter.jpg
END:VEVENT
BEGIN:VEVENT
DTSTART;TZID=America/Kentucky/Louisville:20260128T173000
DTEND;TZID=America/Kentucky/Louisville:20260128T190000
DTSTAMP:20260422T001006
CREATED:20260105T151754Z
LAST-MODIFIED:20260105T151754Z
UID:72311-1769621400-1769626800@visitpikeville.com
SUMMARY:Freedom from Smoking
DESCRIPTION:Wednesdays 5:30pm to 7:00pm
URL:https://visitpikeville.com/event/freedom-from-smoking-4-2-2-2/
LOCATION:Pike County Health Department\, 119 River Drive\,\, Pikeville\, KY\, 41501\, United States
CATEGORIES:Pike County Health Department
ATTACH;FMTTYPE=image/jpeg:https://visitpikeville.com/wp-content/uploads/2026/01/newsletter.jpg
END:VEVENT
BEGIN:VEVENT
DTSTART;TZID=America/Kentucky/Louisville:20260131T120000
DTEND;TZID=America/Kentucky/Louisville:20260131T160000
DTSTAMP:20260422T001006
CREATED:20260112T154557Z
LAST-MODIFIED:20260112T154557Z
UID:72427-1769860800-1769875200@visitpikeville.com
SUMMARY:CPR class
DESCRIPTION:Whether you’re learning CPR for the first time or refreshing your skills\, this class is a great opportunity to be prepared and confident in an emergency.Space is limited\, so registration is required to secure your spot in our Saturday CPR class. This class will be held in the second floor auditorium at the Pike County Health Department. Call 606-509-5500 or email Jessica Anderson at Janderson@mypchd.com to register.
URL:https://visitpikeville.com/event/cpr-class/
LOCATION:Pike County Health Department\, 119 River Drive\,\, Pikeville\, KY\, 41501\, United States
CATEGORIES:Pike County Health Department
ATTACH;FMTTYPE=image/jpeg:https://visitpikeville.com/wp-content/uploads/2026/01/cpr.jpg
END:VEVENT
END:VCALENDAR