BEGIN:VCALENDAR
VERSION:2.0
PRODID:-//Visit Pikeville - ECPv6.15.20//NONSGML v1.0//EN
CALSCALE:GREGORIAN
METHOD:PUBLISH
X-ORIGINAL-URL:https://visitpikeville.com
X-WR-CALDESC:Events for Visit Pikeville
REFRESH-INTERVAL;VALUE=DURATION:PT1H
X-Robots-Tag:noindex
X-PUBLISHED-TTL:PT1H
BEGIN:VTIMEZONE
TZID:America/Kentucky/Louisville
BEGIN:DAYLIGHT
TZOFFSETFROM:-0500
TZOFFSETTO:-0400
TZNAME:EDT
DTSTART:20250309T070000
END:DAYLIGHT
BEGIN:STANDARD
TZOFFSETFROM:-0400
TZOFFSETTO:-0500
TZNAME:EST
DTSTART:20251102T060000
END:STANDARD
BEGIN:DAYLIGHT
TZOFFSETFROM:-0500
TZOFFSETTO:-0400
TZNAME:EDT
DTSTART:20260308T070000
END:DAYLIGHT
BEGIN:STANDARD
TZOFFSETFROM:-0400
TZOFFSETTO:-0500
TZNAME:EST
DTSTART:20261101T060000
END:STANDARD
BEGIN:DAYLIGHT
TZOFFSETFROM:-0500
TZOFFSETTO:-0400
TZNAME:EDT
DTSTART:20270314T070000
END:DAYLIGHT
BEGIN:STANDARD
TZOFFSETFROM:-0400
TZOFFSETTO:-0500
TZNAME:EST
DTSTART:20271107T060000
END:STANDARD
END:VTIMEZONE
BEGIN:VEVENT
DTSTART;TZID=America/Kentucky/Louisville:20260207T090000
DTEND;TZID=America/Kentucky/Louisville:20260207T130000
DTSTAMP:20260424T053517
CREATED:20260119T150130Z
LAST-MODIFIED:20260119T150130Z
UID:72594-1770454800-1770469200@visitpikeville.com
SUMMARY:Craft Fair
DESCRIPTION:Shop with your favorite Farmers Market Vendors and crafters and get the perfect gift for someone you love for Valentines Day! Saturday\, February 7th\, 9:00am – 1:00 pm at the Pike county UK Pike County Cooperative Extension Service office!
URL:https://visitpikeville.com/event/craft-fair/
LOCATION:Pikeville Farmer’s Market\, 130 Adams Lane\, Pikeville\, Ky
CATEGORIES:Pike County Cooperative Extension Office
ATTACH;FMTTYPE=image/jpeg:https://visitpikeville.com/wp-content/uploads/2026/01/valentine-craft-fair.jpg
END:VEVENT
BEGIN:VEVENT
DTSTART;TZID=America/Kentucky/Louisville:20260219T120000
DTEND;TZID=America/Kentucky/Louisville:20260219T130000
DTSTAMP:20260424T053517
CREATED:20260216T130602Z
LAST-MODIFIED:20260216T130602Z
UID:73074-1771502400-1771506000@visitpikeville.com
SUMMARY:Shiitake Mushroom workshop!
DESCRIPTION:We still have some spots open for our Shiitake Mushroom workshop! There are two different time slots to choose from. Be sure to call our office & register before it’s too late!https://pike.mgcafe.uky.edu/events/in-person
URL:https://visitpikeville.com/event/shiitake-mushroom-workshop-2/
LOCATION:Pike County Extension Office\, 148 Trivette Dr\, Pikeville\, KY\, 41501\, United States
CATEGORIES:Pike County Cooperative Extension Office
ATTACH;FMTTYPE=image/jpeg:https://visitpikeville.com/wp-content/uploads/2026/02/shiitake.jpg
END:VEVENT
BEGIN:VEVENT
DTSTART;TZID=America/Kentucky/Louisville:20260310T173000
DTEND;TZID=America/Kentucky/Louisville:20260310T193000
DTSTAMP:20260424T053517
CREATED:20260309T144627Z
LAST-MODIFIED:20260309T144627Z
UID:73525-1773163800-1773171000@visitpikeville.com
SUMMARY:Infused Honey Class
DESCRIPTION:Join Mountain Roots Herbs and Teas & Appalachian Roots Garden Club for an infused honey demonstration at our office on March 10th!
URL:https://visitpikeville.com/event/infused-honey-class/
LOCATION:Pike County Extension Office\, 148 Trivette Dr\, Pikeville\, KY\, 41501\, United States
CATEGORIES:Pike County Cooperative Extension Office
ATTACH;FMTTYPE=image/jpeg:https://visitpikeville.com/wp-content/uploads/2026/03/honey.jpg
END:VEVENT
BEGIN:VEVENT
DTSTART;TZID=America/Kentucky/Louisville:20260314T100000
DTEND;TZID=America/Kentucky/Louisville:20260314T110000
DTSTAMP:20260424T053517
CREATED:20260223T162037Z
LAST-MODIFIED:20260223T162037Z
UID:73206-1773482400-1773486000@visitpikeville.com
SUMMARY:Fruit Tree Grafting Workshop
DESCRIPTION:Join the Pike County Master Gardeners for a hands-on grafting workshop! Each participant will get to take home and grow their own finished graft!
URL:https://visitpikeville.com/event/fruit-tree-grafting-workshop/
LOCATION:Pike County Extension Office\, 148 Trivette Dr\, Pikeville\, KY\, 41501\, United States
CATEGORIES:Pike County Cooperative Extension Office
ATTACH;FMTTYPE=image/jpeg:https://visitpikeville.com/wp-content/uploads/2026/02/grafting.jpg
END:VEVENT
BEGIN:VEVENT
DTSTART;TZID=America/Kentucky/Louisville:20260314T100000
DTEND;TZID=America/Kentucky/Louisville:20260314T120000
DTSTAMP:20260424T053517
CREATED:20260309T145411Z
LAST-MODIFIED:20260309T145411Z
UID:73528-1773482400-1773489600@visitpikeville.com
SUMMARY:Ag Explorers Club meeting
DESCRIPTION:Join us for our final Ag Explorers Club meeting of the school year! Learn how to graft your very own fruit tree! Give us a call at the Extension Office to let us know you’re coming.
URL:https://visitpikeville.com/event/ag-explorers-club-meeting/
LOCATION:Pike County Extension Office\, 148 Trivette Dr\, Pikeville\, KY\, 41501\, United States
CATEGORIES:Pike County Cooperative Extension Office
ATTACH;FMTTYPE=image/jpeg:https://visitpikeville.com/wp-content/uploads/2026/03/ag-explorers.jpg
END:VEVENT
BEGIN:VEVENT
DTSTART;TZID=America/Kentucky/Louisville:20260324T100000
DTEND;TZID=America/Kentucky/Louisville:20260324T120000
DTSTAMP:20260424T053517
CREATED:20260309T144421Z
LAST-MODIFIED:20260309T144421Z
UID:73522-1774346400-1774353600@visitpikeville.com
SUMMARY:DIY Beaded Plant Class
DESCRIPTION:New Class Alert!\n\n\nJoin us for a DIY Beaded Plant Class on Tuesday\, March 24th at 10am at the Pike County Extension Office! Space is limited\, call 606-432-2534 to reserve your spot!
URL:https://visitpikeville.com/event/diy-beaded-plant-class/
LOCATION:Pike County Extension Office\, 148 Trivette Dr\, Pikeville\, KY\, 41501\, United States
CATEGORIES:Pike County Cooperative Extension Office
ATTACH;FMTTYPE=image/jpeg:https://visitpikeville.com/wp-content/uploads/2026/03/plant-class.jpg
END:VEVENT
BEGIN:VEVENT
DTSTART;TZID=America/Kentucky/Louisville:20260327T173000
DTEND;TZID=America/Kentucky/Louisville:20260327T183000
DTSTAMP:20260424T053517
CREATED:20260223T154419Z
LAST-MODIFIED:20260223T154419Z
UID:73177-1774632600-1774636200@visitpikeville.com
SUMMARY:Produce Best Practices Training 2026
DESCRIPTION:For more information call (606)432-2534
URL:https://visitpikeville.com/event/produce-best-practices-training-2026/
LOCATION:Pike County Extension Office\, 148 Trivette Dr\, Pikeville\, KY\, 41501\, United States
CATEGORIES:Pike County Cooperative Extension Office,Pikeville Farmers Market
ATTACH;FMTTYPE=image/jpeg:https://visitpikeville.com/wp-content/uploads/2026/02/produce.jpg
END:VEVENT
BEGIN:VEVENT
DTSTART;TZID=America/Kentucky/Louisville:20260402T180000
DTEND;TZID=America/Kentucky/Louisville:20260402T200000
DTSTAMP:20260424T053517
CREATED:20260323T135738Z
LAST-MODIFIED:20260323T135738Z
UID:73675-1775152800-1775160000@visitpikeville.com
SUMMARY:Line Dancing
DESCRIPTION:April’s Line Dancing dates have been set. Come and join us for this great way to exercise and socialize!Don’t forget\, we still have one more meeting in March\, on Thursday\, the 26th\, as well. We hope to see you there!
URL:https://visitpikeville.com/event/line-dancing-8/
LOCATION:Pike County Extension Office\, 148 Trivette Dr\, Pikeville\, KY\, 41501\, United States
CATEGORIES:Pike County Cooperative Extension Office
ATTACH;FMTTYPE=image/jpeg:https://visitpikeville.com/wp-content/uploads/2026/03/LINE.jpg
END:VEVENT
BEGIN:VEVENT
DTSTART;TZID=America/Kentucky/Louisville:20260404T090000
DTEND;TZID=America/Kentucky/Louisville:20260404T130000
DTSTAMP:20260424T053517
CREATED:20260323T152242Z
LAST-MODIFIED:20260323T152242Z
UID:73759-1775293200-1775307600@visitpikeville.com
SUMMARY:Appalachian Seed Swap
DESCRIPTION:Free Admission
URL:https://visitpikeville.com/event/appalachian-seed-swap/
LOCATION:Pike Central High School\, 100 Winners Circle Drive\,\, Pikeville\, KY\, 41501\, United States
CATEGORIES:Pike County Cooperative Extension Office
ATTACH;FMTTYPE=image/jpeg:https://visitpikeville.com/wp-content/uploads/2026/03/seed-swap.jpg
END:VEVENT
BEGIN:VEVENT
DTSTART;TZID=America/Kentucky/Louisville:20260411T090000
DTEND;TZID=America/Kentucky/Louisville:20260411T110000
DTSTAMP:20260424T053517
CREATED:20260323T152625Z
LAST-MODIFIED:20260323T152625Z
UID:73762-1775898000-1775905200@visitpikeville.com
SUMMARY:24th Annual Pike County Master Gardener Spring Plant Swap
DESCRIPTION:Call 606- 432-2534 for more information.
URL:https://visitpikeville.com/event/24th-annual-pike-county-master-gardener-spring-plant-swap/
LOCATION:Pike County Extension Office\, 148 Trivette Dr\, Pikeville\, KY\, 41501\, United States
CATEGORIES:Pike County Cooperative Extension Office
ATTACH;FMTTYPE=image/jpeg:https://visitpikeville.com/wp-content/uploads/2026/03/spring-plant.jpg
END:VEVENT
BEGIN:VEVENT
DTSTART;TZID=America/Kentucky/Louisville:20260411T180000
DTEND;TZID=America/Kentucky/Louisville:20260411T210000
DTSTAMP:20260424T053517
CREATED:20260323T135113Z
LAST-MODIFIED:20260323T135113Z
UID:73672-1775930400-1775941200@visitpikeville.com
SUMMARY:Square Dancing
DESCRIPTION:Join us on Saturday\, April 11th for another fun Square Dancing event!
URL:https://visitpikeville.com/event/square-dancing-7/
LOCATION:Pike County Extension Office\, 148 Trivette Dr\, Pikeville\, KY\, 41501\, United States
CATEGORIES:Pike County Cooperative Extension Office
ATTACH;FMTTYPE=image/jpeg:https://visitpikeville.com/wp-content/uploads/2026/03/SQUARE-1.jpg
END:VEVENT
BEGIN:VEVENT
DTSTART;TZID=America/Kentucky/Louisville:20260416T180000
DTEND;TZID=America/Kentucky/Louisville:20260416T200000
DTSTAMP:20260424T053517
CREATED:20260323T135823Z
LAST-MODIFIED:20260323T135823Z
UID:73678-1776362400-1776369600@visitpikeville.com
SUMMARY:Line Dancing
DESCRIPTION:April’s Line Dancing dates have been set. Come and join us for this great way to exercise and socialize!Don’t forget\, we still have one more meeting in March\, on Thursday\, the 26th\, as well. We hope to see you there!
URL:https://visitpikeville.com/event/line-dancing-8-2/
LOCATION:Pike County Extension Office\, 148 Trivette Dr\, Pikeville\, KY\, 41501\, United States
CATEGORIES:Pike County Cooperative Extension Office
ATTACH;FMTTYPE=image/jpeg:https://visitpikeville.com/wp-content/uploads/2026/03/LINE.jpg
END:VEVENT
BEGIN:VEVENT
DTSTART;TZID=America/Kentucky/Louisville:20260423T180000
DTEND;TZID=America/Kentucky/Louisville:20260423T200000
DTSTAMP:20260424T053517
CREATED:20260323T135906Z
LAST-MODIFIED:20260323T135906Z
UID:73680-1776967200-1776974400@visitpikeville.com
SUMMARY:Line Dancing
DESCRIPTION:April’s Line Dancing dates have been set. Come and join us for this great way to exercise and socialize!Don’t forget\, we still have one more meeting in March\, on Thursday\, the 26th\, as well. We hope to see you there!
URL:https://visitpikeville.com/event/line-dancing-8-2-2/
LOCATION:Pike County Extension Office\, 148 Trivette Dr\, Pikeville\, KY\, 41501\, United States
CATEGORIES:Pike County Cooperative Extension Office
ATTACH;FMTTYPE=image/jpeg:https://visitpikeville.com/wp-content/uploads/2026/03/LINE.jpg
END:VEVENT
BEGIN:VEVENT
DTSTART;TZID=America/Kentucky/Louisville:20260425T100000
DTEND;TZID=America/Kentucky/Louisville:20260425T130000
DTSTAMP:20260424T053517
CREATED:20260302T132952Z
LAST-MODIFIED:20260302T132952Z
UID:73315-1777111200-1777122000@visitpikeville.com
SUMMARY:4-H Poultry Club
DESCRIPTION:Come and join our State Award winning Poultry and Avian bowl team! \nOpen for ages 9-18 to compete at the Kentucky State Fair this August. Give us a call at the Pike County Extension office if you plan on coming to our initial meeting on April 25th. We can’t wait to see you and we’re excited to begin working on another great year!
URL:https://visitpikeville.com/event/4-h-poultry-club-2/
LOCATION:Pike County Extension Office\, 148 Trivette Dr\, Pikeville\, KY\, 41501\, United States
CATEGORIES:Pike County Cooperative Extension Office
ATTACH;FMTTYPE=image/jpeg:https://visitpikeville.com/wp-content/uploads/2026/03/4h-poultry.jpg
END:VEVENT
BEGIN:VEVENT
DTSTART;TZID=America/Kentucky/Louisville:20260427T183000
DTEND;TZID=America/Kentucky/Louisville:20260427T203000
DTSTAMP:20260424T053517
CREATED:20260323T135949Z
LAST-MODIFIED:20260323T135949Z
UID:73682-1777314600-1777321800@visitpikeville.com
SUMMARY:Line Dancing
DESCRIPTION:April’s Line Dancing dates have been set. Come and join us for this great way to exercise and socialize!Don’t forget\, we still have one more meeting in March\, on Thursday\, the 26th\, as well. We hope to see you there!
URL:https://visitpikeville.com/event/line-dancing-8-2-2-2/
LOCATION:Pike County Extension Office\, 148 Trivette Dr\, Pikeville\, KY\, 41501\, United States
CATEGORIES:Pike County Cooperative Extension Office
ATTACH;FMTTYPE=image/jpeg:https://visitpikeville.com/wp-content/uploads/2026/03/LINE.jpg
END:VEVENT
BEGIN:VEVENT
DTSTART;TZID=America/Kentucky/Louisville:20260530T100000
DTEND;TZID=America/Kentucky/Louisville:20260530T130000
DTSTAMP:20260424T053517
CREATED:20260302T133046Z
LAST-MODIFIED:20260302T133046Z
UID:73318-1780135200-1780146000@visitpikeville.com
SUMMARY:4-H Poultry Club
DESCRIPTION:Come and join our State Award winning Poultry and Avian bowl team! \nOpen for ages 9-18 to compete at the Kentucky State Fair this August. Give us a call at the Pike County Extension office if you plan on coming to our initial meeting on April 25th. We can’t wait to see you and we’re excited to begin working on another great year!
URL:https://visitpikeville.com/event/4-h-poultry-club-2-2/
LOCATION:Pike County Extension Office\, 148 Trivette Dr\, Pikeville\, KY\, 41501\, United States
CATEGORIES:Pike County Cooperative Extension Office
ATTACH;FMTTYPE=image/jpeg:https://visitpikeville.com/wp-content/uploads/2026/03/4h-poultry.jpg
END:VEVENT
BEGIN:VEVENT
DTSTART;TZID=America/Kentucky/Louisville:20260619T090000
DTEND;TZID=America/Kentucky/Louisville:20260619T150000
DTSTAMP:20260424T053517
CREATED:20260302T133143Z
LAST-MODIFIED:20260302T133143Z
UID:73320-1781859600-1781881200@visitpikeville.com
SUMMARY:4-H Poultry Club
DESCRIPTION:Come and join our State Award winning Poultry and Avian bowl team! \nOpen for ages 9-18 to compete at the Kentucky State Fair this August. Give us a call at the Pike County Extension office if you plan on coming to our initial meeting on April 25th. We can’t wait to see you and we’re excited to begin working on another great year!
URL:https://visitpikeville.com/event/4-h-poultry-club-2-2-2/
LOCATION:Pike County Extension Office\, 148 Trivette Dr\, Pikeville\, KY\, 41501\, United States
CATEGORIES:Pike County Cooperative Extension Office
ATTACH;FMTTYPE=image/jpeg:https://visitpikeville.com/wp-content/uploads/2026/03/4h-poultry.jpg
END:VEVENT
END:VCALENDAR