BEGIN:VCALENDAR
VERSION:2.0
PRODID:-//Visit Pikeville - ECPv6.15.20//NONSGML v1.0//EN
CALSCALE:GREGORIAN
METHOD:PUBLISH
X-WR-CALNAME:Visit Pikeville
X-ORIGINAL-URL:https://visitpikeville.com
X-WR-CALDESC:Events for Visit Pikeville
REFRESH-INTERVAL;VALUE=DURATION:PT1H
X-Robots-Tag:noindex
X-PUBLISHED-TTL:PT1H
BEGIN:VTIMEZONE
TZID:America/Kentucky/Louisville
BEGIN:DAYLIGHT
TZOFFSETFROM:-0500
TZOFFSETTO:-0400
TZNAME:EDT
DTSTART:20240310T070000
END:DAYLIGHT
BEGIN:STANDARD
TZOFFSETFROM:-0400
TZOFFSETTO:-0500
TZNAME:EST
DTSTART:20241103T060000
END:STANDARD
BEGIN:DAYLIGHT
TZOFFSETFROM:-0500
TZOFFSETTO:-0400
TZNAME:EDT
DTSTART:20250309T070000
END:DAYLIGHT
BEGIN:STANDARD
TZOFFSETFROM:-0400
TZOFFSETTO:-0500
TZNAME:EST
DTSTART:20251102T060000
END:STANDARD
BEGIN:DAYLIGHT
TZOFFSETFROM:-0500
TZOFFSETTO:-0400
TZNAME:EDT
DTSTART:20260308T070000
END:DAYLIGHT
BEGIN:STANDARD
TZOFFSETFROM:-0400
TZOFFSETTO:-0500
TZNAME:EST
DTSTART:20261101T060000
END:STANDARD
BEGIN:DAYLIGHT
TZOFFSETFROM:-0500
TZOFFSETTO:-0400
TZNAME:EDT
DTSTART:20270314T070000
END:DAYLIGHT
BEGIN:STANDARD
TZOFFSETFROM:-0400
TZOFFSETTO:-0500
TZNAME:EST
DTSTART:20271107T060000
END:STANDARD
END:VTIMEZONE
BEGIN:VEVENT
DTSTART;TZID=America/Kentucky/Louisville:20260203T170000
DTEND;TZID=America/Kentucky/Louisville:20260203T183000
DTSTAMP:20260423T153432
CREATED:20260203T154724Z
LAST-MODIFIED:20260203T154724Z
UID:72847-1770138000-1770143400@visitpikeville.com
SUMMARY:Ag Explorers Club meeting of 2026
DESCRIPTION:Come out to our first Ag Explorers Club meeting of 2026! Come hang out with your friends and learn all about maple syrup and how to tap a tree! Give us a call to register
URL:https://visitpikeville.com/event/ag-explorers-club-meeting-of-2026/
LOCATION:Pike County Extension Office\, 148 Trivette Dr\, Pikeville\, KY\, 41501\, United States
CATEGORIES:Pike County Cooperative Extension Office
ATTACH;FMTTYPE=image/jpeg:https://visitpikeville.com/wp-content/uploads/2026/02/ag-explorers.jpg
END:VEVENT
BEGIN:VEVENT
DTSTART;TZID=America/Kentucky/Louisville:20260107T180000
DTEND;TZID=America/Kentucky/Louisville:20260107T190000
DTSTAMP:20260423T153432
CREATED:20260112T151553Z
LAST-MODIFIED:20260112T151553Z
UID:72409-1767808800-1767812400@visitpikeville.com
SUMMARY:Maple in the Classroom
DESCRIPTION:If you are interested or have questions\, please contact our office at (606)432-2534
URL:https://visitpikeville.com/event/maple-in-the-classroom/
LOCATION:Pike County Extension Office\, 148 Trivette Dr\, Pikeville\, KY\, 41501\, United States
CATEGORIES:Pike County Cooperative Extension Office
ATTACH;FMTTYPE=image/jpeg:https://visitpikeville.com/wp-content/uploads/2026/01/maple.jpg
END:VEVENT
BEGIN:VEVENT
DTSTART;TZID=America/Kentucky/Louisville:20251228T130000
DTEND;TZID=America/Kentucky/Louisville:20251228T160000
DTSTAMP:20260423T153432
CREATED:20251215T143533Z
LAST-MODIFIED:20251215T143533Z
UID:72077-1766926800-1766937600@visitpikeville.com
SUMMARY:Auditions for little women
DESCRIPTION:Come out and audition for our literary production this season\, Louisa May Alcott’s ‘Little Women.’ No experience or preparation is needed as auditions will consist of cold readings from the script. Emily Chaney will be directing this show.
URL:https://visitpikeville.com/event/auditions-for-little-women/
LOCATION:Pike County Extension Office\, 148 Trivette Dr\, Pikeville\, KY\, 41501\, United States
CATEGORIES:Pike County Cooperative Extension Office
ATTACH;FMTTYPE=image/jpeg:https://visitpikeville.com/wp-content/uploads/2025/12/auditions.jpg
END:VEVENT
BEGIN:VEVENT
DTSTART;TZID=America/Kentucky/Louisville:20251215T170000
DTEND;TZID=America/Kentucky/Louisville:20251215T180000
DTSTAMP:20260423T153432
CREATED:20251103T124108Z
LAST-MODIFIED:20251103T124108Z
UID:70686-1765818000-1765821600@visitpikeville.com
SUMMARY:Pike County 4-H Teen Council
DESCRIPTION:Are you a teen looking to grow as a leader and make a difference? The Pike County 4-H Teen Council is the perfect place to: Create and lead community service projects Assist with school fairs and local events Earn opportunities to attend State 4-H trips and conferences Build friendships and develop leadership skills that last a lifetimeWe want YOU to be part of this exciting journey! Come see what 4-H Teen Council is all about — your voice matters!
URL:https://visitpikeville.com/event/pike-county-4-h-teen-council-3/
LOCATION:Pike County Extension Office\, 148 Trivette Dr\, Pikeville\, KY\, 41501\, United States
CATEGORIES:Pike County Cooperative Extension Office
ATTACH;FMTTYPE=image/jpeg:https://visitpikeville.com/wp-content/uploads/2025/11/teen-council.jpg
END:VEVENT
BEGIN:VEVENT
DTSTART;TZID=America/Kentucky/Louisville:20251215T170000
DTEND;TZID=America/Kentucky/Louisville:20251215T180000
DTSTAMP:20260423T153432
CREATED:20250929T133829Z
LAST-MODIFIED:20250929T133829Z
UID:69005-1765818000-1765821600@visitpikeville.com
SUMMARY:Pike County 4-H Teen Council
DESCRIPTION:Are you a teen looking to grow as a leader and make a difference? The Pike County 4-H Teen Council is the perfect place to: Create and lead community service projects Assist with school fairs and local events Earn opportunities to attend State 4-H trips and conferences Build friendships and develop leadership skills that last a lifetimeWe want YOU to be part of this exciting journey! Come see what 4-H Teen Council is all about — your voice matters!
URL:https://visitpikeville.com/event/pike-county-4-h-teen-council-2/
LOCATION:Pike County Extension Office\, 148 Trivette Dr\, Pikeville\, KY\, 41501\, United States
CATEGORIES:Pike County Cooperative Extension Office
ATTACH;FMTTYPE=image/jpeg:https://visitpikeville.com/wp-content/uploads/2025/09/teen.jpg
END:VEVENT
BEGIN:VEVENT
DTSTART;TZID=America/Kentucky/Louisville:20251120T180000
DTEND;TZID=America/Kentucky/Louisville:20251120T200000
DTSTAMP:20260423T153432
CREATED:20251103T123117Z
LAST-MODIFIED:20251103T123117Z
UID:70681-1763661600-1763668800@visitpikeville.com
SUMMARY:Line Dancing
DESCRIPTION:No Sign-up Required
URL:https://visitpikeville.com/event/line-dancing-3-2-2/
LOCATION:Pike County Extension Office\, 148 Trivette Dr\, Pikeville\, KY\, 41501\, United States
CATEGORIES:Pike County Cooperative Extension Office
ATTACH;FMTTYPE=image/jpeg:https://visitpikeville.com/wp-content/uploads/2025/11/line.jpg
END:VEVENT
BEGIN:VEVENT
DTSTART;TZID=America/Kentucky/Louisville:20251117T170000
DTEND;TZID=America/Kentucky/Louisville:20251117T180000
DTSTAMP:20260423T153432
CREATED:20251103T123656Z
LAST-MODIFIED:20251103T123656Z
UID:70683-1763398800-1763402400@visitpikeville.com
SUMMARY:Visual Arts Club meeting
DESCRIPTION:This club is perfect for any young artist who loves creating and wants to sharpen their skills. Whether you’re a seasoned painter or just starting out\, we welcome all levels of experience. Come join us and let your creativity shine!\n\n\n To register\, call the Pike County Extension Office. We can’t wait to see the amazing talent our young artists will bring!
URL:https://visitpikeville.com/event/visual-arts-club-meeting/
LOCATION:Pike County Extension Office\, 148 Trivette Dr\, Pikeville\, KY\, 41501\, United States
CATEGORIES:Pike County Cooperative Extension Office
ATTACH;FMTTYPE=image/jpeg:https://visitpikeville.com/wp-content/uploads/2025/11/visual-arts.jpg
END:VEVENT
BEGIN:VEVENT
DTSTART;TZID=America/Kentucky/Louisville:20251117T170000
DTEND;TZID=America/Kentucky/Louisville:20251117T180000
DTSTAMP:20260423T153432
CREATED:20250929T134138Z
LAST-MODIFIED:20250929T134138Z
UID:69010-1763398800-1763402400@visitpikeville.com
SUMMARY:4-H Visual Arts Club
DESCRIPTION:This club is perfect for any young artist who loves creating and wants to sharpen their skills. Whether you’re a seasoned painter or just starting out\, we welcome all levels of experience. Come join us and let your creativity shine! To register\, call the Pike County Extension Office. We can’t wait to see the amazing talent our young artists will bring!
URL:https://visitpikeville.com/event/4-h-visual-arts-club-2-2/
LOCATION:Pike County Extension Office\, 148 Trivette Dr\, Pikeville\, KY\, 41501\, United States
CATEGORIES:Pike County Cooperative Extension Office,Pike County Extension Community Arts
ATTACH;FMTTYPE=image/jpeg:https://visitpikeville.com/wp-content/uploads/2025/09/4h.jpg
END:VEVENT
BEGIN:VEVENT
DTSTART;TZID=America/Kentucky/Louisville:20251115T170000
DTEND;TZID=America/Kentucky/Louisville:20251115T183000
DTSTAMP:20260423T153432
CREATED:20250707T140631Z
LAST-MODIFIED:20250707T140631Z
UID:65682-1763226000-1763231400@visitpikeville.com
SUMMARY:Ag Explorers Club
DESCRIPTION:Join us next month for our brand new Ag Explorers Club in partnership with UK Pike County Agriculture and Natural Resources! This club is for any young person interested in topics such as beekeeping\, agriculture\, hiking\, and more. Give us a call at the Pike County Extension office to register!\n— at UK Pike County Cooperative Extension Service.
URL:https://visitpikeville.com/event/ag-explorers-club-2-2-2/
LOCATION:Pike County Extension Office\, 148 Trivette Dr\, Pikeville\, KY\, 41501\, United States
CATEGORIES:Pike County Cooperative Extension Office
ATTACH;FMTTYPE=image/jpeg:https://visitpikeville.com/wp-content/uploads/2025/07/ag.jpg
END:VEVENT
BEGIN:VEVENT
DTSTART;TZID=America/Kentucky/Louisville:20251111T180000
DTEND;TZID=America/Kentucky/Louisville:20251111T200000
DTSTAMP:20260423T153432
CREATED:20251103T123018Z
LAST-MODIFIED:20251103T123018Z
UID:70678-1762884000-1762891200@visitpikeville.com
SUMMARY:Line Dancing
DESCRIPTION:No Sign-up Required
URL:https://visitpikeville.com/event/line-dancing-3-2/
LOCATION:Pike County Extension Office\, 148 Trivette Dr\, Pikeville\, KY\, 41501\, United States
CATEGORIES:Pike County Cooperative Extension Office
ATTACH;FMTTYPE=image/jpeg:https://visitpikeville.com/wp-content/uploads/2025/11/line.jpg
END:VEVENT
BEGIN:VEVENT
DTSTART;TZID=America/Kentucky/Louisville:20251108T180000
DTEND;TZID=America/Kentucky/Louisville:20251108T210000
DTSTAMP:20260423T153432
CREATED:20251103T122502Z
LAST-MODIFIED:20251103T122502Z
UID:70672-1762624800-1762635600@visitpikeville.com
SUMMARY:Square Dancing
DESCRIPTION:Call 432-2534 for more info
URL:https://visitpikeville.com/event/square-dancing-2/
LOCATION:Pike County Extension Office\, 148 Trivette Dr\, Pikeville\, KY\, 41501\, United States
CATEGORIES:Pike County Cooperative Extension Office
ATTACH;FMTTYPE=image/jpeg:https://visitpikeville.com/wp-content/uploads/2025/11/square-dancing.jpg
END:VEVENT
BEGIN:VEVENT
DTSTART;TZID=America/Kentucky/Louisville:20251106T180000
DTEND;TZID=America/Kentucky/Louisville:20251106T200000
DTSTAMP:20260423T153432
CREATED:20251103T122909Z
LAST-MODIFIED:20251103T122909Z
UID:70675-1762452000-1762459200@visitpikeville.com
SUMMARY:Line Dancing
DESCRIPTION:No Sign-up Required
URL:https://visitpikeville.com/event/line-dancing-3/
LOCATION:Pike County Extension Office\, 148 Trivette Dr\, Pikeville\, KY\, 41501\, United States
CATEGORIES:Pike County Cooperative Extension Office
ATTACH;FMTTYPE=image/jpeg:https://visitpikeville.com/wp-content/uploads/2025/11/line.jpg
END:VEVENT
BEGIN:VEVENT
DTSTART;TZID=America/Kentucky/Louisville:20251028T180000
DTEND;TZID=America/Kentucky/Louisville:20251028T200000
DTSTAMP:20260423T153432
CREATED:20251020T140720Z
LAST-MODIFIED:20251020T140720Z
UID:70059-1761674400-1761681600@visitpikeville.com
SUMMARY:Line Dancing
DESCRIPTION:No Sign-up required!
URL:https://visitpikeville.com/event/line-dancing-2/
LOCATION:Pike County Extension Office\, 148 Trivette Dr\, Pikeville\, KY\, 41501\, United States
CATEGORIES:Pike County Cooperative Extension Office,Pike County Extension Community Arts
ATTACH;FMTTYPE=image/jpeg:https://visitpikeville.com/wp-content/uploads/2025/10/line.jpg
END:VEVENT
BEGIN:VEVENT
DTSTART;TZID=America/Kentucky/Louisville:20251027T170000
DTEND;TZID=America/Kentucky/Louisville:20251027T180000
DTSTAMP:20260423T153432
CREATED:20250929T134058Z
LAST-MODIFIED:20250929T134058Z
UID:69007-1761584400-1761588000@visitpikeville.com
SUMMARY:4-H Visual Arts Club
DESCRIPTION:This club is perfect for any young artist who loves creating and wants to sharpen their skills. Whether you’re a seasoned painter or just starting out\, we welcome all levels of experience. Come join us and let your creativity shine! To register\, call the Pike County Extension Office. We can’t wait to see the amazing talent our young artists will bring!
URL:https://visitpikeville.com/event/4-h-visual-arts-club-2/
LOCATION:Pike County Extension Office\, 148 Trivette Dr\, Pikeville\, KY\, 41501\, United States
CATEGORIES:Pike County Cooperative Extension Office,Pike County Extension Community Arts
ATTACH;FMTTYPE=image/jpeg:https://visitpikeville.com/wp-content/uploads/2025/09/4h.jpg
END:VEVENT
BEGIN:VEVENT
DTSTART;TZID=America/Kentucky/Louisville:20251022T110000
DTEND;TZID=America/Kentucky/Louisville:20251022T130000
DTSTAMP:20260423T153432
CREATED:20250929T134852Z
LAST-MODIFIED:20250929T134852Z
UID:69015-1761130800-1761138000@visitpikeville.com
SUMMARY:Brush & Brunch
DESCRIPTION:RSVP at 606-432-2534
URL:https://visitpikeville.com/event/brush-brunch-4/
LOCATION:Pike County Extension Office\, 148 Trivette Dr\, Pikeville\, KY\, 41501\, United States
CATEGORIES:Pike County Cooperative Extension Office
ATTACH;FMTTYPE=image/jpeg:https://visitpikeville.com/wp-content/uploads/2025/09/brush.jpg
END:VEVENT
BEGIN:VEVENT
DTSTART;TZID=America/Kentucky/Louisville:20251021T170000
DTEND;TZID=America/Kentucky/Louisville:20251021T190000
DTSTAMP:20260423T153432
CREATED:20251006T141919Z
LAST-MODIFIED:20251006T141919Z
UID:69392-1761066000-1761073200@visitpikeville.com
SUMMARY:Clay Mask Workshop
DESCRIPTION:@Pike County Extension Office
URL:https://visitpikeville.com/event/clay-mask-workshop-2/
LOCATION:Pike County Extension Office\, 148 Trivette Dr\, Pikeville\, KY\, 41501\, United States
CATEGORIES:Pike County Cooperative Extension Office
ATTACH;FMTTYPE=image/jpeg:https://visitpikeville.com/wp-content/uploads/2025/10/clay.jpg
END:VEVENT
BEGIN:VEVENT
DTSTART;TZID=America/Kentucky/Louisville:20251021T163000
DTEND;TZID=America/Kentucky/Louisville:20251021T180000
DTSTAMP:20260423T153432
CREATED:20251013T131009Z
LAST-MODIFIED:20251013T131009Z
UID:69687-1761064200-1761069600@visitpikeville.com
SUMMARY:Ag Explorers Club
DESCRIPTION:Our Ag Explorers Club meeting for October has been RESCHEDULED for Tuesday\, October 21st at the Pikeville Farmers Market. If you are interested in learning more about our local farmers\, give us a call at the Pike County Extension Office to register for this club. We will be meeting on the 21st at the Farmers Market!
URL:https://visitpikeville.com/event/ag-explorers-club-3/
LOCATION:Pike County Extension Office\, 148 Trivette Dr\, Pikeville\, KY\, 41501\, United States
CATEGORIES:Pike County Cooperative Extension Office
ATTACH;FMTTYPE=image/jpeg:https://visitpikeville.com/wp-content/uploads/2025/10/ag-explorers.jpg
END:VEVENT
BEGIN:VEVENT
DTSTART;TZID=America/Kentucky/Louisville:20251013T170000
DTEND;TZID=America/Kentucky/Louisville:20251013T180000
DTSTAMP:20260423T153432
CREATED:20250929T133724Z
LAST-MODIFIED:20250929T133724Z
UID:69002-1760374800-1760378400@visitpikeville.com
SUMMARY:Pike County 4-H Teen Council
DESCRIPTION:Are you a teen looking to grow as a leader and make a difference? The Pike County 4-H Teen Council is the perfect place to: Create and lead community service projects Assist with school fairs and local events Earn opportunities to attend State 4-H trips and conferences Build friendships and develop leadership skills that last a lifetimeWe want YOU to be part of this exciting journey! Come see what 4-H Teen Council is all about — your voice matters!
URL:https://visitpikeville.com/event/pike-county-4-h-teen-council/
LOCATION:Pike County Extension Office\, 148 Trivette Dr\, Pikeville\, KY\, 41501\, United States
CATEGORIES:Pike County Cooperative Extension Office
ATTACH;FMTTYPE=image/jpeg:https://visitpikeville.com/wp-content/uploads/2025/09/teen.jpg
END:VEVENT
BEGIN:VEVENT
DTSTART;TZID=America/Kentucky/Louisville:20251011T130000
DTEND;TZID=America/Kentucky/Louisville:20251011T150000
DTSTAMP:20260423T153432
CREATED:20251006T141822Z
LAST-MODIFIED:20251006T141822Z
UID:69389-1760187600-1760194800@visitpikeville.com
SUMMARY:Clay Mask Workshop
DESCRIPTION:@Pike County Extension Office
URL:https://visitpikeville.com/event/clay-mask-workshop/
LOCATION:Pike County Extension Office\, 148 Trivette Dr\, Pikeville\, KY\, 41501\, United States
CATEGORIES:Pike County Cooperative Extension Office
ATTACH;FMTTYPE=image/jpeg:https://visitpikeville.com/wp-content/uploads/2025/10/clay.jpg
END:VEVENT
BEGIN:VEVENT
DTSTART;TZID=America/Kentucky/Louisville:20251011T080000
DTEND;TZID=America/Kentucky/Louisville:20251011T120000
DTSTAMP:20260423T153432
CREATED:20250707T140546Z
LAST-MODIFIED:20250707T140546Z
UID:65680-1760169600-1760184000@visitpikeville.com
SUMMARY:Ag Explorers Club
DESCRIPTION:Join us next month for our brand new Ag Explorers Club in partnership with UK Pike County Agriculture and Natural Resources! This club is for any young person interested in topics such as beekeeping\, agriculture\, hiking\, and more. Give us a call at the Pike County Extension office to register!\n— at UK Pike County Cooperative Extension Service.
URL:https://visitpikeville.com/event/ag-explorers-club-2-2/
LOCATION:Pike County Extension Office\, 148 Trivette Dr\, Pikeville\, KY\, 41501\, United States
CATEGORIES:Pike County Cooperative Extension Office
ATTACH;FMTTYPE=image/jpeg:https://visitpikeville.com/wp-content/uploads/2025/07/ag.jpg
END:VEVENT
BEGIN:VEVENT
DTSTART;TZID=America/Kentucky/Louisville:20250930T180000
DTEND;TZID=America/Kentucky/Louisville:20250930T200000
DTSTAMP:20260423T153432
CREATED:20250929T132830Z
LAST-MODIFIED:20250929T132830Z
UID:68993-1759255200-1759262400@visitpikeville.com
SUMMARY:Line Dancing
DESCRIPTION:No Sign-up required!
URL:https://visitpikeville.com/event/line-dancing/
LOCATION:Pike County Extension Office\, 148 Trivette Dr\, Pikeville\, KY\, 41501\, United States
CATEGORIES:Pike County Cooperative Extension Office,Pike County Extension Community Arts
ATTACH;FMTTYPE=image/jpeg:https://visitpikeville.com/wp-content/uploads/2025/09/line-dancing.jpg
END:VEVENT
BEGIN:VEVENT
DTSTART;TZID=America/Kentucky/Louisville:20250922T170000
DTEND;TZID=America/Kentucky/Louisville:20250922T180000
DTSTAMP:20260423T153432
CREATED:20250908T172207Z
LAST-MODIFIED:20250908T172207Z
UID:68230-1758560400-1758564000@visitpikeville.com
SUMMARY:4-H Visual Arts Club
DESCRIPTION:Back by Popular Demand! \nThe 4-H Visual Arts Club\, in partnership with Pike County Extension Community Arts\, is excited to begin a new program year!\n\n\n First Meeting: September 22nd\n Time: 5:00 PM\n Location: Pike County Extension Office\n\n\nThis club is perfect for any young artist who loves creating and wants to sharpen their skills. Whether you’re a seasoned painter or just starting out\, we welcome all levels of experience. Come join us and let your creativity shine!\n\n\n To register\, call the Pike County Extension Office. We can’t wait to see the amazing talent our young artists will bring!
URL:https://visitpikeville.com/event/4-h-visual-arts-club/
LOCATION:Pike County Extension Office\, 148 Trivette Dr\, Pikeville\, KY\, 41501\, United States
CATEGORIES:Pike County Cooperative Extension Office
ATTACH;FMTTYPE=image/jpeg:https://visitpikeville.com/wp-content/uploads/2025/09/visual.jpg
END:VEVENT
BEGIN:VEVENT
DTSTART;TZID=America/Kentucky/Louisville:20250920T180000
DTEND;TZID=America/Kentucky/Louisville:20250920T210000
DTSTAMP:20260423T153432
CREATED:20250825T122325Z
LAST-MODIFIED:20250825T122325Z
UID:67489-1758391200-1758402000@visitpikeville.com
SUMMARY:Square Dancing
DESCRIPTION:No experience or sign up required! Just show up and have fun!
URL:https://visitpikeville.com/event/square-dancing/
LOCATION:Pike County Cooperative Extension Office\, 148 Trivette Dr\, Pikeville\, KY\, 41501\, United States
CATEGORIES:Pike County Cooperative Extension Office
ATTACH;FMTTYPE=image/jpeg:https://visitpikeville.com/wp-content/uploads/2025/08/square-dancing.jpg
END:VEVENT
BEGIN:VEVENT
DTSTART;TZID=America/Kentucky/Louisville:20250909T170000
DTEND;TZID=America/Kentucky/Louisville:20250909T183000
DTSTAMP:20260423T153432
CREATED:20250707T134858Z
LAST-MODIFIED:20250707T134858Z
UID:65678-1757437200-1757442600@visitpikeville.com
SUMMARY:Ag Explorers Club
DESCRIPTION:Join us next month for our brand new Ag Explorers Club in partnership with UK Pike County Agriculture and Natural Resources! This club is for any young person interested in topics such as beekeeping\, agriculture\, hiking\, and more. Give us a call at the Pike County Extension office to register!\n— at UK Pike County Cooperative Extension Service.
URL:https://visitpikeville.com/event/ag-explorers-club-2/
LOCATION:Pike County Extension Office\, 148 Trivette Dr\, Pikeville\, KY\, 41501\, United States
CATEGORIES:Pike County Cooperative Extension Office
ATTACH;FMTTYPE=image/jpeg:https://visitpikeville.com/wp-content/uploads/2025/07/ag.jpg
END:VEVENT
BEGIN:VEVENT
DTSTART;TZID=America/Kentucky/Louisville:20250810T130000
DTEND;TZID=America/Kentucky/Louisville:20250810T170000
DTSTAMP:20260423T153432
CREATED:20250728T184757Z
LAST-MODIFIED:20250728T184757Z
UID:66442-1754830800-1754845200@visitpikeville.com
SUMMARY:AUDITIONS: ACT's Production of Dracula by Bram Stoker
DESCRIPTION:Co-Directed by Jason Justice & Treyton Blackburn.\nRehearsals will begin August 15.\nPerformances will run through the month of October on Fridays\, Saturdays\, and Sundays.\nSynopsis: Jonathan Harker\, a young solicitor under the employ of the newly promoted Mr. Renfield\, must travel from London to Transylvania to finalize an estate sale to the mysterious Count Dracula. At the same time\, his fiancée Mina Murray cares for the eligible Lucy Westenra as she is courted by both three suitors and a mysterious sleepwalking illness. As Jonathan goes missing and Lucy’s state rapidly declines\, Mina suspects a sinister intent links these two woes. Based on the original novel by Bram Stoker\, this new adaptation by local playwright Treyton Blackburn highlights the humanity\, tragedy\, and horror of the world’s most famous vampire story
URL:https://visitpikeville.com/event/auditions-acts-production-of-dracula-by-bram-stoker/
LOCATION:Pike County Extension Office\, 148 Trivette Dr\, Pikeville\, KY\, 41501\, United States
CATEGORIES:Pike County Cooperative Extension Office
ATTACH;FMTTYPE=image/jpeg:https://visitpikeville.com/wp-content/uploads/2025/07/dracula.jpg
END:VEVENT
BEGIN:VEVENT
DTSTART;TZID=America/Kentucky/Louisville:20250809T083000
DTEND;TZID=America/Kentucky/Louisville:20250809T103000
DTSTAMP:20260423T153432
CREATED:20250707T134736Z
LAST-MODIFIED:20250707T134736Z
UID:65675-1754728200-1754735400@visitpikeville.com
SUMMARY:Ag Explorers Club
DESCRIPTION:Join us next month for our brand new Ag Explorers Club in partnership with UK Pike County Agriculture and Natural Resources! This club is for any young person interested in topics such as beekeeping\, agriculture\, hiking\, and more. Give us a call at the Pike County Extension office to register!\n— at UK Pike County Cooperative Extension Service.
URL:https://visitpikeville.com/event/ag-explorers-club/
LOCATION:Pike County Extension Office\, 148 Trivette Dr\, Pikeville\, KY\, 41501\, United States
CATEGORIES:Pike County Cooperative Extension Office
ATTACH;FMTTYPE=image/jpeg:https://visitpikeville.com/wp-content/uploads/2025/07/ag.jpg
END:VEVENT
BEGIN:VEVENT
DTSTART;TZID=America/Kentucky/Louisville:20250717T180000
DTEND;TZID=America/Kentucky/Louisville:20250717T210000
DTSTAMP:20260423T153432
CREATED:20250714T135212Z
LAST-MODIFIED:20250714T135212Z
UID:65918-1752775200-1752786000@visitpikeville.com
SUMMARY:Bloodsong: The Story of the HATFIELDS AND MCCOYS
DESCRIPTION:ATTENTION all thespians\, actors\, want to be actors\, and anyone else interested in our cornerstone historic story of Eastern KY/Appalachia! Bloodsong: The Story of the HATFIELDS AND MCCOYS\, will begin rehearsals this Thursday\, July 17th. NO EXPERIENCE NEEDED!!!!!! Come out this Thursday to meet the cast and crew of Bloodsong\, and join our CLAN! Our first rehearsal/read through/meeting will be 7/17\, 6pm to 9pm\, in the Pike County Extension Office at 148 Trivette Drive\, Pikeville\, KY\, 41501.
URL:https://visitpikeville.com/event/bloodsong-the-story-of-the-hatfields-and-mccoys/
LOCATION:Pike County Extension Office\, 148 Trivette Dr\, Pikeville\, KY\, 41501\, United States
CATEGORIES:Pike County Cooperative Extension Office
ATTACH;FMTTYPE=image/jpeg:https://visitpikeville.com/wp-content/uploads/2025/07/bloodsong.jpg
END:VEVENT
BEGIN:VEVENT
DTSTART;TZID=America/Kentucky/Louisville:20250703T093000
DTEND;TZID=America/Kentucky/Louisville:20250703T150000
DTSTAMP:20260423T153432
CREATED:20250616T123506Z
LAST-MODIFIED:20250616T123506Z
UID:65208-1751535000-1751554800@visitpikeville.com
SUMMARY:Life Skills Day Camp
DESCRIPTION:Call the Pike County Extension Office to register for our new day camp designed by our very own former 4-Her and current summer intern\, Yachi Lisa Mu! This camp is designed to teach young adults important life skills such as how to cook a full meal\, change a tire\, and sew a button. Check out the flyer for more details!
URL:https://visitpikeville.com/event/life-skills-day-camp/
LOCATION:Pike County Cooperative Extension Office\, 148 Trivette Dr\, Pikeville\, KY\, 41501\, United States
CATEGORIES:Pike County Cooperative Extension Office
ATTACH;FMTTYPE=image/jpeg:https://visitpikeville.com/wp-content/uploads/2025/06/life-skills-e1750077298477.jpg
END:VEVENT
BEGIN:VEVENT
DTSTART;TZID=America/Kentucky/Louisville:20250607T090000
DTEND;TZID=America/Kentucky/Louisville:20250607T140000
DTSTAMP:20260423T153432
CREATED:20250512T174509Z
LAST-MODIFIED:20250512T174509Z
UID:64466-1749286800-1749304800@visitpikeville.com
SUMMARY:4H County Fair
DESCRIPTION:We have seen some great projects from every school in the county! Now its time to bring those projects to the County Fair and compete for the opportunity for your project to move on to the KY State Fair in August!\n\n\n If you won a blue ribbon at your school fair\, or would just like the opportunity to compete at the county level\, bring your project to the Pike County Extension Office on June 7th beginning at 9am. Judging will begin at 9:30am and you will be excused while the judging takes place. Winners will be announced at 2:00pm.\n\n\nWe will bring all county level winning projects to the State Fair with us in August where you could earn some serious bragging rights and represent Pike County!
URL:https://visitpikeville.com/event/4h-county-fair/
LOCATION:Pike County Cooperative Extension Office\, 148 Trivette Dr\, Pikeville\, KY\, 41501\, United States
CATEGORIES:Pike County Cooperative Extension Office
ATTACH;FMTTYPE=image/jpeg:https://visitpikeville.com/wp-content/uploads/2025/05/county-fair.jpg
END:VEVENT
BEGIN:VEVENT
DTSTART;TZID=America/Kentucky/Louisville:20250604T110000
DTEND;TZID=America/Kentucky/Louisville:20250604T130000
DTSTAMP:20260423T153432
CREATED:20250527T121543Z
LAST-MODIFIED:20250527T121543Z
UID:64749-1749034800-1749042000@visitpikeville.com
SUMMARY:Brush & Brunch
DESCRIPTION:Join us for some good food\, and fun! June 4th @ 11am!
URL:https://visitpikeville.com/event/brush-brunch-3/
LOCATION:Pike Co. Extension Community Arts\, 148 Trivette Dr\, Pikeville\, KY\, United States
CATEGORIES:Pike County Cooperative Extension Office
ATTACH;FMTTYPE=image/jpeg:https://visitpikeville.com/wp-content/uploads/2025/05/brush.jpg
END:VEVENT
END:VCALENDAR