BEGIN:VCALENDAR
VERSION:2.0
PRODID:-//Visit Pikeville - ECPv6.15.20//NONSGML v1.0//EN
CALSCALE:GREGORIAN
METHOD:PUBLISH
X-WR-CALNAME:Visit Pikeville
X-ORIGINAL-URL:https://visitpikeville.com
X-WR-CALDESC:Events for Visit Pikeville
REFRESH-INTERVAL;VALUE=DURATION:PT1H
X-Robots-Tag:noindex
X-PUBLISHED-TTL:PT1H
BEGIN:VTIMEZONE
TZID:America/Kentucky/Louisville
BEGIN:DAYLIGHT
TZOFFSETFROM:-0500
TZOFFSETTO:-0400
TZNAME:EDT
DTSTART:20240310T070000
END:DAYLIGHT
BEGIN:STANDARD
TZOFFSETFROM:-0400
TZOFFSETTO:-0500
TZNAME:EST
DTSTART:20241103T060000
END:STANDARD
BEGIN:DAYLIGHT
TZOFFSETFROM:-0500
TZOFFSETTO:-0400
TZNAME:EDT
DTSTART:20250309T070000
END:DAYLIGHT
BEGIN:STANDARD
TZOFFSETFROM:-0400
TZOFFSETTO:-0500
TZNAME:EST
DTSTART:20251102T060000
END:STANDARD
BEGIN:DAYLIGHT
TZOFFSETFROM:-0500
TZOFFSETTO:-0400
TZNAME:EDT
DTSTART:20260308T070000
END:DAYLIGHT
BEGIN:STANDARD
TZOFFSETFROM:-0400
TZOFFSETTO:-0500
TZNAME:EST
DTSTART:20261101T060000
END:STANDARD
END:VTIMEZONE
BEGIN:VEVENT
DTSTART;TZID=America/Kentucky/Louisville:20250703T093000
DTEND;TZID=America/Kentucky/Louisville:20250703T150000
DTSTAMP:20260424T050813
CREATED:20250616T123506Z
LAST-MODIFIED:20250616T123506Z
UID:65208-1751535000-1751554800@visitpikeville.com
SUMMARY:Life Skills Day Camp
DESCRIPTION:Call the Pike County Extension Office to register for our new day camp designed by our very own former 4-Her and current summer intern\, Yachi Lisa Mu! This camp is designed to teach young adults important life skills such as how to cook a full meal\, change a tire\, and sew a button. Check out the flyer for more details!
URL:https://visitpikeville.com/event/life-skills-day-camp/
LOCATION:Pike County Cooperative Extension Office\, 148 Trivette Dr\, Pikeville\, KY\, 41501\, United States
CATEGORIES:Pike County Cooperative Extension Office
ATTACH;FMTTYPE=image/jpeg:https://visitpikeville.com/wp-content/uploads/2025/06/life-skills-e1750077298477.jpg
END:VEVENT
BEGIN:VEVENT
DTSTART;TZID=America/Kentucky/Louisville:20250717T180000
DTEND;TZID=America/Kentucky/Louisville:20250717T210000
DTSTAMP:20260424T050813
CREATED:20250714T135212Z
LAST-MODIFIED:20250714T135212Z
UID:65918-1752775200-1752786000@visitpikeville.com
SUMMARY:Bloodsong: The Story of the HATFIELDS AND MCCOYS
DESCRIPTION:ATTENTION all thespians\, actors\, want to be actors\, and anyone else interested in our cornerstone historic story of Eastern KY/Appalachia! Bloodsong: The Story of the HATFIELDS AND MCCOYS\, will begin rehearsals this Thursday\, July 17th. NO EXPERIENCE NEEDED!!!!!! Come out this Thursday to meet the cast and crew of Bloodsong\, and join our CLAN! Our first rehearsal/read through/meeting will be 7/17\, 6pm to 9pm\, in the Pike County Extension Office at 148 Trivette Drive\, Pikeville\, KY\, 41501.
URL:https://visitpikeville.com/event/bloodsong-the-story-of-the-hatfields-and-mccoys/
LOCATION:Pike County Extension Office\, 148 Trivette Dr\, Pikeville\, KY\, 41501\, United States
CATEGORIES:Pike County Cooperative Extension Office
ATTACH;FMTTYPE=image/jpeg:https://visitpikeville.com/wp-content/uploads/2025/07/bloodsong.jpg
END:VEVENT
END:VCALENDAR