BEGIN:VCALENDAR
VERSION:2.0
PRODID:-//Visit Pikeville - ECPv6.15.20//NONSGML v1.0//EN
CALSCALE:GREGORIAN
METHOD:PUBLISH
X-ORIGINAL-URL:https://visitpikeville.com
X-WR-CALDESC:Events for Visit Pikeville
REFRESH-INTERVAL;VALUE=DURATION:PT1H
X-Robots-Tag:noindex
X-PUBLISHED-TTL:PT1H
BEGIN:VTIMEZONE
TZID:America/Kentucky/Louisville
BEGIN:DAYLIGHT
TZOFFSETFROM:-0500
TZOFFSETTO:-0400
TZNAME:EDT
DTSTART:20240310T070000
END:DAYLIGHT
BEGIN:STANDARD
TZOFFSETFROM:-0400
TZOFFSETTO:-0500
TZNAME:EST
DTSTART:20241103T060000
END:STANDARD
BEGIN:DAYLIGHT
TZOFFSETFROM:-0500
TZOFFSETTO:-0400
TZNAME:EDT
DTSTART:20250309T070000
END:DAYLIGHT
BEGIN:STANDARD
TZOFFSETFROM:-0400
TZOFFSETTO:-0500
TZNAME:EST
DTSTART:20251102T060000
END:STANDARD
BEGIN:DAYLIGHT
TZOFFSETFROM:-0500
TZOFFSETTO:-0400
TZNAME:EDT
DTSTART:20260308T070000
END:DAYLIGHT
BEGIN:STANDARD
TZOFFSETFROM:-0400
TZOFFSETTO:-0500
TZNAME:EST
DTSTART:20261101T060000
END:STANDARD
END:VTIMEZONE
BEGIN:VEVENT
DTSTART;VALUE=DATE:20250717
DTEND;VALUE=DATE:20250718
DTSTAMP:20260425T113524
CREATED:20250702T152213Z
LAST-MODIFIED:20250702T152213Z
UID:65437-1752710400-1752796799@visitpikeville.com
SUMMARY:Thirsty Thursday
DESCRIPTION:@ The Mine 606
URL:https://visitpikeville.com/event/thirsty-thursday-2-2-2-2-2/
LOCATION:The Mine 606\, 121 Main St\, Pikeville\, KY\, 41501\, United States
CATEGORIES:Other
ATTACH;FMTTYPE=image/jpeg:https://visitpikeville.com/wp-content/uploads/2025/06/mine.jpg
END:VEVENT
BEGIN:VEVENT
DTSTART;TZID=America/Kentucky/Louisville:20250718T193000
DTEND;TZID=America/Kentucky/Louisville:20250718T223000
DTSTAMP:20260425T113524
CREATED:20250707T130326Z
LAST-MODIFIED:20250714T141454Z
UID:65654-1752867000-1752877800@visitpikeville.com
SUMMARY:Live Music at Bank 253
DESCRIPTION:Tim Michaels \n7:30 – 10:30 pm
URL:https://visitpikeville.com/event/live-music-at-bank-253-3-2-2-2-2-2-2-2-2-2-2-2-2-2-2-2-2-2-2-2-2-2-2-2-2-2-2/
LOCATION:Bank 253\, 253 2nd St\,\, Pikeville\, KY\, 41501\, United States
CATEGORIES:Other
ATTACH;FMTTYPE=image/jpeg:https://visitpikeville.com/wp-content/uploads/2025/02/bank253.jpg
END:VEVENT
BEGIN:VEVENT
DTSTART;TZID=America/Kentucky/Louisville:20250719T113000
DTEND;TZID=America/Kentucky/Louisville:20250719T143000
DTSTAMP:20260425T113524
CREATED:20250707T131204Z
LAST-MODIFIED:20250707T131204Z
UID:65662-1752924600-1752935400@visitpikeville.com
SUMMARY:Hillbilly Christmas in July
DESCRIPTION:SATURDAY JULY 19\, a Milestone Event\, for Hillbilly Christmas in July will be Celebrating 20 Years of our “Randy Jones Memorial Ride for The Kids”. This year’s event\, will leave “MineShaft Harley-Davidson” at 1pm. Registration 11:30 to 12:30 pm. Motorcycles\, Jeeps\, Cars\, Trucks\, Show Cars\, or your Daily Driver join us as we travel through beautiful Eastern Kentucky to reach our destination the “Appalachian Wireless Arena”. Lunch will be provided . Silent Auction. The drawing for the WINNING TICKET for the 2024 HARLEY DAVIDSON MOTORCYCLE! (do not need to be present to win the motorcycle) See you there! THANK YOU FOR YOUR SUPPORT + PLEASE SHARE! #hij #wedoitforthekids #celebrating20years
URL:https://visitpikeville.com/event/hillbilly-christmas-in-july-2/
LOCATION:Appalachian Wireless Arena\, 126 Main Street\, Pikeville\, Ky\, 41501
CATEGORIES:Other
ATTACH;FMTTYPE=image/jpeg:https://visitpikeville.com/wp-content/uploads/2025/07/CHRISTMAS.jpg
END:VEVENT
BEGIN:VEVENT
DTSTART;TZID=America/Kentucky/Louisville:20250719T193000
DTEND;TZID=America/Kentucky/Louisville:20250719T223000
DTSTAMP:20260425T113524
CREATED:20250707T130404Z
LAST-MODIFIED:20250714T141541Z
UID:65656-1752953400-1752964200@visitpikeville.com
SUMMARY:Live Music at Bank 253
DESCRIPTION:Julia Still \n7:30 – 10:30 pm
URL:https://visitpikeville.com/event/live-music-at-bank-253-3-2-2-2-2-2-2-2-2-2-2-2-2-2-2-2-2-2-2-2-2-2-2-2-2-2-2-2/
LOCATION:Bank 253\, 253 2nd St\,\, Pikeville\, KY\, 41501\, United States
CATEGORIES:Other
ATTACH;FMTTYPE=image/jpeg:https://visitpikeville.com/wp-content/uploads/2025/02/bank253.jpg
END:VEVENT
BEGIN:VEVENT
DTSTART;TZID=America/Kentucky/Louisville:20250719T200000
DTEND;TZID=America/Kentucky/Louisville:20250719T220000
DTSTAMP:20260425T113524
CREATED:20250707T141513Z
LAST-MODIFIED:20250707T141513Z
UID:65687-1752955200-1752962400@visitpikeville.com
SUMMARY:B R & The Coal Rush Band
DESCRIPTION:@Pearse’s Place
URL:https://visitpikeville.com/event/b-r-the-coal-rush-band/
LOCATION:Pearse’s Place\, 224 2nd St\,\, Pikeville\, KY\, 41501\, United States
CATEGORIES:Other
ATTACH;FMTTYPE=image/jpeg:https://visitpikeville.com/wp-content/uploads/2025/07/br.jpg
END:VEVENT
BEGIN:VEVENT
DTSTART;TZID=America/Kentucky/Louisville:20250721T173000
DTEND;TZID=America/Kentucky/Louisville:20250721T200000
DTSTAMP:20260425T113524
CREATED:20250702T185246Z
LAST-MODIFIED:20250702T185246Z
UID:65462-1753119000-1753128000@visitpikeville.com
SUMMARY:Mellow Monday's
DESCRIPTION:Card Games @ the Mine 606
URL:https://visitpikeville.com/event/mellow-mondays-2-2-2-2-2-2/
LOCATION:The Mine 606\, 121 Main St\, Pikeville\, KY\, 41501\, United States
CATEGORIES:Other
ATTACH;FMTTYPE=image/jpeg:https://visitpikeville.com/wp-content/uploads/2025/06/mine.jpg
END:VEVENT
BEGIN:VEVENT
DTSTART;VALUE=DATE:20250722
DTEND;VALUE=DATE:20250723
DTSTAMP:20260425T113524
CREATED:20250702T185520Z
LAST-MODIFIED:20250702T185520Z
UID:65470-1753142400-1753228799@visitpikeville.com
SUMMARY:Street Taco Tuesday
DESCRIPTION:@ The Mine 606
URL:https://visitpikeville.com/event/street-taco-tuesday-2-2-2-2-2/
LOCATION:The Mine 606\, 121 Main St\, Pikeville\, KY\, 41501\, United States
CATEGORIES:Other
ATTACH;FMTTYPE=image/jpeg:https://visitpikeville.com/wp-content/uploads/2025/06/mine.jpg
END:VEVENT
BEGIN:VEVENT
DTSTART;TZID=America/Kentucky/Louisville:20250722T130000
DTEND;TZID=America/Kentucky/Louisville:20250722T150000
DTSTAMP:20260425T113524
CREATED:20250721T115934Z
LAST-MODIFIED:20250721T115934Z
UID:66185-1753189200-1753196400@visitpikeville.com
SUMMARY:Kids Painting
DESCRIPTION:Be sure to PRIVATE MESSAGE to hold your spot. Tell us what # and how many spots do you need.
URL:https://visitpikeville.com/event/kids-painting/
LOCATION:2 Broke Art Teachers\, 4505 Weddington Square\,\, Pikeville\, KY\, 41501\, United States
CATEGORIES:Other
ATTACH;FMTTYPE=image/jpeg:https://visitpikeville.com/wp-content/uploads/2025/07/kids.jpg
END:VEVENT
BEGIN:VEVENT
DTSTART;TZID=America/Kentucky/Louisville:20250723T183000
DTEND;TZID=America/Kentucky/Louisville:20250723T200000
DTSTAMP:20260425T113524
CREATED:20250702T152012Z
LAST-MODIFIED:20250702T152012Z
UID:65430-1753295400-1753300800@visitpikeville.com
SUMMARY:Trivia Night
DESCRIPTION:@ The Mine 606
URL:https://visitpikeville.com/event/trivia-night-9-2-2-2/
LOCATION:The Mine 606\, 121 Main St\, Pikeville\, KY\, 41501\, United States
CATEGORIES:Other
ATTACH;FMTTYPE=image/jpeg:https://visitpikeville.com/wp-content/uploads/2025/06/mine.jpg
END:VEVENT
BEGIN:VEVENT
DTSTART;VALUE=DATE:20250724
DTEND;VALUE=DATE:20250725
DTSTAMP:20260425T113524
CREATED:20250702T152243Z
LAST-MODIFIED:20250702T152243Z
UID:65439-1753315200-1753401599@visitpikeville.com
SUMMARY:Thirsty Thursday
DESCRIPTION:@ The Mine 606
URL:https://visitpikeville.com/event/thirsty-thursday-2-2-2-2-2-2/
LOCATION:The Mine 606\, 121 Main St\, Pikeville\, KY\, 41501\, United States
CATEGORIES:Other
ATTACH;FMTTYPE=image/jpeg:https://visitpikeville.com/wp-content/uploads/2025/06/mine.jpg
END:VEVENT
BEGIN:VEVENT
DTSTART;TZID=America/Kentucky/Louisville:20250724T173000
DTEND;TZID=America/Kentucky/Louisville:20250724T193000
DTSTAMP:20260425T113524
CREATED:20250721T115739Z
LAST-MODIFIED:20250721T115739Z
UID:66182-1753378200-1753385400@visitpikeville.com
SUMMARY:Sailboat
DESCRIPTION:Here it is\, the Sailboat that many have admired. Be sure to PRIVATE MESSAGE to reserve your spot.
URL:https://visitpikeville.com/event/sailboat-2/
LOCATION:2 Broke Art Teachers\, 4505 Weddington Square\,\, Pikeville\, KY\, 41501\, United States
CATEGORIES:Other
ATTACH;FMTTYPE=image/jpeg:https://visitpikeville.com/wp-content/uploads/2025/07/sailboat.jpg
END:VEVENT
BEGIN:VEVENT
DTSTART;TZID=America/Kentucky/Louisville:20250725T173000
DTEND;TZID=America/Kentucky/Louisville:20250725T193000
DTSTAMP:20260425T113524
CREATED:20250721T115556Z
LAST-MODIFIED:20250721T115556Z
UID:66179-1753464600-1753471800@visitpikeville.com
SUMMARY:Christmas in July Paintings
DESCRIPTION:As requested Christmas in July offering our most popular designs and a few new ones also. Be sure to PRIVATE MESSAGE to reserve your spots.
URL:https://visitpikeville.com/event/christmas-in-july-paintings/
LOCATION:2 Broke Art Teachers\, 4505 Weddington Square\,\, Pikeville\, KY\, 41501\, United States
CATEGORIES:Other
ATTACH;FMTTYPE=image/jpeg:https://visitpikeville.com/wp-content/uploads/2025/07/christmas-1.jpg
END:VEVENT
BEGIN:VEVENT
DTSTART;TZID=America/Kentucky/Louisville:20250725T180000
DTEND;TZID=America/Kentucky/Louisville:20250725T200000
DTSTAMP:20260425T113524
CREATED:20250707T131411Z
LAST-MODIFIED:20250707T131411Z
UID:65667-1753466400-1753473600@visitpikeville.com
SUMMARY:Pikeville Creative Community Book Club
DESCRIPTION:@ FaithLife Market
URL:https://visitpikeville.com/event/pikeville-creative-community-book-club-2/
LOCATION:Faith Life Market\, 130 Division St\,\, Pikeville\, KY\, 41501\, United States
CATEGORIES:Other
ATTACH;FMTTYPE=image/png:https://visitpikeville.com/wp-content/uploads/2024/11/Screenshot-2024-11-04-at-10.00.46 AM.png
END:VEVENT
BEGIN:VEVENT
DTSTART;TZID=America/Kentucky/Louisville:20250725T193000
DTEND;TZID=America/Kentucky/Louisville:20250725T223000
DTSTAMP:20260425T113524
CREATED:20250707T130440Z
LAST-MODIFIED:20250714T141625Z
UID:65658-1753471800-1753482600@visitpikeville.com
SUMMARY:Live Music at Bank 253
DESCRIPTION:Brady Robinson \n7:30 – 10:30 pm
URL:https://visitpikeville.com/event/live-music-at-bank-253-3-2-2-2-2-2-2-2-2-2-2-2-2-2-2-2-2-2-2-2-2-2-2-2-2-2-2-2-2/
LOCATION:Bank 253\, 253 2nd St\,\, Pikeville\, KY\, 41501\, United States
CATEGORIES:Other
ATTACH;FMTTYPE=image/jpeg:https://visitpikeville.com/wp-content/uploads/2025/02/bank253.jpg
END:VEVENT
BEGIN:VEVENT
DTSTART;TZID=America/Kentucky/Louisville:20250726T080000
DTEND;TZID=America/Kentucky/Louisville:20250726T120000
DTSTAMP:20260425T113524
CREATED:20250707T143313Z
LAST-MODIFIED:20250707T143313Z
UID:65703-1753516800-1753531200@visitpikeville.com
SUMMARY:Rural King Farmers Market & Sidewalk Sale
DESCRIPTION:Support Local. Shop Fresh. Save Big.Join us at your local Rural King on Saturday\, July 26th\, from 8 AM – 12 PM for our Farmers Market\, featuring homemade\, homegrown\, and all-local goods from vendors in our community!What to Expect: Local produce\, handmade goods\, baked treats & more A chance to support your neighbors and discover new favorites Our Sidewalk Sale happening at the same time — with extreme deals on apparel\, outdoor living\, pools\, and more! Interested in becoming a vendor?Stop by the Customer Service Desk at your local Rural King to sign up. Deadline to register is Thursday\, July 18th — all local makers\, bakers\, and growers welcome!Mark your calendar\, bring the whole family\, and let’s make it a morning to remember.
URL:https://visitpikeville.com/event/rural-king-farmers-market-sidewalk-sale/
LOCATION:Rural King\, 3889 N Mayo Trail\,\, Pikeville\, KY\, 41501\, United States
CATEGORIES:Other
ATTACH;FMTTYPE=image/jpeg:https://visitpikeville.com/wp-content/uploads/2025/07/rural.jpg
END:VEVENT
BEGIN:VEVENT
DTSTART;TZID=America/Kentucky/Louisville:20250726T080000
DTEND;TZID=America/Kentucky/Louisville:20250726T170000
DTSTAMP:20260425T113524
CREATED:20250707T131727Z
LAST-MODIFIED:20250707T131727Z
UID:65669-1753516800-1753549200@visitpikeville.com
SUMMARY:Community Hike
DESCRIPTION:@ Peach Orchard and Bluechip Trails
URL:https://visitpikeville.com/event/community-hike/
LOCATION:Bob Amos Park\, 424 Bob Amos Dr\, Pikeville\, Ky\, 41501
CATEGORIES:Other
END:VEVENT
BEGIN:VEVENT
DTSTART;TZID=America/Kentucky/Louisville:20250726T150000
DTEND;TZID=America/Kentucky/Louisville:20250726T170000
DTSTAMP:20260425T113524
CREATED:20250721T114903Z
LAST-MODIFIED:20250721T114903Z
UID:66173-1753542000-1753549200@visitpikeville.com
SUMMARY:Fun Saturday
DESCRIPTION:Pick your painting and reserve. Be sure to PRIVATE MESSAGE to reserve your spots.
URL:https://visitpikeville.com/event/fun-saturday-3/
LOCATION:2 Broke Art Teachers\, 4505 Weddington Square\,\, Pikeville\, KY\, 41501\, United States
CATEGORIES:Other
ATTACH;FMTTYPE=image/jpeg:https://visitpikeville.com/wp-content/uploads/2025/07/fun-saturday.jpg
END:VEVENT
BEGIN:VEVENT
DTSTART;TZID=America/Kentucky/Louisville:20250726T170000
DTEND;TZID=America/Kentucky/Louisville:20250726T220000
DTSTAMP:20260425T113524
CREATED:20250707T132504Z
LAST-MODIFIED:20250707T132504Z
UID:65671-1753549200-1753567200@visitpikeville.com
SUMMARY:Rockin A Rodeo
DESCRIPTION: Get Ready for the Wildest Ride in Town! Event #3 – Rockin A Rodeo Returns July 26\, 2025!Mark your calendars and hold on tight — it’s time for another action-packed night of bull riding\, Mutton busting and edge-of-your-seat excitement at the rodeo!  Want to win 4 FREE admission tickets?It’s easy: LIKE this post SHARE with your friends COMMENT below and tag who you’re bringing! Winner will be drawn on July 24\, 2025 – don’t miss your chance!Whether you’re a cowboy at heart or just in it for the thrills\, Event #3 is one you won’t want to miss.#Rodeo2025 #HoldOnTight #RodeoReady #WinTickets #CowboyLife
URL:https://visitpikeville.com/event/rockin-a-rodeo-3/
LOCATION:Rockin’ A Ranch\, 3381 KY-194\,\, Pikeville\, KY\, 41501\, United States
CATEGORIES:Other
ATTACH;FMTTYPE=image/jpeg:https://visitpikeville.com/wp-content/uploads/2025/07/rodeo.jpg
END:VEVENT
BEGIN:VEVENT
DTSTART;TZID=America/Kentucky/Louisville:20250726T190000
DTEND;TZID=America/Kentucky/Louisville:20250726T210000
DTSTAMP:20260425T113524
CREATED:20250721T115147Z
LAST-MODIFIED:20250721T115147Z
UID:66176-1753556400-1753563600@visitpikeville.com
SUMMARY:Sassy Kitty
DESCRIPTION:Lots of request wanting to paint this kitty wearing a bonnet. Join us by sending a Private Message to reserve your spots.
URL:https://visitpikeville.com/event/sassy-kitty/
LOCATION:2 Broke Art Teachers\, 4505 Weddington Square\,\, Pikeville\, KY\, 41501\, United States
CATEGORIES:Other
ATTACH;FMTTYPE=image/jpeg:https://visitpikeville.com/wp-content/uploads/2025/07/sassy-kitty.jpg
END:VEVENT
BEGIN:VEVENT
DTSTART;TZID=America/Kentucky/Louisville:20250726T193000
DTEND;TZID=America/Kentucky/Louisville:20250726T220000
DTSTAMP:20260425T113524
CREATED:20250707T141257Z
LAST-MODIFIED:20250707T141257Z
UID:65684-1753558200-1753567200@visitpikeville.com
SUMMARY:Exit 23
DESCRIPTION:@ Pearse’s Place
URL:https://visitpikeville.com/event/exit-23-2/
LOCATION:Pearse’s Place\, 224 2nd St\,\, Pikeville\, KY\, 41501\, United States
CATEGORIES:Other
ATTACH;FMTTYPE=image/jpeg:https://visitpikeville.com/wp-content/uploads/2025/07/exit23.jpg
END:VEVENT
BEGIN:VEVENT
DTSTART;TZID=America/Kentucky/Louisville:20250726T193000
DTEND;TZID=America/Kentucky/Louisville:20250726T223000
DTSTAMP:20260425T113524
CREATED:20250707T130511Z
LAST-MODIFIED:20250714T141721Z
UID:65660-1753558200-1753569000@visitpikeville.com
SUMMARY:Live Music at Bank 253
DESCRIPTION:Brittany Mullins \n7:30 – 10:30 pm
URL:https://visitpikeville.com/event/live-music-at-bank-253-3-2-2-2-2-2-2-2-2-2-2-2-2-2-2-2-2-2-2-2-2-2-2-2-2-2-2-2-2-2/
LOCATION:Bank 253\, 253 2nd St\,\, Pikeville\, KY\, 41501\, United States
CATEGORIES:Other
ATTACH;FMTTYPE=image/jpeg:https://visitpikeville.com/wp-content/uploads/2025/02/bank253.jpg
END:VEVENT
BEGIN:VEVENT
DTSTART;TZID=America/Kentucky/Louisville:20250728T173000
DTEND;TZID=America/Kentucky/Louisville:20250728T200000
DTSTAMP:20260425T113524
CREATED:20250702T185314Z
LAST-MODIFIED:20250702T185314Z
UID:65464-1753723800-1753732800@visitpikeville.com
SUMMARY:Mellow Monday's
DESCRIPTION:Card Games @ the Mine 606
URL:https://visitpikeville.com/event/mellow-mondays-2-2-2-2-2-2-2/
LOCATION:The Mine 606\, 121 Main St\, Pikeville\, KY\, 41501\, United States
CATEGORIES:Other
ATTACH;FMTTYPE=image/jpeg:https://visitpikeville.com/wp-content/uploads/2025/06/mine.jpg
END:VEVENT
BEGIN:VEVENT
DTSTART;VALUE=DATE:20250729
DTEND;VALUE=DATE:20250730
DTSTAMP:20260425T113524
CREATED:20250702T185546Z
LAST-MODIFIED:20250702T185546Z
UID:65472-1753747200-1753833599@visitpikeville.com
SUMMARY:Street Taco Tuesday
DESCRIPTION:@ The Mine 606
URL:https://visitpikeville.com/event/street-taco-tuesday-2-2-2-2-2-2/
LOCATION:The Mine 606\, 121 Main St\, Pikeville\, KY\, 41501\, United States
CATEGORIES:Other
ATTACH;FMTTYPE=image/jpeg:https://visitpikeville.com/wp-content/uploads/2025/06/mine.jpg
END:VEVENT
BEGIN:VEVENT
DTSTART;TZID=America/Kentucky/Louisville:20250730T183000
DTEND;TZID=America/Kentucky/Louisville:20250730T200000
DTSTAMP:20260425T113524
CREATED:20250702T151855Z
LAST-MODIFIED:20250702T151855Z
UID:65426-1753900200-1753905600@visitpikeville.com
SUMMARY:Bingo Night
DESCRIPTION:@ The Mine 606
URL:https://visitpikeville.com/event/bingo-night-2-2-2/
LOCATION:The Mine 606\, 121 Main St\, Pikeville\, KY\, 41501\, United States
CATEGORIES:Other
ATTACH;FMTTYPE=image/jpeg:https://visitpikeville.com/wp-content/uploads/2025/06/mine.jpg
END:VEVENT
BEGIN:VEVENT
DTSTART;VALUE=DATE:20250731
DTEND;VALUE=DATE:20250801
DTSTAMP:20260425T113524
CREATED:20250702T152305Z
LAST-MODIFIED:20250702T152305Z
UID:65441-1753920000-1754006399@visitpikeville.com
SUMMARY:Thirsty Thursday
DESCRIPTION:@ The Mine 606
URL:https://visitpikeville.com/event/thirsty-thursday-2-2-2-2-2-2-2/
LOCATION:The Mine 606\, 121 Main St\, Pikeville\, KY\, 41501\, United States
CATEGORIES:Other
ATTACH;FMTTYPE=image/jpeg:https://visitpikeville.com/wp-content/uploads/2025/06/mine.jpg
END:VEVENT
BEGIN:VEVENT
DTSTART;TZID=America/Kentucky/Louisville:20250801T173000
DTEND;TZID=America/Kentucky/Louisville:20250801T203000
DTSTAMP:20260425T113524
CREATED:20250728T185917Z
LAST-MODIFIED:20250728T185917Z
UID:66448-1754069400-1754080200@visitpikeville.com
SUMMARY:old Kentucky home … paint night !
DESCRIPTION:Let’s give it up for our old Kentucky home … paint night ! Choose your canvas and create a masterpiece that you surely will want to display. Friday August 1st @ 5:30 $25Private message to reserve .
URL:https://visitpikeville.com/event/old-kentucky-home-paint-night/
LOCATION:2 Broke Art Teachers\, 4505 Weddington Square\,\, Pikeville\, KY\, 41501\, United States
CATEGORIES:Other
ATTACH;FMTTYPE=image/jpeg:https://visitpikeville.com/wp-content/uploads/2025/07/old-ky-home.jpg
END:VEVENT
BEGIN:VEVENT
DTSTART;TZID=America/Kentucky/Louisville:20250801T193000
DTEND;TZID=America/Kentucky/Louisville:20250801T223000
DTSTAMP:20260425T113524
CREATED:20250728T182538Z
LAST-MODIFIED:20250728T182538Z
UID:66424-1754076600-1754087400@visitpikeville.com
SUMMARY:Live Music @ Bank 253
DESCRIPTION:Colton Hatfield \n7:30pm – 10:30pm
URL:https://visitpikeville.com/event/live-music-bank-253/
LOCATION:Bank 253\, 253 2nd St\,\, Pikeville\, KY\, 41501\, United States
CATEGORIES:Other
ATTACH;FMTTYPE=image/jpeg:https://visitpikeville.com/wp-content/uploads/2025/07/colton.jpg
END:VEVENT
BEGIN:VEVENT
DTSTART;TZID=America/Kentucky/Louisville:20250802T080000
DTEND;TZID=America/Kentucky/Louisville:20250802T170000
DTSTAMP:20260425T113524
CREATED:20250728T182049Z
LAST-MODIFIED:20250728T182049Z
UID:66420-1754121600-1754154000@visitpikeville.com
SUMMARY:Honoring Our Heroes: Fallen Hero’s Memorial Horse Show
DESCRIPTION:The Spring Branch Events organization invites the community to a heartfelt day of remembrance and tribute at the Fallen Hero’s Memorial Horse Show\, happening August 2\, 2025\, at 36 Spring Branch\, Pikeville\, KY 45001. This powerful event honors the brave men and women who made the ultimate sacrifice in service as first responders across Eastern Kentucky and the Tri-State area. \nThe memorial show will feature touching tributes and special horse show classes dedicated to fallen firefighters\, police officers\, EMS personnel\, and other public safety heroes. Each class is a moment to reflect\, remember\, and celebrate the courage of those who gave their lives to protect and serve our communities. \nFamilies and friends who wish to memorialize a loved one can do so by sponsoring or naming a class in their honor. To participate\, please contact Ronnie Mullins at (574) 349-2037 or message the Spring Branch Events Facebook page for details. \nEvent Details:📅 Date: Saturday\, August 2\, 2025📍 Location: 36 Spring Branch\, Pikeville\, KY 45001🎗️ Purpose: In loving memory of fallen first responders of Eastern KY and the Tri-State area \nJoin us for this moving community gathering that blends equestrian sport with deep appreciation for our fallen heroes. Let’s come together in unity to Remember Our Fallen Heroes and ensure their legacies live on.
URL:https://visitpikeville.com/event/honoring-our-heroes-fallen-heros-memorial-horse-show/
LOCATION:Spring Branch Farm\, 36 Spring Branch \,\, Pikeville\, KY\, 41501\, United States
CATEGORIES:Other
ATTACH;FMTTYPE=image/jpeg:https://visitpikeville.com/wp-content/uploads/2025/07/fallen-hero.jpg
END:VEVENT
BEGIN:VEVENT
DTSTART;TZID=America/Kentucky/Louisville:20250802T130000
DTEND;TZID=America/Kentucky/Louisville:20250802T160000
DTSTAMP:20260425T113524
CREATED:20250728T190136Z
LAST-MODIFIED:20250728T190136Z
UID:66451-1754139600-1754150400@visitpikeville.com
SUMMARY:Family paint class
DESCRIPTION:Family paint class… Saturday Aug. 2nd 2025 @ 1:00 the coloring and the lettering can be changed to create a 1 of a kind masterpiece .
URL:https://visitpikeville.com/event/family-paint-class/
LOCATION:2 Broke Art Teachers\, 4505 Weddington Square\,\, Pikeville\, KY\, 41501\, United States
CATEGORIES:Other
ATTACH;FMTTYPE=image/jpeg:https://visitpikeville.com/wp-content/uploads/2025/07/family-paint-class.jpg
END:VEVENT
BEGIN:VEVENT
DTSTART;TZID=America/Kentucky/Louisville:20250802T170000
DTEND;TZID=America/Kentucky/Louisville:20250802T200000
DTSTAMP:20260425T113524
CREATED:20250728T185719Z
LAST-MODIFIED:20250728T185719Z
UID:66445-1754154000-1754164800@visitpikeville.com
SUMMARY:Sunflower the goose
DESCRIPTION:Sunflower the goose is on the loose… join us at 5:00 on Saturday Aug. 2nd for the debut of this cutie of a painting. Step by step instruction will be provided. $25\nPrivate message to reserve .\n2 Broke Art Teachers\n#pikevilleky\n#porchgoose
URL:https://visitpikeville.com/event/sunflower-the-goose/
LOCATION:2 Broke Art Teachers\, 4505 Weddington Square\,\, Pikeville\, KY\, 41501\, United States
CATEGORIES:Other
ATTACH;FMTTYPE=image/jpeg:https://visitpikeville.com/wp-content/uploads/2025/07/goose.jpg
END:VEVENT
END:VCALENDAR