BEGIN:VCALENDAR
VERSION:2.0
PRODID:-//Visit Pikeville - ECPv6.15.20//NONSGML v1.0//EN
CALSCALE:GREGORIAN
METHOD:PUBLISH
X-ORIGINAL-URL:https://visitpikeville.com
X-WR-CALDESC:Events for Visit Pikeville
REFRESH-INTERVAL;VALUE=DURATION:PT1H
X-Robots-Tag:noindex
X-PUBLISHED-TTL:PT1H
BEGIN:VTIMEZONE
TZID:America/Kentucky/Louisville
BEGIN:DAYLIGHT
TZOFFSETFROM:-0500
TZOFFSETTO:-0400
TZNAME:EDT
DTSTART:20240310T070000
END:DAYLIGHT
BEGIN:STANDARD
TZOFFSETFROM:-0400
TZOFFSETTO:-0500
TZNAME:EST
DTSTART:20241103T060000
END:STANDARD
BEGIN:DAYLIGHT
TZOFFSETFROM:-0500
TZOFFSETTO:-0400
TZNAME:EDT
DTSTART:20250309T070000
END:DAYLIGHT
BEGIN:STANDARD
TZOFFSETFROM:-0400
TZOFFSETTO:-0500
TZNAME:EST
DTSTART:20251102T060000
END:STANDARD
BEGIN:DAYLIGHT
TZOFFSETFROM:-0500
TZOFFSETTO:-0400
TZNAME:EDT
DTSTART:20260308T070000
END:DAYLIGHT
BEGIN:STANDARD
TZOFFSETFROM:-0400
TZOFFSETTO:-0500
TZNAME:EST
DTSTART:20261101T060000
END:STANDARD
END:VTIMEZONE
BEGIN:VEVENT
DTSTART;TZID=America/Kentucky/Louisville:20250510T193000
DTEND;TZID=America/Kentucky/Louisville:20250510T223000
DTSTAMP:20260425T095936
CREATED:20250505T134459Z
LAST-MODIFIED:20250505T134459Z
UID:64133-1746905400-1746916200@visitpikeville.com
SUMMARY:Live Music at Bank 253
DESCRIPTION:7:30 – 10:30 pm
URL:https://visitpikeville.com/event/live-music-at-bank-253-3-2-2-2-2-2-2-2-2-2-2-2/
LOCATION:Bank 253\, 253 2nd St\,\, Pikeville\, KY\, 41501\, United States
CATEGORIES:Other
ATTACH;FMTTYPE=image/jpeg:https://visitpikeville.com/wp-content/uploads/2025/02/bank253.jpg
END:VEVENT
BEGIN:VEVENT
DTSTART;TZID=America/Kentucky/Louisville:20250510T200000
DTEND;TZID=America/Kentucky/Louisville:20250510T230000
DTSTAMP:20260425T095936
CREATED:20250505T134841Z
LAST-MODIFIED:20250505T135135Z
UID:64135-1746907200-1746918000@visitpikeville.com
SUMMARY:Swagtones & Exit 23 @ Pearse's Place
DESCRIPTION:Every Saturday in May
URL:https://visitpikeville.com/event/swagtones-exit-23-pearses-place/
LOCATION:Pearse’s Place\, 224 2nd St\,\, Pikeville\, KY\, 41501\, United States
CATEGORIES:Other
ATTACH;FMTTYPE=image/jpeg:https://visitpikeville.com/wp-content/uploads/2025/05/pearses.jpg
END:VEVENT
BEGIN:VEVENT
DTSTART;TZID=America/Kentucky/Louisville:20250510T210000
DTEND;TZID=America/Kentucky/Louisville:20250510T233000
DTSTAMP:20260425T095936
CREATED:20250303T155253Z
LAST-MODIFIED:20250303T155253Z
UID:63275-1746910800-1746919800@visitpikeville.com
SUMMARY:Exit 23 + The Swagtones Residency at Pearse's Place
DESCRIPTION:We had so much fun doing this residency at Pearse’s Place up stairs at Dueling Barrels Brewery & Distillery with The Swagtones that we’ve decided to do it again! So y’all get ready and we will do it again in May!!
URL:https://visitpikeville.com/event/exit-23-the-swagtones-residency-at-pearses-place-2/
LOCATION:Pearse’s Place\, 224 2nd St\,\, Pikeville\, KY\, 41501\, United States
CATEGORIES:Other
ATTACH;FMTTYPE=image/jpeg:https://visitpikeville.com/wp-content/uploads/2025/03/exit-23.jpg
END:VEVENT
BEGIN:VEVENT
DTSTART;TZID=America/Kentucky/Louisville:20250515T220000
DTEND;TZID=America/Kentucky/Louisville:20250516T013000
DTSTAMP:20260425T095936
CREATED:20250512T183047Z
LAST-MODIFIED:20250512T183047Z
UID:64485-1747346400-1747359000@visitpikeville.com
SUMMARY:Zack Top After Party
DESCRIPTION:Performance by: DJ Mack
URL:https://visitpikeville.com/event/zack-top-after-party/
LOCATION:Bank 253\, 253 2nd St\,\, Pikeville\, KY\, 41501\, United States
CATEGORIES:Other
ATTACH;FMTTYPE=image/jpeg:https://visitpikeville.com/wp-content/uploads/2025/05/after-party.jpg
END:VEVENT
BEGIN:VEVENT
DTSTART;TZID=America/Kentucky/Louisville:20250516T173000
DTEND;TZID=America/Kentucky/Louisville:20250516T193000
DTSTAMP:20260425T095936
CREATED:20250512T190117Z
LAST-MODIFIED:20250512T190117Z
UID:64531-1747416600-1747423800@visitpikeville.com
SUMMARY:Americana Red Barn
DESCRIPTION:$30
URL:https://visitpikeville.com/event/americana-red-barn/
LOCATION:2 Broke Art Teachers\, 4505 Weddington Square\,\, Pikeville\, KY\, 41501\, United States
CATEGORIES:Other
ATTACH;FMTTYPE=image/jpeg:https://visitpikeville.com/wp-content/uploads/2025/05/americana.jpg
END:VEVENT
BEGIN:VEVENT
DTSTART;TZID=America/Kentucky/Louisville:20250516T193000
DTEND;TZID=America/Kentucky/Louisville:20250516T223000
DTSTAMP:20260425T095936
CREATED:20250505T140755Z
LAST-MODIFIED:20250505T140755Z
UID:64152-1747423800-1747434600@visitpikeville.com
SUMMARY:Live Music at Bank 253
DESCRIPTION:7:30 – 10:30 pm
URL:https://visitpikeville.com/event/live-music-at-bank-253-3-2-2-2-2-2-2-2-2-2-2-2-2/
LOCATION:Bank 253\, 253 2nd St\,\, Pikeville\, KY\, 41501\, United States
CATEGORIES:Other
ATTACH;FMTTYPE=image/jpeg:https://visitpikeville.com/wp-content/uploads/2025/02/bank253.jpg
END:VEVENT
BEGIN:VEVENT
DTSTART;TZID=America/Kentucky/Louisville:20250517T190000
DTEND;TZID=America/Kentucky/Louisville:20250517T210000
DTSTAMP:20260425T095936
CREATED:20250512T185937Z
LAST-MODIFIED:20250512T185937Z
UID:64528-1747508400-1747515600@visitpikeville.com
SUMMARY:Happy Dog Painting Class
DESCRIPTION:$30
URL:https://visitpikeville.com/event/happy-dog-painting-class/
LOCATION:2 Broke Art Teachers\, 4505 Weddington Square\,\, Pikeville\, KY\, 41501\, United States
CATEGORIES:Other
ATTACH;FMTTYPE=image/jpeg:https://visitpikeville.com/wp-content/uploads/2025/05/happy-dog.jpg
END:VEVENT
BEGIN:VEVENT
DTSTART;TZID=America/Kentucky/Louisville:20250517T193000
DTEND;TZID=America/Kentucky/Louisville:20250517T223000
DTSTAMP:20260425T095936
CREATED:20250505T140831Z
LAST-MODIFIED:20250505T140831Z
UID:64154-1747510200-1747521000@visitpikeville.com
SUMMARY:Live Music at Bank 253
DESCRIPTION:7:30 – 10:30 pm
URL:https://visitpikeville.com/event/live-music-at-bank-253-3-2-2-2-2-2-2-2-2-2-2-2-2-2/
LOCATION:Bank 253\, 253 2nd St\,\, Pikeville\, KY\, 41501\, United States
CATEGORIES:Other
ATTACH;FMTTYPE=image/jpeg:https://visitpikeville.com/wp-content/uploads/2025/02/bank253.jpg
END:VEVENT
BEGIN:VEVENT
DTSTART;TZID=America/Kentucky/Louisville:20250517T200000
DTEND;TZID=America/Kentucky/Louisville:20250517T220000
DTSTAMP:20260425T095936
CREATED:20250331T134650Z
LAST-MODIFIED:20250331T134650Z
UID:63713-1747512000-1747519200@visitpikeville.com
SUMMARY:Rockin A Rodeo
DESCRIPTION:The first event of 2025 is approaching fast!! Many new things happening this season. Mark your calendars and plan to be here with us to kick off the season with a fun filled night of excitement!!
URL:https://visitpikeville.com/event/rockin-a-rodeo/
LOCATION:Rockin’ A Ranch\, 3381 KY-194\,\, Pikeville\, KY\, 41501\, United States
CATEGORIES:Other
ATTACH;FMTTYPE=image/png:https://visitpikeville.com/wp-content/uploads/2025/03/Screenshot-2025-03-31-at-9.41.54 AM.png
END:VEVENT
BEGIN:VEVENT
DTSTART;TZID=America/Kentucky/Louisville:20250517T200000
DTEND;TZID=America/Kentucky/Louisville:20250517T230000
DTSTAMP:20260425T095936
CREATED:20250505T135013Z
LAST-MODIFIED:20250505T135013Z
UID:64138-1747512000-1747522800@visitpikeville.com
SUMMARY:Swagtones & Exit 23 @ Pearse's Place
DESCRIPTION:Every Saturday in May
URL:https://visitpikeville.com/event/swagtones-exit-23-pearses-place-2/
LOCATION:Pearse’s Place\, 224 2nd St\,\, Pikeville\, KY\, 41501\, United States
CATEGORIES:Other
ATTACH;FMTTYPE=image/jpeg:https://visitpikeville.com/wp-content/uploads/2025/05/pearses.jpg
END:VEVENT
BEGIN:VEVENT
DTSTART;TZID=America/Kentucky/Louisville:20250517T210000
DTEND;TZID=America/Kentucky/Louisville:20250517T233000
DTSTAMP:20260425T095936
CREATED:20250303T155322Z
LAST-MODIFIED:20250303T155322Z
UID:63277-1747515600-1747524600@visitpikeville.com
SUMMARY:Exit 23 + The Swagtones Residency at Pearse's Place
DESCRIPTION:We had so much fun doing this residency at Pearse’s Place up stairs at Dueling Barrels Brewery & Distillery with The Swagtones that we’ve decided to do it again! So y’all get ready and we will do it again in May!!
URL:https://visitpikeville.com/event/exit-23-the-swagtones-residency-at-pearses-place-2-2/
LOCATION:Pearse’s Place\, 224 2nd St\,\, Pikeville\, KY\, 41501\, United States
CATEGORIES:Other
ATTACH;FMTTYPE=image/jpeg:https://visitpikeville.com/wp-content/uploads/2025/03/exit-23.jpg
END:VEVENT
BEGIN:VEVENT
DTSTART;TZID=America/Kentucky/Louisville:20250523T173000
DTEND;TZID=America/Kentucky/Louisville:20250523T203000
DTSTAMP:20260425T095936
CREATED:20250519T141930Z
LAST-MODIFIED:20250519T141930Z
UID:64669-1748021400-1748032200@visitpikeville.com
SUMMARY:Flag or Shield
DESCRIPTION:$30
URL:https://visitpikeville.com/event/flag-or-shield/
LOCATION:2 Broke Art Teachers\, 4505 Weddington Square\,\, Pikeville\, KY\, 41501\, United States
CATEGORIES:Other
ATTACH;FMTTYPE=image/jpeg:https://visitpikeville.com/wp-content/uploads/2025/05/flag.jpg
END:VEVENT
BEGIN:VEVENT
DTSTART;TZID=America/Kentucky/Louisville:20250523T193000
DTEND;TZID=America/Kentucky/Louisville:20250523T223000
DTSTAMP:20260425T095936
CREATED:20250505T140906Z
LAST-MODIFIED:20250505T140906Z
UID:64156-1748028600-1748039400@visitpikeville.com
SUMMARY:Live Music at Bank 253
DESCRIPTION:7:30 – 10:30 pm
URL:https://visitpikeville.com/event/live-music-at-bank-253-3-2-2-2-2-2-2-2-2-2-2-2-2-2-2/
LOCATION:Bank 253\, 253 2nd St\,\, Pikeville\, KY\, 41501\, United States
CATEGORIES:Other
ATTACH;FMTTYPE=image/jpeg:https://visitpikeville.com/wp-content/uploads/2025/02/bank253.jpg
END:VEVENT
BEGIN:VEVENT
DTSTART;TZID=America/Kentucky/Louisville:20250524T130000
DTEND;TZID=America/Kentucky/Louisville:20250524T170000
DTSTAMP:20260425T095936
CREATED:20250519T141606Z
LAST-MODIFIED:20250519T141606Z
UID:64666-1748091600-1748106000@visitpikeville.com
SUMMARY:90 minutes painting time
DESCRIPTION:11”x 14” pre sketched canvas
URL:https://visitpikeville.com/event/90-minutes-painting-time/
LOCATION:2 Broke Art Teachers\, 4505 Weddington Square\,\, Pikeville\, KY\, 41501\, United States
CATEGORIES:Other
ATTACH;FMTTYPE=image/jpeg:https://visitpikeville.com/wp-content/uploads/2025/05/90-minutes.jpg
END:VEVENT
BEGIN:VEVENT
DTSTART;TZID=America/Kentucky/Louisville:20250524T170000
DTEND;TZID=America/Kentucky/Louisville:20250524T200000
DTSTAMP:20260425T095936
CREATED:20250519T142324Z
LAST-MODIFIED:20250519T142324Z
UID:64672-1748106000-1748116800@visitpikeville.com
SUMMARY:Camper painting
DESCRIPTION:16” x 20”
URL:https://visitpikeville.com/event/camper-painting/
LOCATION:2 Broke Art Teachers\, 4505 Weddington Square\,\, Pikeville\, KY\, 41501\, United States
CATEGORIES:Other
ATTACH;FMTTYPE=image/png:https://visitpikeville.com/wp-content/uploads/2025/05/Screenshot-2025-05-19-at-10.20.17 AM.png
END:VEVENT
BEGIN:VEVENT
DTSTART;TZID=America/Kentucky/Louisville:20250524T193000
DTEND;TZID=America/Kentucky/Louisville:20250524T223000
DTSTAMP:20260425T095936
CREATED:20250505T140945Z
LAST-MODIFIED:20250505T140945Z
UID:64158-1748115000-1748125800@visitpikeville.com
SUMMARY:Live Music at Bank 253
DESCRIPTION:7:30 – 10:30 pm
URL:https://visitpikeville.com/event/live-music-at-bank-253-3-2-2-2-2-2-2-2-2-2-2-2-2-2-2-2/
LOCATION:Bank 253\, 253 2nd St\,\, Pikeville\, KY\, 41501\, United States
CATEGORIES:Other
ATTACH;FMTTYPE=image/jpeg:https://visitpikeville.com/wp-content/uploads/2025/02/bank253.jpg
END:VEVENT
BEGIN:VEVENT
DTSTART;TZID=America/Kentucky/Louisville:20250524T200000
DTEND;TZID=America/Kentucky/Louisville:20250524T230000
DTSTAMP:20260425T095936
CREATED:20250505T135216Z
LAST-MODIFIED:20250505T135216Z
UID:64140-1748116800-1748127600@visitpikeville.com
SUMMARY:Swagtones & Exit 23 @ Pearse's Place
DESCRIPTION:Every Saturday in May
URL:https://visitpikeville.com/event/swagtones-exit-23-pearses-place-2-2/
LOCATION:Pearse’s Place\, 224 2nd St\,\, Pikeville\, KY\, 41501\, United States
CATEGORIES:Other
ATTACH;FMTTYPE=image/jpeg:https://visitpikeville.com/wp-content/uploads/2025/05/pearses.jpg
END:VEVENT
BEGIN:VEVENT
DTSTART;TZID=America/Kentucky/Louisville:20250524T210000
DTEND;TZID=America/Kentucky/Louisville:20250524T233000
DTSTAMP:20260425T095936
CREATED:20250303T155352Z
LAST-MODIFIED:20250303T155352Z
UID:63279-1748120400-1748129400@visitpikeville.com
SUMMARY:Exit 23 + The Swagtones Residency at Pearse's Place
DESCRIPTION:We had so much fun doing this residency at Pearse’s Place up stairs at Dueling Barrels Brewery & Distillery with The Swagtones that we’ve decided to do it again! So y’all get ready and we will do it again in May!!
URL:https://visitpikeville.com/event/exit-23-the-swagtones-residency-at-pearses-place-2-2-2/
LOCATION:Pearse’s Place\, 224 2nd St\,\, Pikeville\, KY\, 41501\, United States
CATEGORIES:Other
ATTACH;FMTTYPE=image/jpeg:https://visitpikeville.com/wp-content/uploads/2025/03/exit-23.jpg
END:VEVENT
BEGIN:VEVENT
DTSTART;TZID=America/Kentucky/Louisville:20250530T193000
DTEND;TZID=America/Kentucky/Louisville:20250530T223000
DTSTAMP:20260425T095936
CREATED:20250505T141021Z
LAST-MODIFIED:20250505T141021Z
UID:64160-1748633400-1748644200@visitpikeville.com
SUMMARY:Live Music at Bank 253
DESCRIPTION:7:30 – 10:30 pm
URL:https://visitpikeville.com/event/live-music-at-bank-253-3-2-2-2-2-2-2-2-2-2-2-2-2-2-2-2-2/
LOCATION:Bank 253\, 253 2nd St\,\, Pikeville\, KY\, 41501\, United States
CATEGORIES:Other
ATTACH;FMTTYPE=image/jpeg:https://visitpikeville.com/wp-content/uploads/2025/02/bank253.jpg
END:VEVENT
BEGIN:VEVENT
DTSTART;TZID=America/Kentucky/Louisville:20250531T193000
DTEND;TZID=America/Kentucky/Louisville:20250531T223000
DTSTAMP:20260425T095936
CREATED:20250505T141059Z
LAST-MODIFIED:20250505T141059Z
UID:64163-1748719800-1748730600@visitpikeville.com
SUMMARY:Live Music at Bank 253
DESCRIPTION:7:30 – 10:30 pm
URL:https://visitpikeville.com/event/live-music-at-bank-253-3-2-2-2-2-2-2-2-2-2-2-2-2-2-2-2-2-2/
LOCATION:Bank 253\, 253 2nd St\,\, Pikeville\, KY\, 41501\, United States
CATEGORIES:Other
ATTACH;FMTTYPE=image/jpeg:https://visitpikeville.com/wp-content/uploads/2025/02/bank253.jpg
END:VEVENT
BEGIN:VEVENT
DTSTART;TZID=America/Kentucky/Louisville:20250531T200000
DTEND;TZID=America/Kentucky/Louisville:20250531T230000
DTSTAMP:20260425T095936
CREATED:20250505T135249Z
LAST-MODIFIED:20250505T135249Z
UID:64142-1748721600-1748732400@visitpikeville.com
SUMMARY:Swagtones & Exit 23 @ Pearse's Place
DESCRIPTION:Every Saturday in May
URL:https://visitpikeville.com/event/swagtones-exit-23-pearses-place-2-2-2/
LOCATION:Pearse’s Place\, 224 2nd St\,\, Pikeville\, KY\, 41501\, United States
CATEGORIES:Other
ATTACH;FMTTYPE=image/jpeg:https://visitpikeville.com/wp-content/uploads/2025/05/pearses.jpg
END:VEVENT
BEGIN:VEVENT
DTSTART;TZID=America/Kentucky/Louisville:20250605T173000
DTEND;TZID=America/Kentucky/Louisville:20250605T203000
DTSTAMP:20260425T095936
CREATED:20250602T135844Z
LAST-MODIFIED:20250602T135844Z
UID:64857-1749144600-1749155400@visitpikeville.com
SUMMARY:Rocky the Rooster
DESCRIPTION:Join us in Pikeville\, KY on Thursday\, June 5th\, 2025 for a painting class featuring ‘Rocky the Rooster.’ The 16×20 canvas artwork will be created through step-by-step instruction and is available for $30. To reserve\, please send a private message. 2 Broke Art Teachers
URL:https://visitpikeville.com/event/rocky-the-rooster/
LOCATION:2 Broke Art Teachers\, 4505 Weddington Square\,\, Pikeville\, KY\, 41501\, United States
CATEGORIES:Other
ATTACH;FMTTYPE=image/jpeg:https://visitpikeville.com/wp-content/uploads/2025/06/rocky-rooster.jpg
END:VEVENT
BEGIN:VEVENT
DTSTART;TZID=America/Kentucky/Louisville:20250606T170000
DTEND;TZID=America/Kentucky/Louisville:20250606T200000
DTSTAMP:20260425T095936
CREATED:20250602T135056Z
LAST-MODIFIED:20250602T135056Z
UID:64847-1749229200-1749240000@visitpikeville.com
SUMMARY:FUN FRIDAY
DESCRIPTION:Ready\, set\, paint! Are you ready for some paint party fun? FUN FRIDAY June 6th 5:00-6:00 check in time or FUN SATURDAY June 7th 2025 11:00- noon check in time….11×14 canvas is available for $20 each. (Approx. completion time 60 -90 minutes)To reserve\, please send a private message and include which paintings your group wishes to paint. 2 Broke Art Teachers
URL:https://visitpikeville.com/event/fun-friday/
LOCATION:2 Broke Art Teachers\, 4505 Weddington Square\,\, Pikeville\, KY\, 41501\, United States
CATEGORIES:Other
ATTACH;FMTTYPE=image/jpeg:https://visitpikeville.com/wp-content/uploads/2025/06/fun.jpg
END:VEVENT
BEGIN:VEVENT
DTSTART;TZID=America/Kentucky/Louisville:20250607T110000
DTEND;TZID=America/Kentucky/Louisville:20250607T150000
DTSTAMP:20260425T095936
CREATED:20250602T135155Z
LAST-MODIFIED:20250602T135155Z
UID:64850-1749294000-1749308400@visitpikeville.com
SUMMARY:FUN SATURDAY
DESCRIPTION:Ready\, set\, paint! Are you ready for some paint party fun? FUN FRIDAY June 6th 5:00-6:00 check in time or FUN SATURDAY June 7th 2025 11:00- noon check in time….11×14 canvas is available for $20 each. (Approx. completion time 60 -90 minutes)To reserve\, please send a private message and include which paintings your group wishes to paint. 2 Broke Art Teachers
URL:https://visitpikeville.com/event/fun-friday-2/
LOCATION:2 Broke Art Teachers\, 4505 Weddington Square\,\, Pikeville\, KY\, 41501\, United States
CATEGORIES:Other
ATTACH;FMTTYPE=image/jpeg:https://visitpikeville.com/wp-content/uploads/2025/06/fun.jpg
END:VEVENT
BEGIN:VEVENT
DTSTART;TZID=America/Kentucky/Louisville:20250607T140000
DTEND;TZID=America/Kentucky/Louisville:20250607T170000
DTSTAMP:20260425T095936
CREATED:20250602T135649Z
LAST-MODIFIED:20250602T135649Z
UID:64854-1749304800-1749315600@visitpikeville.com
SUMMARY:Painters Choice
DESCRIPTION:Join us in Pikeville\, KY on Saturday June 7th 2025 for “Painters Choice\,” check in time will be 2:00-3:00. The 16×20 canvas is available for $25 each . To reserve\, please send a private message and include which paintings your group wishes to paint. 2 Broke Art Teachers
URL:https://visitpikeville.com/event/painters-choice-2/
LOCATION:2 Broke Art Teachers\, 4505 Weddington Square\,\, Pikeville\, KY\, 41501\, United States
CATEGORIES:Other
ATTACH;FMTTYPE=image/jpeg:https://visitpikeville.com/wp-content/uploads/2025/06/painters-choice.jpg
END:VEVENT
BEGIN:VEVENT
DTSTART;TZID=America/Kentucky/Louisville:20250609T173000
DTEND;TZID=America/Kentucky/Louisville:20250609T200000
DTSTAMP:20260425T095936
CREATED:20250609T132904Z
LAST-MODIFIED:20250609T132904Z
UID:65055-1749490200-1749499200@visitpikeville.com
SUMMARY:Mellow Monday's
DESCRIPTION:Card Games @ the Mine 606
URL:https://visitpikeville.com/event/mellow-mondays/
LOCATION:The Mine 606\, 121 Main St\, Pikeville\, KY\, 41501\, United States
CATEGORIES:Other
ATTACH;FMTTYPE=image/jpeg:https://visitpikeville.com/wp-content/uploads/2025/06/mine.jpg
END:VEVENT
BEGIN:VEVENT
DTSTART;VALUE=DATE:20250610
DTEND;VALUE=DATE:20250611
DTSTAMP:20260425T095936
CREATED:20250609T133908Z
LAST-MODIFIED:20250609T133908Z
UID:65072-1749513600-1749599999@visitpikeville.com
SUMMARY:Street Taco Tuesday
DESCRIPTION:@ The Mine 606
URL:https://visitpikeville.com/event/street-taco-tuesday/
LOCATION:The Mine 606\, 121 Main St\, Pikeville\, KY\, 41501\, United States
CATEGORIES:Other
ATTACH;FMTTYPE=image/jpeg:https://visitpikeville.com/wp-content/uploads/2025/06/mine.jpg
END:VEVENT
BEGIN:VEVENT
DTSTART;TZID=America/Kentucky/Louisville:20250611T183000
DTEND;TZID=America/Kentucky/Louisville:20250611T200000
DTSTAMP:20260425T095936
CREATED:20250609T134012Z
LAST-MODIFIED:20250609T134012Z
UID:65074-1749666600-1749672000@visitpikeville.com
SUMMARY:Trivia Night
DESCRIPTION:@ The Mine 606
URL:https://visitpikeville.com/event/trivia-night-9/
LOCATION:The Mine 606\, 121 Main St\, Pikeville\, KY\, 41501\, United States
CATEGORIES:Other
ATTACH;FMTTYPE=image/jpeg:https://visitpikeville.com/wp-content/uploads/2025/06/mine.jpg
END:VEVENT
BEGIN:VEVENT
DTSTART;VALUE=DATE:20250612
DTEND;VALUE=DATE:20250613
DTSTAMP:20260425T095936
CREATED:20250609T134131Z
LAST-MODIFIED:20250609T134131Z
UID:65076-1749686400-1749772799@visitpikeville.com
SUMMARY:Thirsty Thursday
DESCRIPTION:@ The Mine 606
URL:https://visitpikeville.com/event/thirsty-thursday/
LOCATION:The Mine 606\, 121 Main St\, Pikeville\, KY\, 41501\, United States
CATEGORIES:Other
ATTACH;FMTTYPE=image/jpeg:https://visitpikeville.com/wp-content/uploads/2025/06/mine.jpg
END:VEVENT
BEGIN:VEVENT
DTSTART;TZID=America/Kentucky/Louisville:20250613T170000
DTEND;TZID=America/Kentucky/Louisville:20250613T210000
DTSTAMP:20260425T095936
CREATED:20250609T143931Z
LAST-MODIFIED:20250609T143931Z
UID:65149-1749834000-1749848400@visitpikeville.com
SUMMARY:4th of July celebrations!
DESCRIPTION:Get ready to unleash your creativity and kick off the 4th of July celebrations! Join us for a fun-filled evening of painting festive flip flops\, a pig having a watermelon treat\, or fireworks.  Friday\, June 13\, 5:00-6:00 pm check-in time. Send a private message to reserve your spot. 
URL:https://visitpikeville.com/event/4th-of-july-celebrations/
LOCATION:2 Broke Art Teachers\, 4505 Weddington Square\,\, Pikeville\, KY\, 41501\, United States
CATEGORIES:Other
ATTACH;FMTTYPE=image/jpeg:https://visitpikeville.com/wp-content/uploads/2025/06/july4.jpg
END:VEVENT
END:VCALENDAR