BEGIN:VCALENDAR
VERSION:2.0
PRODID:-//Visit Pikeville - ECPv6.15.20//NONSGML v1.0//EN
CALSCALE:GREGORIAN
METHOD:PUBLISH
X-ORIGINAL-URL:https://visitpikeville.com
X-WR-CALDESC:Events for Visit Pikeville
REFRESH-INTERVAL;VALUE=DURATION:PT1H
X-Robots-Tag:noindex
X-PUBLISHED-TTL:PT1H
BEGIN:VTIMEZONE
TZID:America/Kentucky/Louisville
BEGIN:DAYLIGHT
TZOFFSETFROM:-0500
TZOFFSETTO:-0400
TZNAME:EDT
DTSTART:20240310T070000
END:DAYLIGHT
BEGIN:STANDARD
TZOFFSETFROM:-0400
TZOFFSETTO:-0500
TZNAME:EST
DTSTART:20241103T060000
END:STANDARD
BEGIN:DAYLIGHT
TZOFFSETFROM:-0500
TZOFFSETTO:-0400
TZNAME:EDT
DTSTART:20250309T070000
END:DAYLIGHT
BEGIN:STANDARD
TZOFFSETFROM:-0400
TZOFFSETTO:-0500
TZNAME:EST
DTSTART:20251102T060000
END:STANDARD
BEGIN:DAYLIGHT
TZOFFSETFROM:-0500
TZOFFSETTO:-0400
TZNAME:EDT
DTSTART:20260308T070000
END:DAYLIGHT
BEGIN:STANDARD
TZOFFSETFROM:-0400
TZOFFSETTO:-0500
TZNAME:EST
DTSTART:20261101T060000
END:STANDARD
END:VTIMEZONE
BEGIN:VEVENT
DTSTART;TZID=America/Kentucky/Louisville:20250405T090000
DTEND;TZID=America/Kentucky/Louisville:20250405T120000
DTSTAMP:20260425T113550
CREATED:20250317T183244Z
LAST-MODIFIED:20250317T183244Z
UID:63510-1743843600-1743854400@visitpikeville.com
SUMMARY:2025 Run With Courage 5K
DESCRIPTION:The Annual 5K Run/1 Mile Walk for Judi’s Place for Kids is back!!!   \nPrizes/ Opportunities: \n\nOne With Courage Awards: Be sure to nominate individuals or groups in the community that have shown courage supporting children over the past year! There are three One With Courage Awards for those that bring “Hope”\, “Help” and “Healing” to children. You can email kim.lee@ky.gov to make nominations!\nCostume contests: The Run with Courage is still superhero themed! Everyone who helps a child is a superhero\, and the children who are survivors of abuse are also heroes!  Watch social media for details on how to submit your entries for individual\, team\, and pet categories.\n\nRegistration fee: $30. This price helps us cover the cost of the t-shirts for participants as well as race timers\, bibs\, pins and everything else needed to make sure we have a successful race!\nOn-site registration will be available at 7:00am the day of the event. Limited t-shirts will be available for those signing up after March 21st including the day of the event. \nTo celebrate children in our community and build commitment to the fight against child abuse\, we encourage everyone to participate and to wear superhero costumes to show your support for children facing abuse. All proceeds from the race will benefit Judi’s Place for Kids to continue providing services that promote safety and justice\, hope\, and healing for children who have been victims of abuse. Judi’s Place for Kids offers forensic interviews\, victim advocacy\, medical care\, mental health therapy\, and public education. Learn more about our services at www.JudisPlace.org.
URL:https://visitpikeville.com/event/2025-run-with-courage-5k/
LOCATION:Judi’s Place for Kids\, 128 S College St.\, Pikeville\, KY\, 41501\, United States
CATEGORIES:Other
ATTACH;FMTTYPE=image/png:https://visitpikeville.com/wp-content/uploads/2025/03/raceBanner-nqenSmjl-bNWIz9-huge-e1742236341167.png
END:VEVENT
BEGIN:VEVENT
DTSTART;TZID=America/Kentucky/Louisville:20250405T170000
DTEND;TZID=America/Kentucky/Louisville:20250405T190000
DTSTAMP:20260425T113550
CREATED:20250331T135332Z
LAST-MODIFIED:20250331T135332Z
UID:63716-1743872400-1743879600@visitpikeville.com
SUMMARY:Spring Chicken
DESCRIPTION:$30
URL:https://visitpikeville.com/event/spring-chicken/
LOCATION:2 Broke Art Teachers\, 4505 Weddington Square\,\, Pikeville\, KY\, 41501\, United States
CATEGORIES:Other
ATTACH;FMTTYPE=image/jpeg:https://visitpikeville.com/wp-content/uploads/2025/03/spring-chicken.jpg
END:VEVENT
BEGIN:VEVENT
DTSTART;TZID=America/Kentucky/Louisville:20250411T173000
DTEND;TZID=America/Kentucky/Louisville:20250411T193000
DTSTAMP:20260425T113550
CREATED:20250407T213453Z
LAST-MODIFIED:20250407T213453Z
UID:63828-1744392600-1744399800@visitpikeville.com
SUMMARY:Red Barn / Peeps
DESCRIPTION:Friday April 11 @ 5:30pm
URL:https://visitpikeville.com/event/red-barn-peeps/
LOCATION:2 Broke Art Teachers\, 4505 Weddington Square\,\, Pikeville\, KY\, 41501\, United States
CATEGORIES:Other
ATTACH;FMTTYPE=image/jpeg:https://visitpikeville.com/wp-content/uploads/2025/04/red-barnpeeps.jpg
END:VEVENT
BEGIN:VEVENT
DTSTART;TZID=America/Kentucky/Louisville:20250411T193000
DTEND;TZID=America/Kentucky/Louisville:20250411T223000
DTSTAMP:20260425T113550
CREATED:20250407T210245Z
LAST-MODIFIED:20250407T210245Z
UID:63804-1744399800-1744410600@visitpikeville.com
SUMMARY:Live Music at Bank 253
DESCRIPTION:Ethan Allen 7:30pm – 10:30pm
URL:https://visitpikeville.com/event/live-music-at-bank-253-3-2-2-2-2-2-2/
LOCATION:Bank 253\, 253 2nd St\,\, Pikeville\, KY\, 41501\, United States
CATEGORIES:Other
ATTACH;FMTTYPE=image/jpeg:https://visitpikeville.com/wp-content/uploads/2025/02/bank253.jpg
END:VEVENT
BEGIN:VEVENT
DTSTART;TZID=America/Kentucky/Louisville:20250412T190000
DTEND;TZID=America/Kentucky/Louisville:20250412T210000
DTSTAMP:20260425T113550
CREATED:20250407T213648Z
LAST-MODIFIED:20250407T213648Z
UID:63831-1744484400-1744491600@visitpikeville.com
SUMMARY:Highland cow/ Peeps/ Spring Chicken
DESCRIPTION:Don’t miss your last chance to catch some of these favorites 
URL:https://visitpikeville.com/event/highland-cow-peeps-spring-chicken/
LOCATION:2 Broke Art Teachers\, 4505 Weddington Square\,\, Pikeville\, KY\, 41501\, United States
CATEGORIES:Other
ATTACH;FMTTYPE=image/jpeg:https://visitpikeville.com/wp-content/uploads/2025/04/highland.jpg
END:VEVENT
BEGIN:VEVENT
DTSTART;TZID=America/Kentucky/Louisville:20250412T193000
DTEND;TZID=America/Kentucky/Louisville:20250412T223000
DTSTAMP:20260425T113550
CREATED:20250407T210458Z
LAST-MODIFIED:20250407T210458Z
UID:63808-1744486200-1744497000@visitpikeville.com
SUMMARY:Live Music at Bank 253
DESCRIPTION:Chris Strathman 7:30pm – 10:30pm
URL:https://visitpikeville.com/event/live-music-at-bank-253-3-2-2-2-2-2-2-2/
LOCATION:Bank 253\, 253 2nd St\,\, Pikeville\, KY\, 41501\, United States
CATEGORIES:Other
ATTACH;FMTTYPE=image/jpeg:https://visitpikeville.com/wp-content/uploads/2025/02/bank253.jpg
END:VEVENT
BEGIN:VEVENT
DTSTART;TZID=America/Kentucky/Louisville:20250418T173000
DTEND;TZID=America/Kentucky/Louisville:20250418T193000
DTSTAMP:20260425T113550
CREATED:20250414T130519Z
LAST-MODIFIED:20250414T130519Z
UID:63916-1744997400-1745004600@visitpikeville.com
SUMMARY:Walks on Water
DESCRIPTION:Better sign up for this meaningful painting.
URL:https://visitpikeville.com/event/walks-on-water/
LOCATION:2 Broke Art Teachers\, 4505 Weddington Square\,\, Pikeville\, KY\, 41501\, United States
CATEGORIES:Other
ATTACH;FMTTYPE=image/jpeg:https://visitpikeville.com/wp-content/uploads/2025/04/walks.jpg
END:VEVENT
BEGIN:VEVENT
DTSTART;TZID=America/Kentucky/Louisville:20250418T193000
DTEND;TZID=America/Kentucky/Louisville:20250418T223000
DTSTAMP:20260425T113550
CREATED:20250407T211509Z
LAST-MODIFIED:20250407T211509Z
UID:63817-1745004600-1745015400@visitpikeville.com
SUMMARY:Live Music at Bank 253
DESCRIPTION:Half-Priced Blues Live \n7:30 – 10:30 pm
URL:https://visitpikeville.com/event/live-music-at-bank-253-3-2-2-2-2-2-2-2-2/
LOCATION:Bank 253\, 253 2nd St\,\, Pikeville\, KY\, 41501\, United States
CATEGORIES:Other
ATTACH;FMTTYPE=image/jpeg:https://visitpikeville.com/wp-content/uploads/2025/02/bank253.jpg
END:VEVENT
BEGIN:VEVENT
DTSTART;TZID=America/Kentucky/Louisville:20250419T130000
DTEND;TZID=America/Kentucky/Louisville:20250419T150000
DTSTAMP:20260425T113550
CREATED:20250414T130351Z
LAST-MODIFIED:20250414T130351Z
UID:63913-1745067600-1745074800@visitpikeville.com
SUMMARY:Hug me Stitch
DESCRIPTION:This painting is for kids and adults. Unlock your creativity\, sign up now!
URL:https://visitpikeville.com/event/hug-me-stitch/
LOCATION:2 Broke Art Teachers\, 4505 Weddington Square\,\, Pikeville\, KY\, 41501\, United States
CATEGORIES:Other
ATTACH;FMTTYPE=image/jpeg:https://visitpikeville.com/wp-content/uploads/2025/04/kids-paint.jpg
END:VEVENT
BEGIN:VEVENT
DTSTART;TZID=America/Kentucky/Louisville:20250419T170000
DTEND;TZID=America/Kentucky/Louisville:20250419T190000
DTSTAMP:20260425T113550
CREATED:20250414T130147Z
LAST-MODIFIED:20250414T130147Z
UID:63910-1745082000-1745089200@visitpikeville.com
SUMMARY:Gertie
DESCRIPTION:Reflect on where you will showcase Miss Gertie following a fun and creative painting session with friends and family. Join us for a relaxing evening. Secure your spot today.
URL:https://visitpikeville.com/event/gertie/
LOCATION:2 Broke Art Teachers\, 4505 Weddington Square\,\, Pikeville\, KY\, 41501\, United States
CATEGORIES:Other
ATTACH;FMTTYPE=image/jpeg:https://visitpikeville.com/wp-content/uploads/2025/04/gertie.jpg
END:VEVENT
BEGIN:VEVENT
DTSTART;TZID=America/Kentucky/Louisville:20250419T193000
DTEND;TZID=America/Kentucky/Louisville:20250419T223000
DTSTAMP:20260425T113550
CREATED:20250407T211618Z
LAST-MODIFIED:20250407T211618Z
UID:63819-1745091000-1745101800@visitpikeville.com
SUMMARY:Live Music at Bank 253
DESCRIPTION:Julia Still Live \n7:30 – 10:30 pm
URL:https://visitpikeville.com/event/live-music-at-bank-253-3-2-2-2-2-2-2-2-2-2/
LOCATION:Bank 253\, 253 2nd St\,\, Pikeville\, KY\, 41501\, United States
CATEGORIES:Other
ATTACH;FMTTYPE=image/jpeg:https://visitpikeville.com/wp-content/uploads/2025/02/bank253.jpg
END:VEVENT
BEGIN:VEVENT
DTSTART;TZID=America/Kentucky/Louisville:20250422T110000
DTEND;TZID=America/Kentucky/Louisville:20250422T120000
DTSTAMP:20260425T113550
CREATED:20250331T132952Z
LAST-MODIFIED:20250331T132952Z
UID:63703-1745319600-1745323200@visitpikeville.com
SUMMARY:Book Signing Event
DESCRIPTION:Join us for this book signing at FaithLife Market! One of our great downtown Pikeville businesses!
URL:https://visitpikeville.com/event/book-signing-event/
LOCATION:Faith Life Market\, 130 Division St\,\, Pikeville\, KY\, 41501\, United States
CATEGORIES:Other
ATTACH;FMTTYPE=image/jpeg:https://visitpikeville.com/wp-content/uploads/2025/03/book-signing.jpg
END:VEVENT
BEGIN:VEVENT
DTSTART;TZID=America/Kentucky/Louisville:20250424T170000
DTEND;TZID=America/Kentucky/Louisville:20250427T013000
DTSTAMP:20260425T113550
CREATED:20250324T134514Z
LAST-MODIFIED:20250324T134514Z
UID:63579-1745514000-1745717400@visitpikeville.com
SUMMARY:Hillbilly days live music schedule
DESCRIPTION:@ Bank 253
URL:https://visitpikeville.com/event/hillbilly-days-live-music-schedule/
LOCATION:Bank 253\, 253 2nd St\,\, Pikeville\, KY\, 41501\, United States
CATEGORIES:Other
ATTACH;FMTTYPE=image/jpeg:https://visitpikeville.com/wp-content/uploads/2025/03/live-music.jpg
END:VEVENT
BEGIN:VEVENT
DTSTART;TZID=America/Kentucky/Louisville:20250425T170000
DTEND;TZID=America/Kentucky/Louisville:20250425T190000
DTSTAMP:20260425T113550
CREATED:20250422T183916Z
LAST-MODIFIED:20250422T183916Z
UID:63973-1745600400-1745607600@visitpikeville.com
SUMMARY:Painters Choice
DESCRIPTION:Paintings scheduled this week Friday April 25@5:00 and Saturday April 26@5:00. You chose.
URL:https://visitpikeville.com/event/painters-choice/
LOCATION:2 Broke Art Teachers\, 4505 Weddington Square\,\, Pikeville\, KY\, 41501\, United States
CATEGORIES:Other
ATTACH;FMTTYPE=image/jpeg:https://visitpikeville.com/wp-content/uploads/2025/04/PAINTERS.jpg
END:VEVENT
BEGIN:VEVENT
DTSTART;TZID=America/Kentucky/Louisville:20250425T180000
DTEND;TZID=America/Kentucky/Louisville:20250425T230000
DTSTAMP:20260425T113550
CREATED:20250317T134533Z
LAST-MODIFIED:20250422T183624Z
UID:63476-1745604000-1745622000@visitpikeville.com
SUMMARY:Live Music Hillbilly Days
DESCRIPTION:@ Dueling Barrels \n 
URL:https://visitpikeville.com/event/live-music-hillbilly-days/
LOCATION:Dueling Barrels\, 226 2nd Street\, Pikeville\, KY\, 41501\, United States
CATEGORIES:Other
ATTACH;FMTTYPE=image/jpeg:https://visitpikeville.com/wp-content/uploads/2025/03/DUELLING.jpg
END:VEVENT
BEGIN:VEVENT
DTSTART;TZID=America/Kentucky/Louisville:20250426T180000
DTEND;TZID=America/Kentucky/Louisville:20250426T230000
DTSTAMP:20260425T113550
CREATED:20250317T134717Z
LAST-MODIFIED:20250422T183716Z
UID:63478-1745690400-1745708400@visitpikeville.com
SUMMARY:Live Music Hillbilly Days
DESCRIPTION:@ Dueling Barrels \n 
URL:https://visitpikeville.com/event/live-music-hillbilly-days-2/
LOCATION:Dueling Barrels\, 226 2nd Street\, Pikeville\, KY\, 41501\, United States
CATEGORIES:Other
ATTACH;FMTTYPE=image/jpeg:https://visitpikeville.com/wp-content/uploads/2025/03/DUELLING.jpg
END:VEVENT
BEGIN:VEVENT
DTSTART;TZID=America/Kentucky/Louisville:20250427T070000
DTEND;TZID=America/Kentucky/Louisville:20250427T110000
DTSTAMP:20260425T113550
CREATED:20240722T133319Z
LAST-MODIFIED:20240722T133319Z
UID:53729-1745737200-1745751600@visitpikeville.com
SUMMARY:2025 Hillbilly Half Race Series - Run for the Kids 5K/10K/Half Marathon
DESCRIPTION:HOWDY Friends! This year we’ve added something new and exciting!  Ya’ll can “Run fer the Kids” in a 5K\, 10K\, or the inaugural HALF MARATHON!  This will be the FIRST half marathon for the HBDRun and we are so excited!  So\, pick your distance and join us in beautiful downtown Pikeville at the Pikeville City Park\, while you enjoy Kentucky’s 2nd largest festival\, Hillbilly Days. The first half of the half (the 10K portion) will all be on pavement/sidewalks and in the downtown area of Pikeville.  Those who elect to do the half marathon will get to enjoy some “off-roading” and become a true “Hillbilly”\, because part of this route will take you through one of our beautiful trails.  There will be challenging inclines\, but there is no “hiking” type of terrain.  The entire hill route is a wide path and is either paved\, or gravel. Each participant will receive a t-shirt or tank top and a UNIQUE medal.  The medal will be the first in a series of medals to celebrate the inaugural half marathon.  Each subsequent year\, the medals will be a different member of the Hillbilly family\, with the first medal being the Hillbilly Momma.  More details to come on the medals\, so stay tuned. The race will be timed\, so hit the pavement at a nice and easy pace\, or run yer hiney off! We will be offering the kids fun run (it’s free) and the 2 mile walk for 2024. Feel free to send any questions or suggestions to our FaceBook Page\, Hillbilly Days Run for the Kids.
URL:https://visitpikeville.com/event/2025-hillbilly-half-race-series-run-for-the-kids-5k-10k-half-marathon/
LOCATION:Pikeville City Park\, 101 Cumberland Ct\,\, Pikeville\, KY\, 41501
CATEGORIES:Other
ATTACH;FMTTYPE=image/png:https://visitpikeville.com/wp-content/uploads/2024/07/race30323-logo-0.bMaTxO.png
END:VEVENT
BEGIN:VEVENT
DTSTART;TZID=America/Kentucky/Louisville:20250430T173000
DTEND;TZID=America/Kentucky/Louisville:20250430T193000
DTSTAMP:20260425T113550
CREATED:20250428T144206Z
LAST-MODIFIED:20250428T144206Z
UID:64051-1746034200-1746041400@visitpikeville.com
SUMMARY:Painted Canvas Bag Class
DESCRIPTION:$30
URL:https://visitpikeville.com/event/painted-canvas-bag-class/
LOCATION:2 Broke Art Teachers\, 4505 Weddington Square\,\, Pikeville\, KY\, 41501\, United States
CATEGORIES:Other
ATTACH;FMTTYPE=image/jpeg:https://visitpikeville.com/wp-content/uploads/2025/04/canvas-bag.jpg
END:VEVENT
BEGIN:VEVENT
DTSTART;TZID=America/Kentucky/Louisville:20250502T173000
DTEND;TZID=America/Kentucky/Louisville:20250502T193000
DTSTAMP:20260425T113550
CREATED:20250428T144013Z
LAST-MODIFIED:20250428T144013Z
UID:64048-1746207000-1746214200@visitpikeville.com
SUMMARY:May the force be with you
DESCRIPTION:“May the force be with you” and us too….join us to paint this Star Wars painting.
URL:https://visitpikeville.com/event/may-the-force-be-with-you/
LOCATION:2 Broke Art Teachers\, 4505 Weddington Square\,\, Pikeville\, KY\, 41501\, United States
CATEGORIES:Other
ATTACH;FMTTYPE=image/jpeg:https://visitpikeville.com/wp-content/uploads/2025/04/storm-trooper.jpg
END:VEVENT
BEGIN:VEVENT
DTSTART;TZID=America/Kentucky/Louisville:20250503T190000
DTEND;TZID=America/Kentucky/Louisville:20250503T210000
DTSTAMP:20260425T113550
CREATED:20250428T143633Z
LAST-MODIFIED:20250428T143633Z
UID:64045-1746298800-1746306000@visitpikeville.com
SUMMARY:Star Wars
DESCRIPTION:Joins us and paint this artistic Star Wars painting taught by an art teacher demonstrating Step by Step using our big screen TV’s. Also offering some popular paintings for “Painters Choice.”
URL:https://visitpikeville.com/event/star-wars/
LOCATION:2 Broke Art Teachers\, 4505 Weddington Square\,\, Pikeville\, KY\, 41501\, United States
CATEGORIES:Other
ATTACH;FMTTYPE=image/jpeg:https://visitpikeville.com/wp-content/uploads/2025/04/star-wars.jpg
END:VEVENT
BEGIN:VEVENT
DTSTART;TZID=America/Kentucky/Louisville:20250503T210000
DTEND;TZID=America/Kentucky/Louisville:20250503T233000
DTSTAMP:20260425T113550
CREATED:20250303T155122Z
LAST-MODIFIED:20250303T155122Z
UID:63272-1746306000-1746315000@visitpikeville.com
SUMMARY:Exit 23 + The Swagtones Residency at Pearse's Place
DESCRIPTION:We had so much fun doing this residency at Pearse’s Place up stairs at Dueling Barrels Brewery & Distillery with The Swagtones that we’ve decided to do it again! So y’all get ready and we will do it again in May!!
URL:https://visitpikeville.com/event/exit-23-the-swagtones-residency-at-pearses-place/
LOCATION:Pearse’s Place\, 224 2nd St\,\, Pikeville\, KY\, 41501\, United States
CATEGORIES:Other
ATTACH;FMTTYPE=image/jpeg:https://visitpikeville.com/wp-content/uploads/2025/03/exit-23.jpg
END:VEVENT
BEGIN:VEVENT
DTSTART;TZID=America/Kentucky/Louisville:20250506T173000
DTEND;TZID=America/Kentucky/Louisville:20250506T193000
DTSTAMP:20260425T113550
CREATED:20250505T142236Z
LAST-MODIFIED:20250505T142236Z
UID:64175-1746552600-1746559800@visitpikeville.com
SUMMARY:Teachers
DESCRIPTION:16 x 20 $30
URL:https://visitpikeville.com/event/teachers/
LOCATION:KY
CATEGORIES:Other
ATTACH;FMTTYPE=image/jpeg:https://visitpikeville.com/wp-content/uploads/2025/05/teacher.jpg
END:VEVENT
BEGIN:VEVENT
DTSTART;TZID=America/Kentucky/Louisville:20250506T173000
DTEND;TZID=America/Kentucky/Louisville:20250506T193000
DTSTAMP:20260425T113550
CREATED:20250505T142422Z
LAST-MODIFIED:20250505T142422Z
UID:64178-1746552600-1746559800@visitpikeville.com
SUMMARY:Remembrance Cardinal
DESCRIPTION:11 x 14 $25
URL:https://visitpikeville.com/event/remembrance-cardinal/
LOCATION:2 Broke Art Teachers\, 4505 Weddington Square\,\, Pikeville\, KY\, 41501\, United States
CATEGORIES:Other
ATTACH;FMTTYPE=image/jpeg:https://visitpikeville.com/wp-content/uploads/2025/05/cardinal.jpg
END:VEVENT
BEGIN:VEVENT
DTSTART;TZID=America/Kentucky/Louisville:20250509T130000
DTEND;TZID=America/Kentucky/Louisville:20250509T160000
DTSTAMP:20260425T113550
CREATED:20250505T142025Z
LAST-MODIFIED:20250505T142025Z
UID:64172-1746795600-1746806400@visitpikeville.com
SUMMARY:Mother’s Day
DESCRIPTION:Special Saturday event
URL:https://visitpikeville.com/event/mothers-day-2/
LOCATION:2 Broke Art Teachers\, 4505 Weddington Square\,\, Pikeville\, KY\, 41501\, United States
CATEGORIES:Other
ATTACH;FMTTYPE=image/jpeg:https://visitpikeville.com/wp-content/uploads/2025/05/mothers.jpg
END:VEVENT
BEGIN:VEVENT
DTSTART;TZID=America/Kentucky/Louisville:20250509T173000
DTEND;TZID=America/Kentucky/Louisville:20250509T193000
DTSTAMP:20260425T113550
CREATED:20250505T141827Z
LAST-MODIFIED:20250505T141827Z
UID:64169-1746811800-1746819000@visitpikeville.com
SUMMARY:Mother’s Day
DESCRIPTION:$30 16×20
URL:https://visitpikeville.com/event/mothers-day/
LOCATION:2 Broke Art Teachers\, 4505 Weddington Square\,\, Pikeville\, KY\, 41501\, United States
CATEGORIES:Other
ATTACH;FMTTYPE=image/jpeg:https://visitpikeville.com/wp-content/uploads/2025/05/mothers-day.jpg
END:VEVENT
BEGIN:VEVENT
DTSTART;TZID=America/Kentucky/Louisville:20250509T193000
DTEND;TZID=America/Kentucky/Louisville:20250509T223000
DTSTAMP:20260425T113550
CREATED:20250505T134128Z
LAST-MODIFIED:20250505T134128Z
UID:64131-1746819000-1746829800@visitpikeville.com
SUMMARY:Live Music at Bank 253
DESCRIPTION:7:30 – 10:30 pm
URL:https://visitpikeville.com/event/live-music-at-bank-253-3-2-2-2-2-2-2-2-2-2-2/
LOCATION:Bank 253\, 253 2nd St\,\, Pikeville\, KY\, 41501\, United States
CATEGORIES:Other
ATTACH;FMTTYPE=image/jpeg:https://visitpikeville.com/wp-content/uploads/2025/02/bank253.jpg
END:VEVENT
BEGIN:VEVENT
DTSTART;TZID=America/Kentucky/Louisville:20250510T180000
DTEND;TZID=America/Kentucky/Louisville:20250510T200000
DTSTAMP:20260425T113550
CREATED:20250505T141626Z
LAST-MODIFIED:20250505T141626Z
UID:64166-1746900000-1746907200@visitpikeville.com
SUMMARY:Mama Bears
DESCRIPTION:$30 16 x 20
URL:https://visitpikeville.com/event/mama-bears/
LOCATION:2 Broke Art Teachers\, 4505 Weddington Square\,\, Pikeville\, KY\, 41501\, United States
CATEGORIES:Other
ATTACH;FMTTYPE=image/jpeg:https://visitpikeville.com/wp-content/uploads/2025/05/mama-bears.jpg
END:VEVENT
BEGIN:VEVENT
DTSTART;TZID=America/Kentucky/Louisville:20250510T193000
DTEND;TZID=America/Kentucky/Louisville:20250510T223000
DTSTAMP:20260425T113550
CREATED:20250505T134459Z
LAST-MODIFIED:20250505T134459Z
UID:64133-1746905400-1746916200@visitpikeville.com
SUMMARY:Live Music at Bank 253
DESCRIPTION:7:30 – 10:30 pm
URL:https://visitpikeville.com/event/live-music-at-bank-253-3-2-2-2-2-2-2-2-2-2-2-2/
LOCATION:Bank 253\, 253 2nd St\,\, Pikeville\, KY\, 41501\, United States
CATEGORIES:Other
ATTACH;FMTTYPE=image/jpeg:https://visitpikeville.com/wp-content/uploads/2025/02/bank253.jpg
END:VEVENT
BEGIN:VEVENT
DTSTART;TZID=America/Kentucky/Louisville:20250510T200000
DTEND;TZID=America/Kentucky/Louisville:20250510T230000
DTSTAMP:20260425T113550
CREATED:20250505T134841Z
LAST-MODIFIED:20250505T135135Z
UID:64135-1746907200-1746918000@visitpikeville.com
SUMMARY:Swagtones & Exit 23 @ Pearse's Place
DESCRIPTION:Every Saturday in May
URL:https://visitpikeville.com/event/swagtones-exit-23-pearses-place/
LOCATION:Pearse’s Place\, 224 2nd St\,\, Pikeville\, KY\, 41501\, United States
CATEGORIES:Other
ATTACH;FMTTYPE=image/jpeg:https://visitpikeville.com/wp-content/uploads/2025/05/pearses.jpg
END:VEVENT
BEGIN:VEVENT
DTSTART;TZID=America/Kentucky/Louisville:20250510T210000
DTEND;TZID=America/Kentucky/Louisville:20250510T233000
DTSTAMP:20260425T113550
CREATED:20250303T155253Z
LAST-MODIFIED:20250303T155253Z
UID:63275-1746910800-1746919800@visitpikeville.com
SUMMARY:Exit 23 + The Swagtones Residency at Pearse's Place
DESCRIPTION:We had so much fun doing this residency at Pearse’s Place up stairs at Dueling Barrels Brewery & Distillery with The Swagtones that we’ve decided to do it again! So y’all get ready and we will do it again in May!!
URL:https://visitpikeville.com/event/exit-23-the-swagtones-residency-at-pearses-place-2/
LOCATION:Pearse’s Place\, 224 2nd St\,\, Pikeville\, KY\, 41501\, United States
CATEGORIES:Other
ATTACH;FMTTYPE=image/jpeg:https://visitpikeville.com/wp-content/uploads/2025/03/exit-23.jpg
END:VEVENT
END:VCALENDAR