BEGIN:VCALENDAR
VERSION:2.0
PRODID:-//Visit Pikeville - ECPv6.15.20//NONSGML v1.0//EN
CALSCALE:GREGORIAN
METHOD:PUBLISH
X-WR-CALNAME:Visit Pikeville
X-ORIGINAL-URL:https://visitpikeville.com
X-WR-CALDESC:Events for Visit Pikeville
REFRESH-INTERVAL;VALUE=DURATION:PT1H
X-Robots-Tag:noindex
X-PUBLISHED-TTL:PT1H
BEGIN:VTIMEZONE
TZID:America/Kentucky/Louisville
BEGIN:DAYLIGHT
TZOFFSETFROM:-0500
TZOFFSETTO:-0400
TZNAME:EDT
DTSTART:20240310T070000
END:DAYLIGHT
BEGIN:STANDARD
TZOFFSETFROM:-0400
TZOFFSETTO:-0500
TZNAME:EST
DTSTART:20241103T060000
END:STANDARD
BEGIN:DAYLIGHT
TZOFFSETFROM:-0500
TZOFFSETTO:-0400
TZNAME:EDT
DTSTART:20250309T070000
END:DAYLIGHT
BEGIN:STANDARD
TZOFFSETFROM:-0400
TZOFFSETTO:-0500
TZNAME:EST
DTSTART:20251102T060000
END:STANDARD
BEGIN:DAYLIGHT
TZOFFSETFROM:-0500
TZOFFSETTO:-0400
TZNAME:EDT
DTSTART:20260308T070000
END:DAYLIGHT
BEGIN:STANDARD
TZOFFSETFROM:-0400
TZOFFSETTO:-0500
TZNAME:EST
DTSTART:20261101T060000
END:STANDARD
END:VTIMEZONE
BEGIN:VEVENT
DTSTART;TZID=America/Kentucky/Louisville:20250821T173000
DTEND;TZID=America/Kentucky/Louisville:20250821T193000
DTSTAMP:20260425T075937
CREATED:20250818T151757Z
LAST-MODIFIED:20250818T151757Z
UID:67251-1755797400-1755804600@visitpikeville.com
SUMMARY:Fall Lantern Paint Class
DESCRIPTION:Join us Thursday\, August 21\, 2025 at 5:30 PM for a cozy fall paint night! We’ll guide you step-by-step to create a charming Fall Lantern—perfect for your autumn décor. $25 per painter Private message to reserve your spot.All supplies included—just bring your fall vibes.#2BrokeArtTeachers #FallLantern #PaintClass #PikevilleKY
URL:https://visitpikeville.com/event/fall-lantern-paint-class/
LOCATION:2 Broke Art Teachers\, 4505 Weddington Square\,\, Pikeville\, KY\, 41501\, United States
CATEGORIES:Other
ATTACH;FMTTYPE=image/jpeg:https://visitpikeville.com/wp-content/uploads/2025/08/lantern.jpg
END:VEVENT
BEGIN:VEVENT
DTSTART;TZID=America/Kentucky/Louisville:20250822T173000
DTEND;TZID=America/Kentucky/Louisville:20250822T193000
DTSTAMP:20260425T075937
CREATED:20250818T152240Z
LAST-MODIFIED:20250818T152240Z
UID:67254-1755883800-1755891000@visitpikeville.com
SUMMARY:Fun Friday Paint Class
DESCRIPTION:Join us at 2 Broke Art Teachers on Friday\, August 22\, 2025 at 5:30 PM for a fun night of painting! Choose from 5 adorable designs\, including Hocus Pocus and Halloween’s Cutest Couple. $25 per painter — all supplies included.Seats are limited—private message to reserve your canvas!#FunFriday #PaintNight #2BrokeArtTeachers #HocusPocus #HalloweenCutestCouple #PikevilleArts #GirlsNight #DateNight
URL:https://visitpikeville.com/event/fun-friday-paint-class/
LOCATION:2 Broke Art Teachers\, 4505 Weddington Square\,\, Pikeville\, KY\, 41501\, United States
CATEGORIES:Other
ATTACH;FMTTYPE=image/jpeg:https://visitpikeville.com/wp-content/uploads/2025/08/fun.jpg
END:VEVENT
BEGIN:VEVENT
DTSTART;TZID=America/Kentucky/Louisville:20250823T120000
DTEND;TZID=America/Kentucky/Louisville:20250823T140000
DTSTAMP:20260425T075937
CREATED:20250811T114542Z
LAST-MODIFIED:20250811T114542Z
UID:66935-1755950400-1755957600@visitpikeville.com
SUMMARY:Back to school with Sonic\, Minion and Barbie
DESCRIPTION:@Mr. Gattis Pizza Pikeville
URL:https://visitpikeville.com/event/back-to-school-with-sonic-minion-and-barbie/
LOCATION:Mr Gatti’s Pizza\, 274 Cassady Blvd\,\, Pikeville\, KY\, 41501\, United States
CATEGORIES:Other
ATTACH;FMTTYPE=image/jpeg:https://visitpikeville.com/wp-content/uploads/2025/08/SONIC-MININON-BARBIE.jpg
END:VEVENT
BEGIN:VEVENT
DTSTART;TZID=America/Kentucky/Louisville:20250823T130000
DTEND;TZID=America/Kentucky/Louisville:20250823T150000
DTSTAMP:20260425T075937
CREATED:20250818T175346Z
LAST-MODIFIED:20250818T175346Z
UID:67264-1755954000-1755961200@visitpikeville.com
SUMMARY:Family Fun Paint Day!
DESCRIPTION:Bring the crew and get creative at 2 Broke Art Teachers in Pikeville\, KY on Saturday\, August 23\, 2025!Choose from 9 adorable paintings—perfect for all ages and skill levels. $20 per canvas 2 Broke Art Teachers\, Pikeville\, KYSeats fill fast—private message us to reserve your canvases and tell us how many you’ll need!#FamilyFun #PaintDay #PikevilleKY #2BrokeArtTeachers #CreateTogether #WeekendPlans
URL:https://visitpikeville.com/event/family-fun-paint-day/
LOCATION:2 Broke Art Teachers\, 4505 Weddington Square\,\, Pikeville\, KY\, 41501\, United States
CATEGORIES:Other
ATTACH;FMTTYPE=image/jpeg:https://visitpikeville.com/wp-content/uploads/2025/08/family.jpg
END:VEVENT
BEGIN:VEVENT
DTSTART;TZID=America/Kentucky/Louisville:20250823T170000
DTEND;TZID=America/Kentucky/Louisville:20250823T190000
DTSTAMP:20260425T075937
CREATED:20250818T175208Z
LAST-MODIFIED:20250818T175208Z
UID:67257-1755968400-1755975600@visitpikeville.com
SUMMARY:Scarecrow Grinch Paint Class!
DESCRIPTION:Join us for a fun and festive evening at 2 Broke Art Teachers in Pikeville\, KY! Saturday\, August 23\, 2025 5:00 PM $25 per personWe’ll walk you through step-by-step instruction to create your very own Scarecrow Grinch masterpiece. To make it extra special\, we’ll add a mixed media touch with an artificial flower  to set his look!Seats are limited—don’t miss out! Private message us to reserve your spot today! #2brokeartteachers#pikevilleky #familyfun
URL:https://visitpikeville.com/event/scarecrow-grinch-paint-class/
LOCATION:2 Broke Art Teachers\, 4505 Weddington Square\,\, Pikeville\, KY\, 41501\, United States
CATEGORIES:Other
ATTACH;FMTTYPE=image/jpeg:https://visitpikeville.com/wp-content/uploads/2025/08/scarecrow.jpg
END:VEVENT
BEGIN:VEVENT
DTSTART;TZID=America/Kentucky/Louisville:20250825T083000
DTEND;TZID=America/Kentucky/Louisville:20250825T123000
DTSTAMP:20260425T075937
CREATED:20250527T122436Z
LAST-MODIFIED:20250527T122436Z
UID:64752-1756110600-1756125000@visitpikeville.com
SUMMARY:Christmas with a First Responder Golf Scramble
DESCRIPTION:Get your golf clubs ready!
URL:https://visitpikeville.com/event/christmas-with-a-first-responder-golf-scramble-4/
LOCATION:Green Meadow Country Club\, 6887 N Mayo Trail\, Pikeville\, KY\, 41501\, United States
CATEGORIES:Other
ATTACH;FMTTYPE=image/jpeg:https://visitpikeville.com/wp-content/uploads/2025/05/golf.jpg
END:VEVENT
BEGIN:VEVENT
DTSTART;TZID=America/Kentucky/Louisville:20250827T183000
DTEND;TZID=America/Kentucky/Louisville:20250827T200000
DTSTAMP:20260425T075937
CREATED:20250804T125303Z
LAST-MODIFIED:20250804T125303Z
UID:66716-1756319400-1756324800@visitpikeville.com
SUMMARY:Bingo Night
DESCRIPTION:@ The Mine 606
URL:https://visitpikeville.com/event/bingo-night-2-2-2-2-2/
LOCATION:The Mine 606\, 121 Main St\, Pikeville\, KY\, 41501\, United States
CATEGORIES:Other
ATTACH;FMTTYPE=image/jpeg:https://visitpikeville.com/wp-content/uploads/2025/06/mine.jpg
END:VEVENT
BEGIN:VEVENT
DTSTART;TZID=America/Kentucky/Louisville:20250827T190000
DTEND;TZID=America/Kentucky/Louisville:20250827T210000
DTSTAMP:20260425T075937
CREATED:20250728T184310Z
LAST-MODIFIED:20250728T184310Z
UID:66440-1756321200-1756328400@visitpikeville.com
SUMMARY:Open Mic
DESCRIPTION:Every Wednesday at 7:00pm @ Pearse’s Place
URL:https://visitpikeville.com/event/open-mic-4-2-2-2/
LOCATION:Pearse’s Place\, 224 2nd St\,\, Pikeville\, KY\, 41501\, United States
CATEGORIES:Other
ATTACH;FMTTYPE=image/jpeg:https://visitpikeville.com/wp-content/uploads/2025/07/open-mic.jpg
END:VEVENT
BEGIN:VEVENT
DTSTART;TZID=America/Kentucky/Louisville:20250830T200000
DTEND;TZID=America/Kentucky/Louisville:20250830T220000
DTSTAMP:20260425T075937
CREATED:20250728T183840Z
LAST-MODIFIED:20250728T183840Z
UID:66430-1756584000-1756591200@visitpikeville.com
SUMMARY:Them Dirty Vandals
DESCRIPTION:@Pearses Place
URL:https://visitpikeville.com/event/them-dirty-vandals-4/
LOCATION:Pearse’s Place\, 224 2nd St\,\, Pikeville\, KY\, 41501\, United States
CATEGORIES:Other
ATTACH;FMTTYPE=image/jpeg:https://visitpikeville.com/wp-content/uploads/2025/07/dirty-vandals.jpg
END:VEVENT
BEGIN:VEVENT
DTSTART;TZID=America/Kentucky/Louisville:20250830T200000
DTEND;TZID=America/Kentucky/Louisville:20250830T220000
DTSTAMP:20260425T075937
CREATED:20250825T130045Z
LAST-MODIFIED:20250825T130045Z
UID:67493-1756584000-1756591200@visitpikeville.com
SUMMARY:Rokin'a Rodeo
DESCRIPTION:Admission $10 cash only
URL:https://visitpikeville.com/event/rokina-rodeo/
LOCATION:Rockin’ A Ranch\, 3381 KY-194\,\, Pikeville\, KY\, 41501\, United States
CATEGORIES:Other
ATTACH;FMTTYPE=image/jpeg:https://visitpikeville.com/wp-content/uploads/2025/08/rockin.jpg
END:VEVENT
BEGIN:VEVENT
DTSTART;TZID=America/Kentucky/Louisville:20250904T173000
DTEND;TZID=America/Kentucky/Louisville:20250904T193000
DTSTAMP:20260425T075937
CREATED:20250902T135238Z
LAST-MODIFIED:20250902T135238Z
UID:67772-1757007000-1757014200@visitpikeville.com
SUMMARY:Initial Fall Painting Class
DESCRIPTION: Thursday\, September 4\, 2025 5:30 PM 2 Broke Art TeachersThis class is taught step-by-step\, so no worries—perfect for beginners and seasoned painters alike.  $25 per painter Private message us to reserve your spot!Let’s make something beautiful to celebrate fall!@topfans
URL:https://visitpikeville.com/event/initial-fall-painting-class/
LOCATION:2 Broke Art Teachers\, 4505 Weddington Square\,\, Pikeville\, KY\, 41501\, United States
CATEGORIES:Other
ATTACH;FMTTYPE=image/jpeg:https://visitpikeville.com/wp-content/uploads/2025/09/initial-fall.jpg
END:VEVENT
BEGIN:VEVENT
DTSTART;TZID=America/Kentucky/Louisville:20250905T173000
DTEND;TZID=America/Kentucky/Louisville:20250905T193000
DTSTAMP:20260425T075937
CREATED:20250902T134642Z
LAST-MODIFIED:20250902T134642Z
UID:67766-1757093400-1757100600@visitpikeville.com
SUMMARY:Fun Friday Paint Night
DESCRIPTION:ADDED – Due to popular demand\, we’ve added the 3 pumpkin initial painting. Colors can be changed to match your decorations \nJoin us Friday – September 5th at 5:30 PM for a relaxing and creative evening of painting at 2 Broke Art Teachers.\n\n\n $25 per canvas\n Private message us to reserve your spot\n\n\nSeats will fill quickly—don’t miss out on this extra chance to paint with us!
URL:https://visitpikeville.com/event/fun-friday-paint-night/
LOCATION:2 Broke Art Teachers\, 4505 Weddington Square\,\, Pikeville\, KY\, 41501\, United States
CATEGORIES:Other
ATTACH;FMTTYPE=image/jpeg:https://visitpikeville.com/wp-content/uploads/2025/09/3-pumpkins.jpg
END:VEVENT
BEGIN:VEVENT
DTSTART;TZID=America/Kentucky/Louisville:20250906T130000
DTEND;TZID=America/Kentucky/Louisville:20250906T150000
DTSTAMP:20260425T075937
CREATED:20250902T135533Z
LAST-MODIFIED:20250902T135533Z
UID:67775-1757163600-1757170800@visitpikeville.com
SUMMARY:Family Paint Class
DESCRIPTION: Saturday\, September 6\, 2025 1:00 PM 2 Broke Art TeachersBring the whole family for an afternoon of fun and creativity!  $20 per painter Private message us to reserve your seats!Create memories\, paint something special\, and enjoy a family-friendly day together
URL:https://visitpikeville.com/event/family-paint-class-2/
LOCATION:2 Broke Art Teachers\, 4505 Weddington Square\,\, Pikeville\, KY\, 41501\, United States
CATEGORIES:Other
ATTACH;FMTTYPE=image/jpeg:https://visitpikeville.com/wp-content/uploads/2025/09/family-paint.jpg
END:VEVENT
BEGIN:VEVENT
DTSTART;TZID=America/Kentucky/Louisville:20250906T170000
DTEND;TZID=America/Kentucky/Louisville:20250906T190000
DTSTAMP:20260425T075937
CREATED:20250902T134943Z
LAST-MODIFIED:20250902T134943Z
UID:67769-1757178000-1757185200@visitpikeville.com
SUMMARY:Nightmare Bros Paint Class
DESCRIPTION:We’re celebrating these spooky favorites in style!\n\n\n Saturday\, September 6\, 2025\n 5:00 PM\n 2 Broke Art Teachers\n\n\nThis will be a step-by-step class\, so no worries if you’re new to painting—just bring your creativity! \n\n\n $25 per canvas\n Please\, no children under 8 for this class.\n\n\n Private message us to reserve your seat!
URL:https://visitpikeville.com/event/nightmare-bros-paint-class/
LOCATION:2 Broke Art Teachers\, 4505 Weddington Square\,\, Pikeville\, KY\, 41501\, United States
CATEGORIES:Other
ATTACH;FMTTYPE=image/jpeg:https://visitpikeville.com/wp-content/uploads/2025/09/bros.jpg
END:VEVENT
BEGIN:VEVENT
DTSTART;TZID=America/Kentucky/Louisville:20250906T190000
DTEND;TZID=America/Kentucky/Louisville:20250906T210000
DTSTAMP:20260425T075937
CREATED:20250825T134106Z
LAST-MODIFIED:20250825T134106Z
UID:67509-1757185200-1757192400@visitpikeville.com
SUMMARY:Horse Show
DESCRIPTION:Our last full show of the season!\n\n\nSoon we will also be announcing a date for our “Fun show” in October that will include costume classes for all ages and fun for all of the kids!\n\n\nWe have big announcements coming for our September 6th show so be on the lookout!
URL:https://visitpikeville.com/event/horse-show/
LOCATION:Spring Branch Farm\, 36 Spring Branch \,\, Pikeville\, KY\, 41501\, United States
CATEGORIES:Other
ATTACH;FMTTYPE=image/jpeg:https://visitpikeville.com/wp-content/uploads/2025/08/horse-show.jpg
END:VEVENT
BEGIN:VEVENT
DTSTART;TZID=America/Kentucky/Louisville:20250906T193000
DTEND;TZID=America/Kentucky/Louisville:20250906T223000
DTSTAMP:20260425T075937
CREATED:20250902T132911Z
LAST-MODIFIED:20250902T132911Z
UID:67759-1757187000-1757197800@visitpikeville.com
SUMMARY:Live Music at Bank 253
DESCRIPTION:Brody Birchfield \n7:30 – 10:30 pm
URL:https://visitpikeville.com/event/live-music-at-bank-253-3-2-2-2-2-2-2-2-2-2-2-2-2-2-2-2-2-2-2-2-2-2-2-2-2-2-2-2-2-2-2/
LOCATION:Bank 253\, 253 2nd St\,\, Pikeville\, KY\, 41501\, United States
CATEGORIES:Other
ATTACH;FMTTYPE=image/jpeg:https://visitpikeville.com/wp-content/uploads/2025/09/brody.jpg
END:VEVENT
BEGIN:VEVENT
DTSTART;TZID=America/Kentucky/Louisville:20250906T193000
DTEND;TZID=America/Kentucky/Louisville:20250906T230000
DTSTAMP:20260425T075937
CREATED:20250902T133320Z
LAST-MODIFIED:20250902T133320Z
UID:67763-1757187000-1757199600@visitpikeville.com
SUMMARY:Pearse's Place Live Music
DESCRIPTION:The Hall Brothers Band \n7:30pm – 11:00pm
URL:https://visitpikeville.com/event/pearses-place-live-music-3-2-3-2-2/
LOCATION:Pearse’s Place\, 224 2nd St\,\, Pikeville\, KY\, 41501\, United States
CATEGORIES:Other
ATTACH;FMTTYPE=image/jpeg:https://visitpikeville.com/wp-content/uploads/2025/09/hall.jpg
END:VEVENT
BEGIN:VEVENT
DTSTART;TZID=America/Kentucky/Louisville:20250910T193000
DTEND;TZID=America/Kentucky/Louisville:20250910T213000
DTSTAMP:20260425T075937
CREATED:20250908T143653Z
LAST-MODIFIED:20250908T143653Z
UID:68175-1757532600-1757539800@visitpikeville.com
SUMMARY:Bingo Night
DESCRIPTION:@ The Mine 606
URL:https://visitpikeville.com/event/bingo-night-2-2-2-2-2-2/
LOCATION:The Mine 606\, 121 Main St\, Pikeville\, KY\, 41501\, United States
CATEGORIES:Other
ATTACH;FMTTYPE=image/jpeg:https://visitpikeville.com/wp-content/uploads/2025/06/mine.jpg
END:VEVENT
BEGIN:VEVENT
DTSTART;TZID=America/Kentucky/Louisville:20250911T193000
DTEND;TZID=America/Kentucky/Louisville:20250911T213000
DTSTAMP:20260425T075937
CREATED:20250908T144355Z
LAST-MODIFIED:20250908T144355Z
UID:68187-1757619000-1757626200@visitpikeville.com
SUMMARY:Trivia Night
DESCRIPTION:@ The Mine 606
URL:https://visitpikeville.com/event/trivia-night-9-2-2-2-2-2-2/
LOCATION:The Mine 606\, 121 Main St\, Pikeville\, KY\, 41501\, United States
CATEGORIES:Other
ATTACH;FMTTYPE=image/jpeg:https://visitpikeville.com/wp-content/uploads/2025/06/mine.jpg
END:VEVENT
BEGIN:VEVENT
DTSTART;TZID=America/Kentucky/Louisville:20250912T193000
DTEND;TZID=America/Kentucky/Louisville:20250912T223000
DTSTAMP:20260425T075937
CREATED:20250908T144709Z
LAST-MODIFIED:20250908T145028Z
UID:68193-1757705400-1757716200@visitpikeville.com
SUMMARY:Live Music at Bank 253
DESCRIPTION:7:30 – 10:30 pm
URL:https://visitpikeville.com/event/live-music-at-bank-253-3-2-2-2-2-2-2-2-2-2-2-2-2-2-2-2-2-2-2-2-2-2-2-2-2-2-2-2-2-2-2-2/
LOCATION:Bank 253\, 253 2nd St\,\, Pikeville\, KY\, 41501\, United States
CATEGORIES:Other
ATTACH;FMTTYPE=image/jpeg:https://visitpikeville.com/wp-content/uploads/2025/09/BANK-253.jpg
END:VEVENT
BEGIN:VEVENT
DTSTART;TZID=America/Kentucky/Louisville:20250913T170000
DTEND;TZID=America/Kentucky/Louisville:20250913T190000
DTSTAMP:20260425T075937
CREATED:20250908T172512Z
LAST-MODIFIED:20250908T172512Z
UID:68233-1757782800-1757790000@visitpikeville.com
SUMMARY:Ghosts in the Woods
DESCRIPTION: Paint Night Alert! Grab your friends\, family\, or come solo and join us for a fun-filled evening at 2 Broke Art Teachers!This upcoming Sat. Sept. 13\, 2025 at 5:00 \, we’ll be painting step-by-step\, so whether you’re a beginner or a seasoned artist—you’ll leave with a masterpiece you’re proud of.  Featured paintings: Ghosts in the Woods Only $25 per canvas At 2 Broke Art Teachers\, Pikeville\, KY Ages 8 and upSeats are limited\, so don’t wait—Private Message us today to reserve your spot!  Don’t forget to LIKE  and SHARE  to spread the word and help our small business grow.
URL:https://visitpikeville.com/event/ghosts-in-the-woods/
LOCATION:2 Broke Art Teachers\, 4505 Weddington Square\,\, Pikeville\, KY\, 41501\, United States
CATEGORIES:Other
ATTACH;FMTTYPE=image/jpeg:https://visitpikeville.com/wp-content/uploads/2025/09/ghosts.jpg
END:VEVENT
BEGIN:VEVENT
DTSTART;TZID=America/Kentucky/Louisville:20250913T170000
DTEND;TZID=America/Kentucky/Louisville:20250913T230000
DTSTAMP:20260425T075937
CREATED:20250908T164248Z
LAST-MODIFIED:20250908T164248Z
UID:68227-1757782800-1757804400@visitpikeville.com
SUMMARY:Rockin A Rodeo
DESCRIPTION:Admission $15
URL:https://visitpikeville.com/event/rockin-a-rodeo-3-2/
LOCATION:Rockin’ A Ranch\, 3381 KY-194\,\, Pikeville\, KY\, 41501\, United States
CATEGORIES:Other
ATTACH;FMTTYPE=image/jpeg:https://visitpikeville.com/wp-content/uploads/2025/09/rockina.jpg
END:VEVENT
BEGIN:VEVENT
DTSTART;TZID=America/Kentucky/Louisville:20250913T193000
DTEND;TZID=America/Kentucky/Louisville:20250913T223000
DTSTAMP:20260425T075937
CREATED:20250908T144756Z
LAST-MODIFIED:20250908T145104Z
UID:68196-1757791800-1757802600@visitpikeville.com
SUMMARY:Live Music at Bank 253
DESCRIPTION:7:30 – 10:30 pm
URL:https://visitpikeville.com/event/live-music-at-bank-253-3-2-2-2-2-2-2-2-2-2-2-2-2-2-2-2-2-2-2-2-2-2-2-2-2-2-2-2-2-2-2-2-2/
LOCATION:Bank 253\, 253 2nd St\,\, Pikeville\, KY\, 41501\, United States
CATEGORIES:Other
ATTACH;FMTTYPE=image/jpeg:https://visitpikeville.com/wp-content/uploads/2025/09/BANK-253.jpg
END:VEVENT
BEGIN:VEVENT
DTSTART;TZID=America/Kentucky/Louisville:20250913T200000
DTEND;TZID=America/Kentucky/Louisville:20250913T220000
DTSTAMP:20260425T075937
CREATED:20250825T130921Z
LAST-MODIFIED:20250825T130921Z
UID:67496-1757793600-1757800800@visitpikeville.com
SUMMARY:The Drift
DESCRIPTION:@Pearses Place
URL:https://visitpikeville.com/event/the-drift/
LOCATION:Pearse’s Place\, 224 2nd St\,\, Pikeville\, KY\, 41501\, United States
CATEGORIES:Other
ATTACH;FMTTYPE=image/jpeg:https://visitpikeville.com/wp-content/uploads/2025/08/drift.jpg
END:VEVENT
BEGIN:VEVENT
DTSTART;TZID=America/Kentucky/Louisville:20250917T193000
DTEND;TZID=America/Kentucky/Louisville:20250917T213000
DTSTAMP:20260425T075937
CREATED:20250908T143834Z
LAST-MODIFIED:20250908T143834Z
UID:68177-1758137400-1758144600@visitpikeville.com
SUMMARY:Bingo Night
DESCRIPTION:@ The Mine 606
URL:https://visitpikeville.com/event/bingo-night-2-2-2-2-2-2-2/
LOCATION:The Mine 606\, 121 Main St\, Pikeville\, KY\, 41501\, United States
CATEGORIES:Other
ATTACH;FMTTYPE=image/jpeg:https://visitpikeville.com/wp-content/uploads/2025/06/mine.jpg
END:VEVENT
BEGIN:VEVENT
DTSTART;TZID=America/Kentucky/Louisville:20250918T173000
DTEND;TZID=America/Kentucky/Louisville:20250918T193000
DTSTAMP:20260425T075937
CREATED:20250915T143309Z
LAST-MODIFIED:20250915T143309Z
UID:68479-1758216600-1758223800@visitpikeville.com
SUMMARY:Paint Night
DESCRIPTION: Paint Night Alert! Join us Thursday\, September 18th at 5:30 PM for a fun evening creating your very own Wooden Pumpkin Door Hanger! You’ll get to choose from three festive designs: Fall & Football Floral Monogram Pumpkin Goose in a Pumpkin (with the cutest bow & sunflower!)Perfect for fall decorating and a great way to get creative with friends and family!Cost: $30 Private message us to reserve your spot—these classes fill up quick!
URL:https://visitpikeville.com/event/paint-night/
LOCATION:2 Broke Art Teachers\, 4505 Weddington Square\,\, Pikeville\, KY\, 41501\, United States
CATEGORIES:Other
ATTACH;FMTTYPE=image/jpeg:https://visitpikeville.com/wp-content/uploads/2025/09/PAINT-CLASS.jpg
END:VEVENT
BEGIN:VEVENT
DTSTART;TZID=America/Kentucky/Louisville:20250918T173000
DTEND;TZID=America/Kentucky/Louisville:20250918T193000
DTSTAMP:20260425T075937
CREATED:20250915T143909Z
LAST-MODIFIED:20250915T143909Z
UID:68488-1758216600-1758223800@visitpikeville.com
SUMMARY:Topiary Pumpkin Paint Night!
DESCRIPTION: Topiary Pumpkin Paint Night! canvas will be sketched for you this is a 12×24 canvas great for a entry way decoration!@topfans2 Broke Art TeachersJoin us Thursday\, Sept. 18th at 5:30 PM for a step-by-step Topiary Pumpkin painting—perfect for fall vibes and all skill levels. Seats are limited\, so grab a friend and come create something cute and cozy for your autumn décor!
URL:https://visitpikeville.com/event/topiary-pumpkin-paint-night/
LOCATION:2 Broke Art Teachers\, 4505 Weddington Square\,\, Pikeville\, KY\, 41501\, United States
CATEGORIES:Other
ATTACH;FMTTYPE=image/jpeg:https://visitpikeville.com/wp-content/uploads/2025/09/TOPIARY.jpg
END:VEVENT
BEGIN:VEVENT
DTSTART;TZID=America/Kentucky/Louisville:20250918T193000
DTEND;TZID=America/Kentucky/Louisville:20250918T213000
DTSTAMP:20260425T075937
CREATED:20250908T144430Z
LAST-MODIFIED:20250908T144430Z
UID:68189-1758223800-1758231000@visitpikeville.com
SUMMARY:Trivia Night
DESCRIPTION:@ The Mine 606
URL:https://visitpikeville.com/event/trivia-night-9-2-2-2-2-2-2-2/
LOCATION:The Mine 606\, 121 Main St\, Pikeville\, KY\, 41501\, United States
CATEGORIES:Other
ATTACH;FMTTYPE=image/jpeg:https://visitpikeville.com/wp-content/uploads/2025/06/mine.jpg
END:VEVENT
BEGIN:VEVENT
DTSTART;TZID=America/Kentucky/Louisville:20250919T193000
DTEND;TZID=America/Kentucky/Louisville:20250919T223000
DTSTAMP:20260425T075937
CREATED:20250908T144847Z
LAST-MODIFIED:20250908T145314Z
UID:68198-1758310200-1758321000@visitpikeville.com
SUMMARY:Live Music at Bank 253
DESCRIPTION:  \n7:30 – 10:30 pm
URL:https://visitpikeville.com/event/live-music-at-bank-253-3-2-2-2-2-2-2-2-2-2-2-2-2-2-2-2-2-2-2-2-2-2-2-2-2-2-2-2-2-2-2-2-2-2/
LOCATION:Bank 253\, 253 2nd St\,\, Pikeville\, KY\, 41501\, United States
CATEGORIES:Other
ATTACH;FMTTYPE=image/jpeg:https://visitpikeville.com/wp-content/uploads/2025/09/BANK-253.jpg
END:VEVENT
BEGIN:VEVENT
DTSTART;TZID=America/Kentucky/Louisville:20250920T130000
DTEND;TZID=America/Kentucky/Louisville:20250920T150000
DTSTAMP:20260425T075937
CREATED:20250915T143640Z
LAST-MODIFIED:20250915T143640Z
UID:68485-1758373200-1758380400@visitpikeville.com
SUMMARY:Family Paint Class
DESCRIPTION:Family Paint Class — Saturday\, Sept. 20 at 1:00 PMBring the kiddos\, grandparents\, and all your creative cousins—this one’s for the whole crew!  no experience needed.Private message to reserve—spaces fill up quick!  2 Broke Art Teachers (Pikeville) All supplies included $20 each Perfect for ages 5 and up
URL:https://visitpikeville.com/event/family-paint-class-3/
LOCATION:2 Broke Art Teachers\, 4505 Weddington Square\,\, Pikeville\, KY\, 41501\, United States
CATEGORIES:Other
ATTACH;FMTTYPE=image/jpeg:https://visitpikeville.com/wp-content/uploads/2025/09/FAMILY.jpg
END:VEVENT
END:VCALENDAR