BEGIN:VCALENDAR
VERSION:2.0
PRODID:-//Visit Pikeville - ECPv6.15.20//NONSGML v1.0//EN
CALSCALE:GREGORIAN
METHOD:PUBLISH
X-ORIGINAL-URL:https://visitpikeville.com
X-WR-CALDESC:Events for Visit Pikeville
REFRESH-INTERVAL;VALUE=DURATION:PT1H
X-Robots-Tag:noindex
X-PUBLISHED-TTL:PT1H
BEGIN:VTIMEZONE
TZID:America/Kentucky/Louisville
BEGIN:DAYLIGHT
TZOFFSETFROM:-0500
TZOFFSETTO:-0400
TZNAME:EDT
DTSTART:20230312T070000
END:DAYLIGHT
BEGIN:STANDARD
TZOFFSETFROM:-0400
TZOFFSETTO:-0500
TZNAME:EST
DTSTART:20231105T060000
END:STANDARD
BEGIN:DAYLIGHT
TZOFFSETFROM:-0500
TZOFFSETTO:-0400
TZNAME:EDT
DTSTART:20240310T070000
END:DAYLIGHT
BEGIN:STANDARD
TZOFFSETFROM:-0400
TZOFFSETTO:-0500
TZNAME:EST
DTSTART:20241103T060000
END:STANDARD
BEGIN:DAYLIGHT
TZOFFSETFROM:-0500
TZOFFSETTO:-0400
TZNAME:EDT
DTSTART:20250309T070000
END:DAYLIGHT
BEGIN:STANDARD
TZOFFSETFROM:-0400
TZOFFSETTO:-0500
TZNAME:EST
DTSTART:20251102T060000
END:STANDARD
END:VTIMEZONE
BEGIN:VEVENT
DTSTART;TZID=America/Kentucky/Louisville:20240914T220000
DTEND;TZID=America/Kentucky/Louisville:20240915T003000
DTSTAMP:20260425T095940
CREATED:20240903T140253Z
LAST-MODIFIED:20240903T140253Z
UID:56383-1726351200-1726360200@visitpikeville.com
SUMMARY:DJ at Bank253
DESCRIPTION:10:00pm – 12:30am
URL:https://visitpikeville.com/event/dj-at-bank253/
LOCATION:Bank 253\, 253 2nd St\,\, Pikeville\, KY\, 41501\, United States
CATEGORIES:Other
ATTACH;FMTTYPE=image/jpeg:https://visitpikeville.com/wp-content/uploads/2024/09/bank-253.jpg
END:VEVENT
BEGIN:VEVENT
DTSTART;TZID=America/Kentucky/Louisville:20240916T090000
DTEND;TZID=America/Kentucky/Louisville:20240916T150000
DTSTAMP:20260425T095940
CREATED:20240909T134814Z
LAST-MODIFIED:20240909T134814Z
UID:56859-1726477200-1726498800@visitpikeville.com
SUMMARY:Pikeville Job Fair
DESCRIPTION:Are you ready to take the next step in your healthcare career? Join us at the Pikeville Medical Center (PMC) On-The-Spot Hiring Event! This is your chance to become a part of the PMC team and make a difference in our community.\nWhat to Expect:On-The-Spot Hiring: Bring your passion and skills; we’ll handle the rest! Interviews and job offers will be made on the spot.What to Bring: Please bring two forms of ID for identification purposes.Location: The event will be held at the Workforce Innovation Center\, behind the Landmark Hotel.\nWhy Join PMC?Pikeville Medical Center is committed to excellence in healthcare. We offer competitive salaries\, comprehensive benefits\, and a supportive work environment. Whether you’re a seasoned professional or just starting your career\, we have opportunities for you to grow and thrive.\nHow to Prepare:\nArrive Early: We anticipate a large turnout\, so plan to arrive early.Dress Professionally: First impressions matter\, so dress to impress.RSVP Today: Let us know you’re coming by clicking “Interested” or “Going” on this event. We can’t wait to meet you!\nQuestions? Feel free to message us directly or leave a comment here in the event!\nDon’t miss this incredible opportunity to join a team that cares. See you on September 16th!
URL:https://visitpikeville.com/event/pikeville-job-fair-6/
LOCATION:Workforce Innovation Center at Pikeville Medical Center\, 190 S Mayo Trail\,\, Pikeville\, KY\, 41501\, United States
CATEGORIES:Other
ATTACH;FMTTYPE=image/jpeg:https://visitpikeville.com/wp-content/uploads/2024/09/job-fair.jpg
END:VEVENT
BEGIN:VEVENT
DTSTART;TZID=America/Kentucky/Louisville:20240917T163000
DTEND;TZID=America/Kentucky/Louisville:20240917T190000
DTSTAMP:20260425T095940
CREATED:20240513T175130Z
LAST-MODIFIED:20240513T175130Z
UID:51281-1726590600-1726599600@visitpikeville.com
SUMMARY:Pikeville Farmer's Market
DESCRIPTION:Tuesday from 4:30-7:00 \nSaturday 9:00-1:00 \n 
URL:https://visitpikeville.com/event/pikeville-farmers-market-5-3-2-2-3-2-2-2-2-2-2-2-2-2-2-2-2-2/
LOCATION:Pikeville Farmer’s Market\, 130 Adams Lane\, Pikeville\, Ky
CATEGORIES:Other
ATTACH;FMTTYPE=image/jpeg:https://visitpikeville.com/wp-content/uploads/2024/05/farmers-market.jpeg
END:VEVENT
BEGIN:VEVENT
DTSTART;TZID=America/Kentucky/Louisville:20240917T173000
DTEND;TZID=America/Kentucky/Louisville:20240917T203000
DTSTAMP:20260425T095940
CREATED:20240916T143134Z
LAST-MODIFIED:20240916T143134Z
UID:57152-1726594200-1726605000@visitpikeville.com
SUMMARY:Witchy Woman
DESCRIPTION:Includes all materials and step by step instructions from our art teachers
URL:https://visitpikeville.com/event/witchy-woman/
LOCATION:2 Broke Art Teachers\, 4505 Weddington Square\,\, Pikeville\, KY\, 41501\, United States
CATEGORIES:Other
ATTACH;FMTTYPE=image/jpeg:https://visitpikeville.com/wp-content/uploads/2024/09/witchy.jpg
END:VEVENT
BEGIN:VEVENT
DTSTART;TZID=America/Kentucky/Louisville:20240919T173000
DTEND;TZID=America/Kentucky/Louisville:20240919T203000
DTSTAMP:20260425T095940
CREATED:20240916T142830Z
LAST-MODIFIED:20240916T142830Z
UID:57149-1726767000-1726777800@visitpikeville.com
SUMMARY:Tobacco Barn
DESCRIPTION:Love this barn painting. Has all the traditional elements about our farms\, quilt pattern and look inside at the tobacco. Don’t let this one pass you by. Step by step instructions given as you paint. Sign up with a private message on Facebook messenger.
URL:https://visitpikeville.com/event/tobacco-barn/
LOCATION:2 Broke Art Teachers\, 4505 Weddington Square\,\, Pikeville\, KY\, 41501\, United States
CATEGORIES:Other
ATTACH;FMTTYPE=image/jpeg:https://visitpikeville.com/wp-content/uploads/2024/09/tobacco.jpg
END:VEVENT
BEGIN:VEVENT
DTSTART;TZID=America/Kentucky/Louisville:20240919T183000
DTEND;TZID=America/Kentucky/Louisville:20240919T203000
DTSTAMP:20260425T095940
CREATED:20240903T140407Z
LAST-MODIFIED:20240903T140407Z
UID:56385-1726770600-1726777800@visitpikeville.com
SUMMARY:Karaoke @ bank 253
DESCRIPTION:6:30pm – 8:30pm
URL:https://visitpikeville.com/event/karaoke-bank-253/
LOCATION:Bank 253\, 253 2nd St\,\, Pikeville\, KY\, 41501\, United States
CATEGORIES:Other
ATTACH;FMTTYPE=image/jpeg:https://visitpikeville.com/wp-content/uploads/2024/09/bank-253.jpg
END:VEVENT
BEGIN:VEVENT
DTSTART;TZID=America/Kentucky/Louisville:20240920T180000
DTEND;TZID=America/Kentucky/Louisville:20240920T210000
DTSTAMP:20260425T095940
CREATED:20240722T134904Z
LAST-MODIFIED:20240722T134904Z
UID:53740-1726855200-1726866000@visitpikeville.com
SUMMARY:Good Ole Boys Rods & Cruisers Cruise-In By The River Event Series
DESCRIPTION:Attention all car enthusiasts and lovers of classic rides! Good Ole Boys Rods & Cruisers is back with their thrilling cruise-in event series for 2024 in Pikeville\, Kentucky. Each cruise-in event kicks off at 6:00 PM\, promising an evening filled with excitement\, camaraderie\, and\, of course\, some seriously cool cars. Located behind popular spots like Pikeville Kentucky’s Applebee’s\, Arby’s\, and McDonald’s\, this gathering is not just about showcasing stunning vehicles; it’s about creating unforgettable memories with fellow car enthusiasts. \nWith door prizes\, music\, and more surprises in store\, there’s never a dull moment. Plus\, don’t forget to grab your very own dash plaque to commemorate the occasion. \n  \nCruise In Event Dates: \n\nMay 17th\nJune 21st\nJuly 19th\nAugust 16th\nSeptember 20th\nOctober 18th\n\nSpecial Highlight: October 18th Grand Prize Drawing \nMake sure you circle October 18th on your calendar with a bold marker because it’s not just any ordinary cruise-in day. Good Ole Boys Rods & Cruisers has something extra special planned for this date – a Grand Prize Drawing! But here’s the catch: you must be present to win\, so don’t miss out on your chance to take home an amazing prize. \nRain Date Policy: Mother Nature sometimes has her own plans\, but fear not! In the event of rain\, the cruise-in will be rescheduled for the following Friday. So\, keep an eye on the weather forecast and be prepared for an evening of fun.
URL:https://visitpikeville.com/event/good-ole-boys-rods-cruisers-cruise-in-by-the-river-event-series-2/
LOCATION:Applebee’s\, 172 Cassidy Blvd\,\, Pikeville\, KY\, 41501\, United States
CATEGORIES:Other
ATTACH;FMTTYPE=image/webp:https://visitpikeville.com/wp-content/uploads/2024/07/Good-ole-boys.webp
END:VEVENT
BEGIN:VEVENT
DTSTART;TZID=America/Kentucky/Louisville:20240920T193000
DTEND;TZID=America/Kentucky/Louisville:20240920T223000
DTSTAMP:20260425T095940
CREATED:20240903T140525Z
LAST-MODIFIED:20240903T140525Z
UID:56387-1726860600-1726871400@visitpikeville.com
SUMMARY:Donnie Canterburry
DESCRIPTION:7:30pm – 10:30 pm
URL:https://visitpikeville.com/event/donnie-canterburry/
LOCATION:Bank 253\, 253 2nd St\,\, Pikeville\, KY\, 41501\, United States
CATEGORIES:Other
ATTACH;FMTTYPE=image/jpeg:https://visitpikeville.com/wp-content/uploads/2024/09/bank-253.jpg
END:VEVENT
BEGIN:VEVENT
DTSTART;TZID=America/Kentucky/Louisville:20240921T080000
DTEND;TZID=America/Kentucky/Louisville:20240921T170000
DTSTAMP:20260425T095940
CREATED:20240903T140624Z
LAST-MODIFIED:20240903T140624Z
UID:56389-1726905600-1726938000@visitpikeville.com
SUMMARY:Dustin Bartum
DESCRIPTION:7:30pm – 10:30pm
URL:https://visitpikeville.com/event/dustin-bartum/
LOCATION:Bank 253\, 253 2nd St\,\, Pikeville\, KY\, 41501\, United States
CATEGORIES:Other
ATTACH;FMTTYPE=image/jpeg:https://visitpikeville.com/wp-content/uploads/2024/09/bank-253.jpg
END:VEVENT
BEGIN:VEVENT
DTSTART;TZID=America/Kentucky/Louisville:20240921T090000
DTEND;TZID=America/Kentucky/Louisville:20240921T130000
DTSTAMP:20260425T095940
CREATED:20240513T175211Z
LAST-MODIFIED:20240513T175211Z
UID:51283-1726909200-1726923600@visitpikeville.com
SUMMARY:Pikeville Farmer's Market
DESCRIPTION:Tuesday from 4:30-7:00 \nSaturday 9:00-1:00 \n 
URL:https://visitpikeville.com/event/pikeville-farmers-market-5-2-2-2-2-2-2-2-2-2-2-2-2-2-2-2-2-2-2-2/
LOCATION:Pikeville Farmer’s Market\, 130 Adams Lane\, Pikeville\, Ky
CATEGORIES:Other
ATTACH;FMTTYPE=image/jpeg:https://visitpikeville.com/wp-content/uploads/2024/05/farmers-market.jpeg
END:VEVENT
BEGIN:VEVENT
DTSTART;TZID=America/Kentucky/Louisville:20240921T170000
DTEND;TZID=America/Kentucky/Louisville:20240921T190000
DTSTAMP:20260425T095940
CREATED:20240903T130943Z
LAST-MODIFIED:20240903T130943Z
UID:56360-1726938000-1726945200@visitpikeville.com
SUMMARY:Rockin' A Bucking Bulls Rodeo
DESCRIPTION:Who’s ready for event #3 Join us September 21st at 5pm!New bulls in the pen and I’m sure there will be some new cowboys coming for that payout!!Give us a share we sure would be grateful to ya!!
URL:https://visitpikeville.com/event/rockin-a-bucking-bulls-rodeo-2/
LOCATION:Rockin’ A Ranch\, 3381 KY-194\,\, Pikeville\, KY\, 41501\, United States
CATEGORIES:Other
ATTACH;FMTTYPE=image/jpeg:https://visitpikeville.com/wp-content/uploads/2024/09/rodeo.jpg
END:VEVENT
BEGIN:VEVENT
DTSTART;TZID=America/Kentucky/Louisville:20240923T090000
DTEND;TZID=America/Kentucky/Louisville:20240927T180000
DTSTAMP:20260425T095940
CREATED:20240916T140539Z
LAST-MODIFIED:20240916T140539Z
UID:57142-1727082000-1727460000@visitpikeville.com
SUMMARY:Line Up For Liam Blood Drive
DESCRIPTION:Join Kentucky Blood Center at the Pikeville Donor Center for the Line Up For Liam Blood Drive\, Sept. 23-27 from 9 a.m. to 6 p.m.\nLiam\, a young boy from Pikeville\, Kentucky\, was diagnosed in 2022 with a medulloblastoma\, a cancerous brain tumor that starts in the cerebellum. Liam received blood transfusions to aid with his chemotherapy treatments.\nSeptember is National Childhood Cancer Awareness Month. To bring awareness to the importance and availability of blood in the fight against cancer\, and to help children like Liam\, the Webbs and Kentucky Blood Center are encouraging donors to visit the KBC Pikeville Donor Center Sept. 23-27 to donate blood. All donors will receive a KBC ‘Fight Cancer’ shirt.\nSchedule your appointment online at https://my.kybloodcenter.org/donor/schedules/center/4 or call 800.775.2522.
URL:https://visitpikeville.com/event/line-up-for-liam-blood-drive-2/
LOCATION:Kentucky Blood Center\, 472 S Mayo Trail\,\, Pikeville\, KY\, 41501\, United States
CATEGORIES:Other
ATTACH;FMTTYPE=image/jpeg:https://visitpikeville.com/wp-content/uploads/2024/09/liam.jpg
END:VEVENT
BEGIN:VEVENT
DTSTART;TZID=America/Kentucky/Louisville:20240924T163000
DTEND;TZID=America/Kentucky/Louisville:20240924T190000
DTSTAMP:20260425T095940
CREATED:20240513T175311Z
LAST-MODIFIED:20240513T175311Z
UID:51285-1727195400-1727204400@visitpikeville.com
SUMMARY:Pikeville Farmer's Market
DESCRIPTION:Tuesday from 4:30-7:00 \nSaturday 9:00-1:00 \n 
URL:https://visitpikeville.com/event/pikeville-farmers-market-5-3-2-2-3-2-2-2-2-2-2-2-2-2-2-2-2-2-2/
LOCATION:Pikeville Farmer’s Market\, 130 Adams Lane\, Pikeville\, Ky
CATEGORIES:Other
ATTACH;FMTTYPE=image/jpeg:https://visitpikeville.com/wp-content/uploads/2024/05/farmers-market.jpeg
END:VEVENT
BEGIN:VEVENT
DTSTART;TZID=America/Kentucky/Louisville:20240926T100000
DTEND;TZID=America/Kentucky/Louisville:20240926T140000
DTSTAMP:20260425T095940
CREATED:20240909T135456Z
LAST-MODIFIED:20240909T135456Z
UID:56862-1727344800-1727359200@visitpikeville.com
SUMMARY:Veterans Stand Down
DESCRIPTION:This FREE event is brought to you in collaboration with VFW Post 3769\, the Pikeville Veterans Suicide Prevention Collaborative\, the Homeless Veterans Resource Center\, and the Hershel “Woody” Williams VA Medical Center. It’s a fantastic opportunity for veterans to connect with vital services offered by our community partners.\n Services Available Include:Vision and blood pressure checksMedical servicesVA benefits guidanceCaregiver supportMental health resourcesHousing programsAnd much more!\nLet’s come together to support our veterans and ensure they have access to the resources they need. Spread the word and bring a fellow veteran!\n Location: Bob Amos Community Center\,#VeteransSupport #PikevilleStandDown #VeteransServices #CommunityEvent #VFWPost3769
URL:https://visitpikeville.com/event/veterans-stand-down/
LOCATION:Bob Amos Park\, 424 Bob Amos Dr\, Pikeville\, Ky\, 41501
CATEGORIES:Other
ATTACH;FMTTYPE=image/jpeg:https://visitpikeville.com/wp-content/uploads/2024/09/veterans.jpg
END:VEVENT
BEGIN:VEVENT
DTSTART;TZID=America/Kentucky/Louisville:20240926T100000
DTEND;TZID=America/Kentucky/Louisville:20240926T140000
DTSTAMP:20260425T095940
CREATED:20240916T135927Z
LAST-MODIFIED:20240916T135927Z
UID:57139-1727344800-1727359200@visitpikeville.com
SUMMARY:Veterans Stand Down
DESCRIPTION:This FREE event is brought to you in collaboration with VFW Post 3769\, the Pikeville Veterans Suicide Prevention Collaborative\, the Homeless Veterans Resource Center\, and the Hershel “Woody” Williams VA Medical Center. It’s a fantastic opportunity for veterans to connect with vital services offered by our community partners.\n Services Available Include:Vision and blood pressure checksMedical servicesVA benefits guidanceCaregiver supportMental health resourcesHousing programsAnd much more!\nLet’s come together to support our veterans and ensure they have access to the resources they need. Spread the word and bring a fellow veteran!\n Location: Bob Amos Community Center\,#VeteransSupport #PikevilleStandDown #VeteransServices #CommunityEvent #VFWPost3769
URL:https://visitpikeville.com/event/veterans-stand-down-2/
LOCATION:Bob Amos Park\, 424 Bob Amos Dr\, Pikeville\, Ky\, 41501
CATEGORIES:Other
ATTACH;FMTTYPE=image/jpeg:https://visitpikeville.com/wp-content/uploads/2024/09/veterans-1.jpg
END:VEVENT
BEGIN:VEVENT
DTSTART;TZID=America/Kentucky/Louisville:20240926T120000
DTEND;TZID=America/Kentucky/Louisville:20240926T200000
DTSTAMP:20260425T095940
CREATED:20240812T133526Z
LAST-MODIFIED:20240812T133526Z
UID:55096-1727352000-1727380800@visitpikeville.com
SUMMARY:Launch Party!
DESCRIPTION:Two times to come!12-2p & 6-8p\nLaunch party for our new services!Morpheus8 Face & Body\, Laser hair removal\, and IPL!\nDoor prizes\, presentation and education regarding services\, food and drink\, promo pricing\, etc!
URL:https://visitpikeville.com/event/launch-party/
LOCATION:Garfield House\, 178 College Street\, Pikeville\, KY\, 41501\, United States
CATEGORIES:Other
ATTACH;FMTTYPE=image/jpeg:https://visitpikeville.com/wp-content/uploads/2024/08/launch.jpg
END:VEVENT
BEGIN:VEVENT
DTSTART;TZID=America/Kentucky/Louisville:20240926T173000
DTEND;TZID=America/Kentucky/Louisville:20240926T203000
DTSTAMP:20260425T095940
CREATED:20240923T134838Z
LAST-MODIFIED:20240923T134838Z
UID:57485-1727371800-1727382600@visitpikeville.com
SUMMARY:Fall Inside KY
DESCRIPTION:Just came off the easel. Sign up for Thursday. 
URL:https://visitpikeville.com/event/fall-inside-ky/
LOCATION:2 Broke Art Teachers\, 4505 Weddington Square\,\, Pikeville\, KY\, 41501\, United States
CATEGORIES:Other
ATTACH;FMTTYPE=image/jpeg:https://visitpikeville.com/wp-content/uploads/2024/09/FALL-2.jpg
END:VEVENT
BEGIN:VEVENT
DTSTART;TZID=America/Kentucky/Louisville:20240926T183000
DTEND;TZID=America/Kentucky/Louisville:20240926T203000
DTSTAMP:20260425T095940
CREATED:20240903T140723Z
LAST-MODIFIED:20240903T140723Z
UID:56391-1727375400-1727382600@visitpikeville.com
SUMMARY:DJ Bingo
DESCRIPTION:6:30pm – 8:30pm
URL:https://visitpikeville.com/event/dj-bingo/
LOCATION:Bank 253\, 253 2nd St\,\, Pikeville\, KY\, 41501\, United States
CATEGORIES:Other
ATTACH;FMTTYPE=image/jpeg:https://visitpikeville.com/wp-content/uploads/2024/09/bank-253.jpg
END:VEVENT
BEGIN:VEVENT
DTSTART;TZID=America/Kentucky/Louisville:20240927T173000
DTEND;TZID=America/Kentucky/Louisville:20240927T203000
DTSTAMP:20260425T095940
CREATED:20240923T134627Z
LAST-MODIFIED:20240923T134627Z
UID:57482-1727458200-1727469000@visitpikeville.com
SUMMARY:September “do overs”
DESCRIPTION:Last month’s “do overs” was a great success. Here’s your chance if you missed a painting that you wanted to paint. Sign up!
URL:https://visitpikeville.com/event/september-do-overs/
LOCATION:KY
CATEGORIES:Other
ATTACH;FMTTYPE=image/jpeg:https://visitpikeville.com/wp-content/uploads/2024/09/do-ovwrs.jpg
END:VEVENT
BEGIN:VEVENT
DTSTART;TZID=America/Kentucky/Louisville:20240927T200000
DTEND;TZID=America/Kentucky/Louisville:20240927T220000
DTSTAMP:20260425T095940
CREATED:20240923T131506Z
LAST-MODIFIED:20240923T131506Z
UID:57455-1727467200-1727474400@visitpikeville.com
SUMMARY:Live Music
DESCRIPTION:Ashton Lockard
URL:https://visitpikeville.com/event/live-music-2/
LOCATION:Dueling Barrels\, 226 2nd Street\, Pikeville\, KY\, 41501\, United States
CATEGORIES:Other
ATTACH;FMTTYPE=image/jpeg:https://visitpikeville.com/wp-content/uploads/2024/09/live-music.jpg
END:VEVENT
BEGIN:VEVENT
DTSTART;TZID=America/Kentucky/Louisville:20240927T210000
DTEND;TZID=America/Kentucky/Louisville:20240927T230000
DTSTAMP:20260425T095940
CREATED:20240903T140836Z
LAST-MODIFIED:20240903T140836Z
UID:56393-1727470800-1727478000@visitpikeville.com
SUMMARY:DJ @ Bank 253
DESCRIPTION:9:00pm – 11:00pm
URL:https://visitpikeville.com/event/dj-bank-253/
LOCATION:Bank 253\, 253 2nd St\,\, Pikeville\, KY\, 41501\, United States
CATEGORIES:Other
ATTACH;FMTTYPE=image/jpeg:https://visitpikeville.com/wp-content/uploads/2024/09/bank-253.jpg
END:VEVENT
BEGIN:VEVENT
DTSTART;TZID=America/Kentucky/Louisville:20240928T090000
DTEND;TZID=America/Kentucky/Louisville:20240928T130000
DTSTAMP:20260425T095940
CREATED:20240513T175411Z
LAST-MODIFIED:20240513T175411Z
UID:51287-1727514000-1727528400@visitpikeville.com
SUMMARY:Pikeville Farmer's Market
DESCRIPTION:Tuesday from 4:30-7:00 \nSaturday 9:00-1:00 \n 
URL:https://visitpikeville.com/event/pikeville-farmers-market-5-2-2-2-2-2-2-2-2-2-2-2-2-2-2-2-2-2-2-2-2/
LOCATION:Pikeville Farmer’s Market\, 130 Adams Lane\, Pikeville\, Ky
CATEGORIES:Other
ATTACH;FMTTYPE=image/jpeg:https://visitpikeville.com/wp-content/uploads/2024/05/farmers-market.jpeg
END:VEVENT
BEGIN:VEVENT
DTSTART;TZID=America/Kentucky/Louisville:20240928T193000
DTEND;TZID=America/Kentucky/Louisville:20240928T223000
DTSTAMP:20260425T095940
CREATED:20240903T141049Z
LAST-MODIFIED:20240903T141049Z
UID:56395-1727551800-1727562600@visitpikeville.com
SUMMARY:Daryl Amburgy
DESCRIPTION:7:30pm – 10:30pm
URL:https://visitpikeville.com/event/daryl-amburgy/
LOCATION:Bank 253\, 253 2nd St\,\, Pikeville\, KY\, 41501\, United States
CATEGORIES:Other
ATTACH;FMTTYPE=image/jpeg:https://visitpikeville.com/wp-content/uploads/2024/09/bank-253.jpg
END:VEVENT
BEGIN:VEVENT
DTSTART;TZID=America/Kentucky/Louisville:20241001T163000
DTEND;TZID=America/Kentucky/Louisville:20241001T190000
DTSTAMP:20260425T095940
CREATED:20240513T175458Z
LAST-MODIFIED:20240513T175458Z
UID:51289-1727800200-1727809200@visitpikeville.com
SUMMARY:Pikeville Farmer's Market
DESCRIPTION:Tuesday from 4:30-7:00 \nSaturday 9:00-1:00 \n 
URL:https://visitpikeville.com/event/pikeville-farmers-market-5-3-2-2-3-2-2-2-2-2-2-2-2-2-2-2-2-2-2-2/
LOCATION:Pikeville Farmer’s Market\, 130 Adams Lane\, Pikeville\, Ky
CATEGORIES:Other
ATTACH;FMTTYPE=image/jpeg:https://visitpikeville.com/wp-content/uploads/2024/05/farmers-market.jpeg
END:VEVENT
BEGIN:VEVENT
DTSTART;TZID=America/Kentucky/Louisville:20241002T180000
DTEND;TZID=America/Kentucky/Louisville:20241002T200000
DTSTAMP:20260425T095940
CREATED:20240916T135632Z
LAST-MODIFIED:20240916T135632Z
UID:57136-1727892000-1727899200@visitpikeville.com
SUMMARY:Future National Veterans Assistance
DESCRIPTION:A special Veteran Peer Group event with campfire coffee\, music\, and songs. The Post is requesting Community Veterans to attend with their spouse\, children\, and Branch pride.At Muddy Boots Stables; top of the hill.
URL:https://visitpikeville.com/event/future-national-veterans-assistance/
LOCATION:Overlook Events Center\, 891 Bob Amos Drive\, Pikeville\, KY\, 41501\, United States
CATEGORIES:Other
ATTACH;FMTTYPE=image/jpeg:https://visitpikeville.com/wp-content/uploads/2024/09/future-veterans.jpg
END:VEVENT
BEGIN:VEVENT
DTSTART;TZID=America/Kentucky/Louisville:20241004T200000
DTEND;TZID=America/Kentucky/Louisville:20241004T220000
DTSTAMP:20260425T095940
CREATED:20240930T144929Z
LAST-MODIFIED:20240930T144929Z
UID:57814-1728072000-1728079200@visitpikeville.com
SUMMARY:Brittany Mullins
DESCRIPTION:Live Acoustic
URL:https://visitpikeville.com/event/brittany-mullins/
LOCATION:Pearse’s Place\, 224 2nd St\,\, Pikeville\, KY\, 41501\, United States
CATEGORIES:Other
ATTACH;FMTTYPE=image/jpeg:https://visitpikeville.com/wp-content/uploads/2024/09/brittany-1.jpg
END:VEVENT
BEGIN:VEVENT
DTSTART;TZID=America/Kentucky/Louisville:20241005T090000
DTEND;TZID=America/Kentucky/Louisville:20241005T130000
DTSTAMP:20260425T095940
CREATED:20240513T175559Z
LAST-MODIFIED:20240513T175559Z
UID:51291-1728118800-1728133200@visitpikeville.com
SUMMARY:Pikeville Farmer's Market
DESCRIPTION:Tuesday from 4:30-7:00 \nSaturday 9:00-1:00 \n 
URL:https://visitpikeville.com/event/pikeville-farmers-market-5-2-2-2-2-2-2-2-2-2-2-2-2-2-2-2-2-2-2-2-2-2/
LOCATION:Pikeville Farmer’s Market\, 130 Adams Lane\, Pikeville\, Ky
CATEGORIES:Other
ATTACH;FMTTYPE=image/jpeg:https://visitpikeville.com/wp-content/uploads/2024/05/farmers-market.jpeg
END:VEVENT
BEGIN:VEVENT
DTSTART;TZID=America/Kentucky/Louisville:20241005T193000
DTEND;TZID=America/Kentucky/Louisville:20241005T213000
DTSTAMP:20260425T095940
CREATED:20240916T145241Z
LAST-MODIFIED:20240916T145241Z
UID:57178-1728156600-1728163800@visitpikeville.com
SUMMARY:Homecoming Celebration
DESCRIPTION:All former UPIKE Band members are invited to join  The UPIKE Marching Band in a stand-still performance at this years Homecoming Game
URL:https://visitpikeville.com/event/homecoming-celebration/
LOCATION:Hambley Athletic Complex\, 120 Championship Dr\,\, Pikeville\, KY\, 41501\, United States
CATEGORIES:Other
ATTACH;FMTTYPE=image/jpeg:https://visitpikeville.com/wp-content/uploads/2024/09/homecoming.jpg
END:VEVENT
BEGIN:VEVENT
DTSTART;TZID=America/Kentucky/Louisville:20241008T163000
DTEND;TZID=America/Kentucky/Louisville:20241008T190000
DTSTAMP:20260425T095940
CREATED:20240513T175643Z
LAST-MODIFIED:20240513T175643Z
UID:51293-1728405000-1728414000@visitpikeville.com
SUMMARY:Pikeville Farmer's Market
DESCRIPTION:Tuesday from 4:30-7:00 \nSaturday 9:00-1:00 \n 
URL:https://visitpikeville.com/event/pikeville-farmers-market-5-3-2-2-3-2-2-2-2-2-2-2-2-2-2-2-2-2-2-2-2/
LOCATION:Pikeville Farmer’s Market\, 130 Adams Lane\, Pikeville\, Ky
CATEGORIES:Other
ATTACH;FMTTYPE=image/jpeg:https://visitpikeville.com/wp-content/uploads/2024/05/farmers-market.jpeg
END:VEVENT
BEGIN:VEVENT
DTSTART;TZID=America/Kentucky/Louisville:20241010T183000
DTEND;TZID=America/Kentucky/Louisville:20241010T203000
DTSTAMP:20260425T095940
CREATED:20241008T150939Z
LAST-MODIFIED:20241008T150939Z
UID:58196-1728585000-1728592200@visitpikeville.com
SUMMARY:Trivia night at Bank 253
DESCRIPTION:Get ready for next Thursday! Trivia Thursday is near. Enjoy prizes and exclusive drink specials.
URL:https://visitpikeville.com/event/trivia-night-at-bank-253/
LOCATION:Bank 253\, 253 2nd St\,\, Pikeville\, KY\, 41501\, United States
CATEGORIES:Other
ATTACH;FMTTYPE=image/jpeg:https://visitpikeville.com/wp-content/uploads/2024/10/trivia-night.jpg
END:VEVENT
END:VCALENDAR