BEGIN:VCALENDAR
VERSION:2.0
PRODID:-//Visit Pikeville - ECPv6.15.20//NONSGML v1.0//EN
CALSCALE:GREGORIAN
METHOD:PUBLISH
X-ORIGINAL-URL:https://visitpikeville.com
X-WR-CALDESC:Events for Visit Pikeville
REFRESH-INTERVAL;VALUE=DURATION:PT1H
X-Robots-Tag:noindex
X-PUBLISHED-TTL:PT1H
BEGIN:VTIMEZONE
TZID:America/Kentucky/Louisville
BEGIN:DAYLIGHT
TZOFFSETFROM:-0500
TZOFFSETTO:-0400
TZNAME:EDT
DTSTART:20230312T070000
END:DAYLIGHT
BEGIN:STANDARD
TZOFFSETFROM:-0400
TZOFFSETTO:-0500
TZNAME:EST
DTSTART:20231105T060000
END:STANDARD
BEGIN:DAYLIGHT
TZOFFSETFROM:-0500
TZOFFSETTO:-0400
TZNAME:EDT
DTSTART:20240310T070000
END:DAYLIGHT
BEGIN:STANDARD
TZOFFSETFROM:-0400
TZOFFSETTO:-0500
TZNAME:EST
DTSTART:20241103T060000
END:STANDARD
BEGIN:DAYLIGHT
TZOFFSETFROM:-0500
TZOFFSETTO:-0400
TZNAME:EDT
DTSTART:20250309T070000
END:DAYLIGHT
BEGIN:STANDARD
TZOFFSETFROM:-0400
TZOFFSETTO:-0500
TZNAME:EST
DTSTART:20251102T060000
END:STANDARD
END:VTIMEZONE
BEGIN:VEVENT
DTSTART;TZID=America/Kentucky/Louisville:20241022T163000
DTEND;TZID=America/Kentucky/Louisville:20241022T190000
DTSTAMP:20260425T095901
CREATED:20240513T180001Z
LAST-MODIFIED:20240513T180001Z
UID:51301-1729614600-1729623600@visitpikeville.com
SUMMARY:Pikeville Farmer's Market
DESCRIPTION:Tuesday from 4:30-7:00 \nSaturday 9:00-1:00 \n 
URL:https://visitpikeville.com/event/pikeville-farmers-market-5-3-2-2-3-2-2-2-2-2-2-2-2-2-2-2-2-2-2-2-2-2-2/
LOCATION:Pikeville Farmer’s Market\, 130 Adams Lane\, Pikeville\, Ky
CATEGORIES:Other
ATTACH;FMTTYPE=image/jpeg:https://visitpikeville.com/wp-content/uploads/2024/05/farmers-market.jpeg
END:VEVENT
BEGIN:VEVENT
DTSTART;TZID=America/Kentucky/Louisville:20241026T090000
DTEND;TZID=America/Kentucky/Louisville:20241026T130000
DTSTAMP:20260425T095901
CREATED:20240513T180058Z
LAST-MODIFIED:20240513T180058Z
UID:51303-1729933200-1729947600@visitpikeville.com
SUMMARY:Pikeville Farmer's Market
DESCRIPTION:Tuesday from 4:30-7:00 \nSaturday 9:00-1:00 \n 
URL:https://visitpikeville.com/event/pikeville-farmers-market-5-2-2-2-2-2-2-2-2-2-2-2-2-2-2-2-2-2-2-2-2-2-2-2-2/
LOCATION:Pikeville Farmer’s Market\, 130 Adams Lane\, Pikeville\, Ky
CATEGORIES:Other
ATTACH;FMTTYPE=image/jpeg:https://visitpikeville.com/wp-content/uploads/2024/05/farmers-market.jpeg
END:VEVENT
BEGIN:VEVENT
DTSTART;TZID=America/Kentucky/Louisville:20241026T190000
DTEND;TZID=America/Kentucky/Louisville:20241026T220000
DTSTAMP:20260425T095901
CREATED:20240930T145227Z
LAST-MODIFIED:20240930T145227Z
UID:57817-1729969200-1729980000@visitpikeville.com
SUMMARY:Halloween Party
DESCRIPTION:Live Music by The Swagtones
URL:https://visitpikeville.com/event/halloween-party/
LOCATION:Dueling Barrels\, 226 2nd Street\, Pikeville\, KY\, 41501\, United States
CATEGORIES:Other
ATTACH;FMTTYPE=image/jpeg:https://visitpikeville.com/wp-content/uploads/2024/09/halloween.jpg
END:VEVENT
BEGIN:VEVENT
DTSTART;TZID=America/Kentucky/Louisville:20241026T213000
DTEND;TZID=America/Kentucky/Louisville:20241027T013000
DTSTAMP:20260425T095901
CREATED:20241021T115527Z
LAST-MODIFIED:20241021T115527Z
UID:58789-1729978200-1729992600@visitpikeville.com
SUMMARY:Halloween Party
DESCRIPTION:Halloween festivities are underway! Join us Saturday night at 9:30pm for our Halloween party\, featuring specialty drinks and prizes.
URL:https://visitpikeville.com/event/halloween-party-2/
LOCATION:Bank 253\, 253 2nd St\,\, Pikeville\, KY\, 41501\, United States
CATEGORIES:Other
ATTACH;FMTTYPE=image/jpeg:https://visitpikeville.com/wp-content/uploads/2024/10/halloween-party.jpg
END:VEVENT
BEGIN:VEVENT
DTSTART;TZID=America/Kentucky/Louisville:20241027T170000
DTEND;TZID=America/Kentucky/Louisville:20241027T190000
DTSTAMP:20260425T095901
CREATED:20240917T143421Z
LAST-MODIFIED:20240917T144159Z
UID:57206-1730048400-1730055600@visitpikeville.com
SUMMARY:Trunk-or-Treat Extravaganza
DESCRIPTION:Join Us! \nCandy\, Costumes\, Fun \nLive Music \nInflatables \nFood
URL:https://visitpikeville.com/event/trunk-or-treat-extravaganza/
LOCATION:FIRST PRESBYTERIAN CHURCH\, 508 Cedar Creek Rd.\, Pikeville\, KY\, 41501\, United States
CATEGORIES:Other
ATTACH;FMTTYPE=image/jpeg:https://visitpikeville.com/wp-content/uploads/2024/09/trunk-or-treat.jpg
END:VEVENT
BEGIN:VEVENT
DTSTART;TZID=America/Kentucky/Louisville:20241027T170000
DTEND;TZID=America/Kentucky/Louisville:20241027T190000
DTSTAMP:20260425T095901
CREATED:20241001T181102Z
LAST-MODIFIED:20241001T181102Z
UID:57936-1730048400-1730055600@visitpikeville.com
SUMMARY:Trunk or Treat
DESCRIPTION:Food\, Candy\, Entertainment
URL:https://visitpikeville.com/event/trunk-or-treat/
LOCATION:First Baptist Church\, 126 4th Street\, Pikeville\, KY\, 41501\, United States
CATEGORIES:Other
ATTACH;FMTTYPE=image/jpeg:https://visitpikeville.com/wp-content/uploads/2024/10/1.jpeg
END:VEVENT
BEGIN:VEVENT
DTSTART;TZID=America/Kentucky/Louisville:20241028T120000
DTEND;TZID=America/Kentucky/Louisville:20241028T140000
DTSTAMP:20260425T095901
CREATED:20241014T142637Z
LAST-MODIFIED:20241014T142637Z
UID:58547-1730116800-1730124000@visitpikeville.com
SUMMARY:First Responders Appreciation Day!
DESCRIPTION:Come help us celebrate our First Responders! 
URL:https://visitpikeville.com/event/first-responders-appreciation-day-2/
LOCATION:Pikeville City Park\, 101 Cumberland Ct\,\, Pikeville\, KY\, 41501
CATEGORIES:Other
ATTACH;FMTTYPE=image/jpeg:https://visitpikeville.com/wp-content/uploads/2024/10/first-responders.jpg
END:VEVENT
BEGIN:VEVENT
DTSTART;TZID=America/Kentucky/Louisville:20241028T190000
DTEND;TZID=America/Kentucky/Louisville:20241102T210000
DTSTAMP:20260425T095901
CREATED:20241028T122037Z
LAST-MODIFIED:20241028T122037Z
UID:59055-1730142000-1730581200@visitpikeville.com
SUMMARY:Grench
DESCRIPTION:@ Two Broke Art Teachers
URL:https://visitpikeville.com/event/grench/
LOCATION:2 Broke Art Teachers\, 4505 Weddington Square\,\, Pikeville\, KY\, 41501\, United States
CATEGORIES:Other
ATTACH;FMTTYPE=image/jpeg:https://visitpikeville.com/wp-content/uploads/2024/10/grench.jpg
END:VEVENT
BEGIN:VEVENT
DTSTART;TZID=America/Kentucky/Louisville:20241029T150000
DTEND;TZID=America/Kentucky/Louisville:20241029T170000
DTSTAMP:20260425T095901
CREATED:20241028T115825Z
LAST-MODIFIED:20241028T115825Z
UID:59040-1730214000-1730221200@visitpikeville.com
SUMMARY:Food is Medicine
DESCRIPTION:We’re excited to invite you and our community to the Food is Medicine Town Hall\, which will focus on “Food is Medicine” and feature Kentucky Agriculture Commissioner Jonathan Shell as a special guest speaker.Date: Tuesday\, October 29thTime: 3 PMLocation: Pikeville Medical Center Workforce Innovation Center located at 190 S. Mayo Trail (behind the Landmark Hotel)Mark your calendar!We are looking forward to seeing you there! See comments for directions!
URL:https://visitpikeville.com/event/food-is-medicine/
LOCATION:Workforce Innovation Center at Pikeville Medical Center\, 190 S Mayo Trail\,\, Pikeville\, KY\, 41501\, United States
CATEGORIES:Other
ATTACH;FMTTYPE=image/jpeg:https://visitpikeville.com/wp-content/uploads/2024/10/food.jpg
END:VEVENT
BEGIN:VEVENT
DTSTART;TZID=America/Kentucky/Louisville:20241029T163000
DTEND;TZID=America/Kentucky/Louisville:20241029T190000
DTSTAMP:20260425T095901
CREATED:20240513T180143Z
LAST-MODIFIED:20240513T180143Z
UID:51305-1730219400-1730228400@visitpikeville.com
SUMMARY:Pikeville Farmer's Market
DESCRIPTION:Tuesday from 4:30-7:00 \nSaturday 9:00-1:00 \n 
URL:https://visitpikeville.com/event/pikeville-farmers-market-5-3-2-2-3-2-2-2-2-2-2-2-2-2-2-2-2-2-2-2-2-2-2-2/
LOCATION:Pikeville Farmer’s Market\, 130 Adams Lane\, Pikeville\, Ky
CATEGORIES:Other
ATTACH;FMTTYPE=image/jpeg:https://visitpikeville.com/wp-content/uploads/2024/05/farmers-market.jpeg
END:VEVENT
BEGIN:VEVENT
DTSTART;TZID=America/Kentucky/Louisville:20241030T173000
DTEND;TZID=America/Kentucky/Louisville:20241030T193000
DTSTAMP:20260425T095901
CREATED:20241028T122201Z
LAST-MODIFIED:20241028T122201Z
UID:59058-1730309400-1730316600@visitpikeville.com
SUMMARY:Latte'
DESCRIPTION:@ Two Broke Art Teachers
URL:https://visitpikeville.com/event/latte/
LOCATION:2 Broke Art Teachers\, 4505 Weddington Square\,\, Pikeville\, KY\, 41501\, United States
CATEGORIES:Other
ATTACH;FMTTYPE=image/jpeg:https://visitpikeville.com/wp-content/uploads/2024/10/latte.jpg
END:VEVENT
BEGIN:VEVENT
DTSTART;TZID=America/Kentucky/Louisville:20241031T200000
DTEND;TZID=America/Kentucky/Louisville:20241031T220000
DTSTAMP:20260425T095901
CREATED:20241014T141723Z
LAST-MODIFIED:20241014T141723Z
UID:58544-1730404800-1730412000@visitpikeville.com
SUMMARY:Buckethead show
DESCRIPTION:This Halloween\, Pikeville’s own DJ Elvira and Buckethead606 bring the magic of a Buckethead show to the intimate setting of Pearse’s Place. Starts at 8:00!!
URL:https://visitpikeville.com/event/buckethead-show/
LOCATION:Pearse’s Place\, 224 2nd St\,\, Pikeville\, KY\, 41501\, United States
CATEGORIES:Other
ATTACH;FMTTYPE=image/jpeg:https://visitpikeville.com/wp-content/uploads/2024/10/buckethead.jpg
END:VEVENT
BEGIN:VEVENT
DTSTART;TZID=America/Kentucky/Louisville:20241101T173000
DTEND;TZID=America/Kentucky/Louisville:20241101T193000
DTSTAMP:20260425T095901
CREATED:20241028T122330Z
LAST-MODIFIED:20241028T122330Z
UID:59061-1730482200-1730489400@visitpikeville.com
SUMMARY:Majestic Deer
DESCRIPTION:@ Two Broke Art Teachers
URL:https://visitpikeville.com/event/majestic-deer/
LOCATION:2 Broke Art Teachers\, 4505 Weddington Square\,\, Pikeville\, KY\, 41501\, United States
CATEGORIES:Other
ATTACH;FMTTYPE=image/jpeg:https://visitpikeville.com/wp-content/uploads/2024/10/deer.jpg
END:VEVENT
BEGIN:VEVENT
DTSTART;TZID=America/Kentucky/Louisville:20241101T203000
DTEND;TZID=America/Kentucky/Louisville:20241101T233000
DTSTAMP:20260425T095901
CREATED:20241028T113947Z
LAST-MODIFIED:20241028T113947Z
UID:59028-1730493000-1730503800@visitpikeville.com
SUMMARY:Kelly Renee & Easy Street
DESCRIPTION:@ Pearse’s Place
URL:https://visitpikeville.com/event/kelly-renee-easy-street/
LOCATION:Pearse’s Place\, 224 2nd St\,\, Pikeville\, KY\, 41501\, United States
CATEGORIES:Other
ATTACH;FMTTYPE=image/jpeg:https://visitpikeville.com/wp-content/uploads/2024/10/kelly.jpg
END:VEVENT
BEGIN:VEVENT
DTSTART;TZID=America/Kentucky/Louisville:20241102T090000
DTEND;TZID=America/Kentucky/Louisville:20241102T130000
DTSTAMP:20260425T095901
CREATED:20240513T180248Z
LAST-MODIFIED:20240513T180248Z
UID:51307-1730538000-1730552400@visitpikeville.com
SUMMARY:Pikeville Farmer's Market
DESCRIPTION:Tuesday from 4:30-7:00 \nSaturday 9:00-1:00 \n 
URL:https://visitpikeville.com/event/pikeville-farmers-market-5-2-2-2-2-2-2-2-2-2-2-2-2-2-2-2-2-2-2-2-2-2-2-2-2-2/
LOCATION:Pikeville Farmer’s Market\, 130 Adams Lane\, Pikeville\, Ky
CATEGORIES:Other
ATTACH;FMTTYPE=image/jpeg:https://visitpikeville.com/wp-content/uploads/2024/05/farmers-market.jpeg
END:VEVENT
BEGIN:VEVENT
DTSTART;TZID=America/Kentucky/Louisville:20241102T130000
DTEND;TZID=America/Kentucky/Louisville:20241102T150000
DTSTAMP:20260425T095901
CREATED:20241028T121826Z
LAST-MODIFIED:20241028T121826Z
UID:59052-1730552400-1730559600@visitpikeville.com
SUMMARY:Turkeys
DESCRIPTION:@ Two Broke Art Teachers
URL:https://visitpikeville.com/event/turkeys/
LOCATION:2 Broke Art Teachers\, 4505 Weddington Square\,\, Pikeville\, KY\, 41501\, United States
CATEGORIES:Other
ATTACH;FMTTYPE=image/jpeg:https://visitpikeville.com/wp-content/uploads/2024/10/turkeys.jpg
END:VEVENT
BEGIN:VEVENT
DTSTART;TZID=America/Kentucky/Louisville:20241105T163000
DTEND;TZID=America/Kentucky/Louisville:20241105T190000
DTSTAMP:20260425T095901
CREATED:20240513T180342Z
LAST-MODIFIED:20240513T180342Z
UID:51309-1730824200-1730833200@visitpikeville.com
SUMMARY:Pikeville Farmer's Market
DESCRIPTION:Tuesday from 4:30-7:00 \nSaturday 9:00-1:00 \n 
URL:https://visitpikeville.com/event/pikeville-farmers-market-5-3-2-2-3-2-2-2-2-2-2-2-2-2-2-2-2-2-2-2-2-2-2-2-2/
LOCATION:Pikeville Farmer’s Market\, 130 Adams Lane\, Pikeville\, Ky
CATEGORIES:Other
ATTACH;FMTTYPE=image/jpeg:https://visitpikeville.com/wp-content/uploads/2024/05/farmers-market.jpeg
END:VEVENT
BEGIN:VEVENT
DTSTART;TZID=America/Kentucky/Louisville:20241106T190000
DTEND;TZID=America/Kentucky/Louisville:20241106T210000
DTSTAMP:20260425T095901
CREATED:20241028T114139Z
LAST-MODIFIED:20241028T114139Z
UID:59031-1730919600-1730926800@visitpikeville.com
SUMMARY:Johnny Pop Day
DESCRIPTION:@ Pearse’s Place
URL:https://visitpikeville.com/event/johnny-pop-day-2/
LOCATION:Pearse’s Place\, 224 2nd St\,\, Pikeville\, KY\, 41501\, United States
CATEGORIES:Other
ATTACH;FMTTYPE=image/jpeg:https://visitpikeville.com/wp-content/uploads/2024/10/johnnt-pop.jpg
END:VEVENT
BEGIN:VEVENT
DTSTART;TZID=America/Kentucky/Louisville:20241108T173000
DTEND;TZID=America/Kentucky/Louisville:20241108T203000
DTSTAMP:20260425T095901
CREATED:20241104T154536Z
LAST-MODIFIED:20241104T154536Z
UID:59333-1731087000-1731097800@visitpikeville.com
SUMMARY:Snowman Ornament Painting
DESCRIPTION:16″ X 20″ Canvas $30
URL:https://visitpikeville.com/event/snowman-ornament-painting/
LOCATION:2 Broke Art Teachers\, 4505 Weddington Square\,\, Pikeville\, KY\, 41501\, United States
CATEGORIES:Other
ATTACH;FMTTYPE=image/jpeg:https://visitpikeville.com/wp-content/uploads/2024/11/snowman.jpg
END:VEVENT
BEGIN:VEVENT
DTSTART;TZID=America/Kentucky/Louisville:20241108T193000
DTEND;TZID=America/Kentucky/Louisville:20241108T213000
DTSTAMP:20260425T095901
CREATED:20241104T142247Z
LAST-MODIFIED:20241104T142247Z
UID:59289-1731094200-1731101400@visitpikeville.com
SUMMARY:Live Music at Bank 253
DESCRIPTION:@ Bank 253
URL:https://visitpikeville.com/event/live-music-at-bank-253-2-2/
LOCATION:KY
CATEGORIES:Other
ATTACH;FMTTYPE=image/jpeg:https://visitpikeville.com/wp-content/uploads/2024/10/bank-253.jpg
END:VEVENT
BEGIN:VEVENT
DTSTART;TZID=America/Kentucky/Louisville:20241108T200000
DTEND;TZID=America/Kentucky/Louisville:20241108T220000
DTSTAMP:20260425T095901
CREATED:20241104T141117Z
LAST-MODIFIED:20241104T141117Z
UID:59286-1731096000-1731103200@visitpikeville.com
SUMMARY:Live Music
DESCRIPTION:@ Perase’s Place
URL:https://visitpikeville.com/event/live-music-4/
LOCATION:Pearse’s Place\, 224 2nd St\,\, Pikeville\, KY\, 41501\, United States
CATEGORIES:Other
ATTACH;FMTTYPE=image/jpeg:https://visitpikeville.com/wp-content/uploads/2024/11/the-drift.jpg
END:VEVENT
BEGIN:VEVENT
DTSTART;TZID=America/Kentucky/Louisville:20241109T080000
DTEND;TZID=America/Kentucky/Louisville:20241109T170000
DTSTAMP:20260425T095901
CREATED:20241028T111619Z
LAST-MODIFIED:20241028T111619Z
UID:59015-1731139200-1731171600@visitpikeville.com
SUMMARY:JJ Weaver
DESCRIPTION:The Secret is out!\n\n\nCountry Roads Card & Trade Show\nis proud to announce that\nUniversity of Kentucky Football standout JJ Weaver will be attending the November 9th show at the Appalachian Wireless Arena.\n\n\nLike and follow our page for more details and announcements!\n\n\nThank you to our sponsors!\nJaded Rayne Printing & Graphic Design\nTexas Roadhouse\nDonnie Keith Prater @ DP Sports Solutions\nEast Kentucky Cards & Collectibles
URL:https://visitpikeville.com/event/jj-weaver/
LOCATION:Appalachian Wireless Arena\, 126 Main Street\, Pikeville\, Ky\, 41501
CATEGORIES:Other
ATTACH;FMTTYPE=image/jpeg:https://visitpikeville.com/wp-content/uploads/2024/10/jj.jpg
END:VEVENT
BEGIN:VEVENT
DTSTART;TZID=America/Kentucky/Louisville:20241109T090000
DTEND;TZID=America/Kentucky/Louisville:20241109T130000
DTSTAMP:20260425T095901
CREATED:20240513T180429Z
LAST-MODIFIED:20240513T180429Z
UID:51311-1731142800-1731157200@visitpikeville.com
SUMMARY:Pikeville Farmer's Market
DESCRIPTION:Tuesday from 4:30-7:00 \nSaturday 9:00-1:00 \n 
URL:https://visitpikeville.com/event/pikeville-farmers-market-5-2-2-2-2-2-2-2-2-2-2-2-2-2-2-2-2-2-2-2-2-2-2-2-2-2-2/
LOCATION:Pikeville Farmer’s Market\, 130 Adams Lane\, Pikeville\, Ky
CATEGORIES:Other
ATTACH;FMTTYPE=image/jpeg:https://visitpikeville.com/wp-content/uploads/2024/05/farmers-market.jpeg
END:VEVENT
BEGIN:VEVENT
DTSTART;TZID=America/Kentucky/Louisville:20241109T140000
DTEND;TZID=America/Kentucky/Louisville:20241109T150000
DTSTAMP:20260425T095901
CREATED:20241028T111349Z
LAST-MODIFIED:20241028T111349Z
UID:59012-1731160800-1731164400@visitpikeville.com
SUMMARY:Pokemon Trading Card Game
DESCRIPTION:Entry Fee $10
URL:https://visitpikeville.com/event/pokemon-trading-card-game/
LOCATION:Appalachian Wireless Arena\, 126 Main Street\, Pikeville\, Ky\, 41501
CATEGORIES:Other
ATTACH;FMTTYPE=image/jpeg:https://visitpikeville.com/wp-content/uploads/2024/10/pokemon.jpg
END:VEVENT
BEGIN:VEVENT
DTSTART;TZID=America/Kentucky/Louisville:20241109T150000
DTEND;TZID=America/Kentucky/Louisville:20241109T170000
DTSTAMP:20260425T095901
CREATED:20241104T154305Z
LAST-MODIFIED:20241104T154305Z
UID:59330-1731164400-1731171600@visitpikeville.com
SUMMARY:The Grinch's best buddy
DESCRIPTION:The Grinch’s best buddy is on the schedule on Saturday\, November 9th at 3:00. 11×14 canvas\, $25. Send a private message to reserve.
URL:https://visitpikeville.com/event/the-grinchs-best-buddy/
LOCATION:2 Broke Art Teachers\, 4505 Weddington Square\,\, Pikeville\, KY\, 41501\, United States
CATEGORIES:Other
ATTACH;FMTTYPE=image/jpeg:https://visitpikeville.com/wp-content/uploads/2024/11/grinch-buddy.jpg
END:VEVENT
BEGIN:VEVENT
DTSTART;TZID=America/Kentucky/Louisville:20241109T200000
DTEND;TZID=America/Kentucky/Louisville:20241109T220000
DTSTAMP:20260425T095901
CREATED:20241028T113238Z
LAST-MODIFIED:20241028T113238Z
UID:59025-1731182400-1731189600@visitpikeville.com
SUMMARY:Them Dirty Vandals
DESCRIPTION:@ Pearse’s Place
URL:https://visitpikeville.com/event/them-dirty-vandals/
LOCATION:Pearse’s Place\, 224 2nd St\,\, Pikeville\, KY\, 41501\, United States
CATEGORIES:Other
ATTACH;FMTTYPE=image/jpeg:https://visitpikeville.com/wp-content/uploads/2024/10/vandals.jpg
END:VEVENT
BEGIN:VEVENT
DTSTART;TZID=America/Kentucky/Louisville:20241112T163000
DTEND;TZID=America/Kentucky/Louisville:20241112T190000
DTSTAMP:20260425T095901
CREATED:20240513T180508Z
LAST-MODIFIED:20240513T180508Z
UID:51313-1731429000-1731438000@visitpikeville.com
SUMMARY:Pikeville Farmer's Market
DESCRIPTION:Tuesday from 4:30-7:00 \nSaturday 9:00-1:00 \n 
URL:https://visitpikeville.com/event/pikeville-farmers-market-5-3-2-2-3-2-2-2-2-2-2-2-2-2-2-2-2-2-2-2-2-2-2-2-2-2/
LOCATION:Pikeville Farmer’s Market\, 130 Adams Lane\, Pikeville\, Ky
CATEGORIES:Other
ATTACH;FMTTYPE=image/jpeg:https://visitpikeville.com/wp-content/uploads/2024/05/farmers-market.jpeg
END:VEVENT
BEGIN:VEVENT
DTSTART;TZID=America/Kentucky/Louisville:20241115T193000
DTEND;TZID=America/Kentucky/Louisville:20241115T213000
DTSTAMP:20260425T095901
CREATED:20241104T142623Z
LAST-MODIFIED:20241104T142623Z
UID:59291-1731699000-1731706200@visitpikeville.com
SUMMARY:Live Music at Bank 253
DESCRIPTION:@ Bank 253
URL:https://visitpikeville.com/event/live-music-at-bank-253-2-2-2/
LOCATION:KY
CATEGORIES:Other
ATTACH;FMTTYPE=image/jpeg:https://visitpikeville.com/wp-content/uploads/2024/10/bank-253.jpg
END:VEVENT
BEGIN:VEVENT
DTSTART;TZID=America/Kentucky/Louisville:20241115T203000
DTEND;TZID=America/Kentucky/Louisville:20241115T223000
DTSTAMP:20260425T095901
CREATED:20241028T114411Z
LAST-MODIFIED:20241028T114411Z
UID:59034-1731702600-1731709800@visitpikeville.com
SUMMARY:Scott Ryan
DESCRIPTION:@ Pearse’s Place
URL:https://visitpikeville.com/event/scott-ryan/
LOCATION:Pearse’s Place\, 224 2nd St\,\, Pikeville\, KY\, 41501\, United States
CATEGORIES:Other
ATTACH;FMTTYPE=image/jpeg:https://visitpikeville.com/wp-content/uploads/2024/10/scott.jpg
END:VEVENT
BEGIN:VEVENT
DTSTART;TZID=America/Kentucky/Louisville:20241116T090000
DTEND;TZID=America/Kentucky/Louisville:20241116T130000
DTSTAMP:20260425T095901
CREATED:20240513T180542Z
LAST-MODIFIED:20240513T180542Z
UID:51315-1731747600-1731762000@visitpikeville.com
SUMMARY:Pikeville Farmer's Market
DESCRIPTION:Tuesday from 4:30-7:00 \nSaturday 9:00-1:00 \n 
URL:https://visitpikeville.com/event/pikeville-farmers-market-5-2-2-2-2-2-2-2-2-2-2-2-2-2-2-2-2-2-2-2-2-2-2-2-2-2-2-2/
LOCATION:Pikeville Farmer’s Market\, 130 Adams Lane\, Pikeville\, Ky
CATEGORIES:Other
ATTACH;FMTTYPE=image/jpeg:https://visitpikeville.com/wp-content/uploads/2024/05/farmers-market.jpeg
END:VEVENT
END:VCALENDAR