BEGIN:VCALENDAR
VERSION:2.0
PRODID:-//Visit Pikeville - ECPv6.15.20//NONSGML v1.0//EN
CALSCALE:GREGORIAN
METHOD:PUBLISH
X-ORIGINAL-URL:https://visitpikeville.com
X-WR-CALDESC:Events for Visit Pikeville
REFRESH-INTERVAL;VALUE=DURATION:PT1H
X-Robots-Tag:noindex
X-PUBLISHED-TTL:PT1H
BEGIN:VTIMEZONE
TZID:America/Kentucky/Louisville
BEGIN:DAYLIGHT
TZOFFSETFROM:-0500
TZOFFSETTO:-0400
TZNAME:EDT
DTSTART:20250309T070000
END:DAYLIGHT
BEGIN:STANDARD
TZOFFSETFROM:-0400
TZOFFSETTO:-0500
TZNAME:EST
DTSTART:20251102T060000
END:STANDARD
BEGIN:DAYLIGHT
TZOFFSETFROM:-0500
TZOFFSETTO:-0400
TZNAME:EDT
DTSTART:20260308T070000
END:DAYLIGHT
BEGIN:STANDARD
TZOFFSETFROM:-0400
TZOFFSETTO:-0500
TZNAME:EST
DTSTART:20261101T060000
END:STANDARD
BEGIN:DAYLIGHT
TZOFFSETFROM:-0500
TZOFFSETTO:-0400
TZNAME:EDT
DTSTART:20270314T070000
END:DAYLIGHT
BEGIN:STANDARD
TZOFFSETFROM:-0400
TZOFFSETTO:-0500
TZNAME:EST
DTSTART:20271107T060000
END:STANDARD
END:VTIMEZONE
BEGIN:VEVENT
DTSTART;TZID=America/Kentucky/Louisville:20260330T173000
DTEND;TZID=America/Kentucky/Louisville:20260330T190000
DTSTAMP:20260421T131000
CREATED:20260309T144143Z
LAST-MODIFIED:20260309T144143Z
UID:73519-1774891800-1774897200@visitpikeville.com
SUMMARY:Community Dinner
DESCRIPTION:50 free\nmeals will be provided by\nBossy J’s BBQ on March\n30th\, 2026 5:30-7PM at The\nGarfield House.
URL:https://visitpikeville.com/event/community-dinner/
LOCATION:Garfield House\, 178 College Street\, Pikeville\, KY\, 41501\, United States
CATEGORIES:Other
ATTACH;FMTTYPE=image/png:https://visitpikeville.com/wp-content/uploads/2026/03/creativecommunity.png
END:VEVENT
BEGIN:VEVENT
DTSTART;TZID=America/Kentucky/Louisville:20260330T173000
DTEND;TZID=America/Kentucky/Louisville:20260330T190000
DTSTAMP:20260421T131000
CREATED:20260323T151056Z
LAST-MODIFIED:20260323T151056Z
UID:73753-1774891800-1774897200@visitpikeville.com
SUMMARY:Community Dinner
DESCRIPTION:Pikeville Creative Community is excited to host a free Community Dinner on March 30th from 5:30–7:00 PM at The Garfield House!\n\n\n\n\n\nEveryone is invited to come share a meal\, connect\, and enjoy the evening. 50 meals are available\, catered by Bossy J’s BBQ. There are vegetarian options\, as well!\n\n\n\n\n\nBring a friend\, meet your neighbors\, and enjoy a night with your community. Be prepared for conversation\, games\, and more. We’d love to have you there!\n\n\n\n\n\nMeals sponsored by Pikeville Pride
URL:https://visitpikeville.com/event/community-dinner-2/
LOCATION:Garfield House\, 178 College Street\, Pikeville\, KY\, 41501\, United States
CATEGORIES:Other
ATTACH;FMTTYPE=image/jpeg:https://visitpikeville.com/wp-content/uploads/2026/03/community-meal.jpg
END:VEVENT
BEGIN:VEVENT
DTSTART;TZID=America/Kentucky/Louisville:20260330T180000
DTEND;TZID=America/Kentucky/Louisville:20260330T200000
DTSTAMP:20260421T131000
CREATED:20260316T134156Z
LAST-MODIFIED:20260316T134156Z
UID:73608-1774893600-1774900800@visitpikeville.com
SUMMARY:Gundam TCG Nights at The Gaming Co.
DESCRIPTION:Test your skills and strategies every week in Gundam TCG battles! Whether you’re a veteran pilot or new to the game\, join us for a fun and competitive night of card dueling.\n Entry Fee: $8 Prize: $4 Store Credit per round won When: Every Monday starting @6:00PM\nBring your deck\, make new friends\, and show off your Gundam knowledge\, each round is a chance to win store credit!
URL:https://visitpikeville.com/event/gundam-tcg-nights-at-the-gaming-co-2-2/
LOCATION:The Gaming Co.\, 265 Hambley Boulevard\,\, Pikeville\, KY\, 41501\, United States
CATEGORIES:Other
ATTACH;FMTTYPE=image/jpeg:https://visitpikeville.com/wp-content/uploads/2026/03/gundam.jpg
END:VEVENT
END:VCALENDAR