BEGIN:VCALENDAR
VERSION:2.0
PRODID:-//Visit Pikeville - ECPv6.15.20//NONSGML v1.0//EN
CALSCALE:GREGORIAN
METHOD:PUBLISH
X-WR-CALNAME:Visit Pikeville
X-ORIGINAL-URL:https://visitpikeville.com
X-WR-CALDESC:Events for Visit Pikeville
REFRESH-INTERVAL;VALUE=DURATION:PT1H
X-Robots-Tag:noindex
X-PUBLISHED-TTL:PT1H
BEGIN:VTIMEZONE
TZID:America/Kentucky/Louisville
BEGIN:DAYLIGHT
TZOFFSETFROM:-0500
TZOFFSETTO:-0400
TZNAME:EDT
DTSTART:20250309T070000
END:DAYLIGHT
BEGIN:STANDARD
TZOFFSETFROM:-0400
TZOFFSETTO:-0500
TZNAME:EST
DTSTART:20251102T060000
END:STANDARD
BEGIN:DAYLIGHT
TZOFFSETFROM:-0500
TZOFFSETTO:-0400
TZNAME:EDT
DTSTART:20260308T070000
END:DAYLIGHT
BEGIN:STANDARD
TZOFFSETFROM:-0400
TZOFFSETTO:-0500
TZNAME:EST
DTSTART:20261101T060000
END:STANDARD
BEGIN:DAYLIGHT
TZOFFSETFROM:-0500
TZOFFSETTO:-0400
TZNAME:EDT
DTSTART:20270314T070000
END:DAYLIGHT
BEGIN:STANDARD
TZOFFSETFROM:-0400
TZOFFSETTO:-0500
TZNAME:EST
DTSTART:20271107T060000
END:STANDARD
END:VTIMEZONE
BEGIN:VEVENT
DTSTART;TZID=America/Kentucky/Louisville:20260228T130000
DTEND;TZID=America/Kentucky/Louisville:20260228T150000
DTSTAMP:20260421T190720
CREATED:20260223T163523Z
LAST-MODIFIED:20260223T163523Z
UID:73219-1772283600-1772290800@visitpikeville.com
SUMMARY:Family Paint Class
DESCRIPTION:Looking for something FUN to do together? Bring the kids\, invite Grandma\, grab your bestie — this class is perfect for kids to adults!  Saturday\, Feb. 28\, 2026 1:00 PM $20 per painter (11×14 canvas)Choose your favorite design (A–J) and — no experience needed!  Whether you love cute animals\, spring vibes\, fantasy\, or fun characters… there’s something for everyone! Beginner friendly Family bonding time All supplies included Memories you’ll actually keepSeats fill fast for Family Class!
URL:https://visitpikeville.com/event/family-paint-class-20/
LOCATION:2 Broke Art Teachers\, 4505 Weddington Square\,\, Pikeville\, KY\, 41501\, United States
CATEGORIES:Other
ATTACH;FMTTYPE=image/jpeg:https://visitpikeville.com/wp-content/uploads/2026/02/feb-28.jpg
END:VEVENT
END:VCALENDAR