BEGIN:VCALENDAR
VERSION:2.0
PRODID:-//Visit Pikeville - ECPv6.15.20//NONSGML v1.0//EN
CALSCALE:GREGORIAN
METHOD:PUBLISH
X-WR-CALNAME:Visit Pikeville
X-ORIGINAL-URL:https://visitpikeville.com
X-WR-CALDESC:Events for Visit Pikeville
REFRESH-INTERVAL;VALUE=DURATION:PT1H
X-Robots-Tag:noindex
X-PUBLISHED-TTL:PT1H
BEGIN:VTIMEZONE
TZID:America/Kentucky/Louisville
BEGIN:DAYLIGHT
TZOFFSETFROM:-0500
TZOFFSETTO:-0400
TZNAME:EDT
DTSTART:20250309T070000
END:DAYLIGHT
BEGIN:STANDARD
TZOFFSETFROM:-0400
TZOFFSETTO:-0500
TZNAME:EST
DTSTART:20251102T060000
END:STANDARD
BEGIN:DAYLIGHT
TZOFFSETFROM:-0500
TZOFFSETTO:-0400
TZNAME:EDT
DTSTART:20260308T070000
END:DAYLIGHT
BEGIN:STANDARD
TZOFFSETFROM:-0400
TZOFFSETTO:-0500
TZNAME:EST
DTSTART:20261101T060000
END:STANDARD
BEGIN:DAYLIGHT
TZOFFSETFROM:-0500
TZOFFSETTO:-0400
TZNAME:EDT
DTSTART:20270314T070000
END:DAYLIGHT
BEGIN:STANDARD
TZOFFSETFROM:-0400
TZOFFSETTO:-0500
TZNAME:EST
DTSTART:20271107T060000
END:STANDARD
END:VTIMEZONE
BEGIN:VEVENT
DTSTART;TZID=America/Kentucky/Louisville:20260221T130000
DTEND;TZID=America/Kentucky/Louisville:20260221T150000
DTSTAMP:20260421T190721
CREATED:20260216T131918Z
LAST-MODIFIED:20260216T131918Z
UID:73080-1771678800-1771686000@visitpikeville.com
SUMMARY:Family Paint Class
DESCRIPTION:Join us for a fun afternoon of painting with your favorite people!\n\n\n Saturday\, February 21\, 2026\n 1:00 PM\n $20 per painter\n 11×14 canvas\n\n\nWe’ve got SO many cute options to choose from (A–J) — sweet animals\, spring florals\, shamrocks\, dinos\, home décor & more! \n\n\nPerfect for kids\, parents\, grandparents\, or anyone who loves to paint! No experience needed — we guide you step-by-step and make it FUN and easy!\n\n\n Seats are limited!\n Private message to reserve your spot and tell us which letter you’re painting!\n\n\nTag your paint buddy and come create with us!
URL:https://visitpikeville.com/event/family-paint-class-19/
LOCATION:2 Broke Art Teachers\, 4505 Weddington Square\,\, Pikeville\, KY\, 41501\, United States
CATEGORIES:Other
ATTACH;FMTTYPE=image/jpeg:https://visitpikeville.com/wp-content/uploads/2026/02/family-paint-feb-21.jpg
END:VEVENT
BEGIN:VEVENT
DTSTART;TZID=America/Kentucky/Louisville:20260221T170000
DTEND;TZID=America/Kentucky/Louisville:20260221T190000
DTSTAMP:20260421T190721
CREATED:20260216T132409Z
LAST-MODIFIED:20260216T132409Z
UID:73083-1771693200-1771700400@visitpikeville.com
SUMMARY:STEP-BY-STEP INSTRUCTION PAINT CLASS
DESCRIPTION:Join us Saturday\, February 21st at 5:00 PM for the sweetest woodland paint night! \n\n\nWe’ll be painting “Rosie the Raccoon” — complete with her adorable flower crown and rustic background. She’s beginner-friendly and we’ll guide you the whole way step by step\n\n\nPerfect for a girls’ night\, family night\, date night\, or a fun solo outing. \n\n\n Private message to reserve your spot — seats are limited!
URL:https://visitpikeville.com/event/step-by-step-instruction-paint-class/
LOCATION:KY
CATEGORIES:Other
ATTACH;FMTTYPE=image/jpeg:https://visitpikeville.com/wp-content/uploads/2026/02/raccon.jpg
END:VEVENT
END:VCALENDAR