BEGIN:VCALENDAR
VERSION:2.0
PRODID:-//Visit Pikeville - ECPv6.15.20//NONSGML v1.0//EN
CALSCALE:GREGORIAN
METHOD:PUBLISH
X-WR-CALNAME:Visit Pikeville
X-ORIGINAL-URL:https://visitpikeville.com
X-WR-CALDESC:Events for Visit Pikeville
REFRESH-INTERVAL;VALUE=DURATION:PT1H
X-Robots-Tag:noindex
X-PUBLISHED-TTL:PT1H
BEGIN:VTIMEZONE
TZID:America/Kentucky/Louisville
BEGIN:DAYLIGHT
TZOFFSETFROM:-0500
TZOFFSETTO:-0400
TZNAME:EDT
DTSTART:20250309T070000
END:DAYLIGHT
BEGIN:STANDARD
TZOFFSETFROM:-0400
TZOFFSETTO:-0500
TZNAME:EST
DTSTART:20251102T060000
END:STANDARD
BEGIN:DAYLIGHT
TZOFFSETFROM:-0500
TZOFFSETTO:-0400
TZNAME:EDT
DTSTART:20260308T070000
END:DAYLIGHT
BEGIN:STANDARD
TZOFFSETFROM:-0400
TZOFFSETTO:-0500
TZNAME:EST
DTSTART:20261101T060000
END:STANDARD
BEGIN:DAYLIGHT
TZOFFSETFROM:-0500
TZOFFSETTO:-0400
TZNAME:EDT
DTSTART:20270314T070000
END:DAYLIGHT
BEGIN:STANDARD
TZOFFSETFROM:-0400
TZOFFSETTO:-0500
TZNAME:EST
DTSTART:20271107T060000
END:STANDARD
END:VTIMEZONE
BEGIN:VEVENT
DTSTART;TZID=America/Kentucky/Louisville:20260206T173000
DTEND;TZID=America/Kentucky/Louisville:20260206T193000
DTSTAMP:20260421T190720
CREATED:20260203T172709Z
LAST-MODIFIED:20260203T172709Z
UID:72882-1770399000-1770406200@visitpikeville.com
SUMMARY:FUN FRIDAY PAINT NIGHT
DESCRIPTION:Join us Friday\, February 6th at 5:30 PM for Fun Friday at 2 Broke Art Teachers!\nPick out of these adorable designs and create your masterpiece — no experience needed! \n\n\n $25 per painter\n Starts at 5:30 PM\n Choose your painting: A–F\n Spots are limited!\n\n\nPerfect for a fun night out with friends\, family\, or a little creative “me time.” \n\n\n private message the letter of your choice or message us to save your seat!
URL:https://visitpikeville.com/event/fun-friday-paint-night-2/
LOCATION:2 Broke Art Teachers\, 4505 Weddington Square\,\, Pikeville\, KY\, 41501\, United States
CATEGORIES:Other
ATTACH;FMTTYPE=image/jpeg:https://visitpikeville.com/wp-content/uploads/2026/02/fun-friday-feb6.jpg
END:VEVENT
BEGIN:VEVENT
DTSTART;TZID=America/Kentucky/Louisville:20260206T180000
DTEND;TZID=America/Kentucky/Louisville:20260206T190000
DTSTAMP:20260421T190720
CREATED:20260126T125744Z
LAST-MODIFIED:20260126T125744Z
UID:72687-1770400800-1770404400@visitpikeville.com
SUMMARY:Bag Charm Class
DESCRIPTION:Feb. 6th\, 2026 @ 6:00 PMFaithLife Market\nHave you been dying to decorate your bags in a creative way? Come join us and make some bag charms!\nThese bag charms will be primarily made out of felt\, with various other supplies around to decorate. There will be pre-cut patterns\, and supplies to DIY your own designs. This is beginner friendly!\nThis is a FREE event and all supplies will be provided.
URL:https://visitpikeville.com/event/bag-charm-class/
LOCATION:Faith Life Market\, 130 Division St\,\, Pikeville\, KY\, 41501\, United States
CATEGORIES:Other
ATTACH;FMTTYPE=image/jpeg:https://visitpikeville.com/wp-content/uploads/2026/01/charm.jpg
END:VEVENT
BEGIN:VEVENT
DTSTART;TZID=America/Kentucky/Louisville:20260206T200000
DTEND;TZID=America/Kentucky/Louisville:20260206T220000
DTSTAMP:20260421T190720
CREATED:20260203T173440Z
LAST-MODIFIED:20260203T173440Z
UID:72894-1770408000-1770415200@visitpikeville.com
SUMMARY:Open Mic Night at the Distillery!
DESCRIPTION:Join us for Open Mic Night at the Distillery\, hosted by Noah Wolford\, on Friday\, February 6th\, from 8 to 10 PM. Musicians\, comedians\, and other talents are welcome to take the stage and share their creativity. Come out to perform or enjoy a great night of local entertainment at Brothers Wright.\n\n\nPlease drink responsibly.
URL:https://visitpikeville.com/event/open-mic-night-at-the-distillery/
LOCATION:Brothers Wright Distilling Co.\, 2nd Street\, Pikeville\, KY\, 41501\, United States
CATEGORIES:Other
ATTACH;FMTTYPE=image/jpeg:https://visitpikeville.com/wp-content/uploads/2026/02/open-mic.jpg
END:VEVENT
END:VCALENDAR