BEGIN:VCALENDAR
VERSION:2.0
PRODID:-//Visit Pikeville - ECPv6.15.20//NONSGML v1.0//EN
CALSCALE:GREGORIAN
METHOD:PUBLISH
X-WR-CALNAME:Visit Pikeville
X-ORIGINAL-URL:https://visitpikeville.com
X-WR-CALDESC:Events for Visit Pikeville
REFRESH-INTERVAL;VALUE=DURATION:PT1H
X-Robots-Tag:noindex
X-PUBLISHED-TTL:PT1H
BEGIN:VTIMEZONE
TZID:America/Kentucky/Louisville
BEGIN:DAYLIGHT
TZOFFSETFROM:-0500
TZOFFSETTO:-0400
TZNAME:EDT
DTSTART:20250309T070000
END:DAYLIGHT
BEGIN:STANDARD
TZOFFSETFROM:-0400
TZOFFSETTO:-0500
TZNAME:EST
DTSTART:20251102T060000
END:STANDARD
BEGIN:DAYLIGHT
TZOFFSETFROM:-0500
TZOFFSETTO:-0400
TZNAME:EDT
DTSTART:20260308T070000
END:DAYLIGHT
BEGIN:STANDARD
TZOFFSETFROM:-0400
TZOFFSETTO:-0500
TZNAME:EST
DTSTART:20261101T060000
END:STANDARD
BEGIN:DAYLIGHT
TZOFFSETFROM:-0500
TZOFFSETTO:-0400
TZNAME:EDT
DTSTART:20270314T070000
END:DAYLIGHT
BEGIN:STANDARD
TZOFFSETFROM:-0400
TZOFFSETTO:-0500
TZNAME:EST
DTSTART:20271107T060000
END:STANDARD
END:VTIMEZONE
BEGIN:VEVENT
DTSTART;TZID=America/Kentucky/Louisville:20260204T163000
DTEND;TZID=America/Kentucky/Louisville:20260204T173000
DTSTAMP:20260421T190721
CREATED:20260203T172419Z
LAST-MODIFIED:20260203T172419Z
UID:72876-1770222600-1770226200@visitpikeville.com
SUMMARY:Afterschool Paint Studio
DESCRIPTION:YOU ASKED… WE LISTENED! \nSo many of you requested an Afterschool Paint Studio—and here it is! Please Like and Share to spread the news.\n\n\n Afterschool Paint Studio\n Doors open at 4:30 PM\n Check-in anytime between 4:30–5:30 PM\n Pick your painting when you arrive\n Fun for kids & adults\n\n\nThis is a relaxed\, creative studio time where everyone can paint at their own pace—perfect after school or work!\n\n\n Private message us to reserve your spots\n\n\nSpots are limited\, so grab yours soon! \n—\n2 Broke Art Teachers
URL:https://visitpikeville.com/event/afterschool-paint-studio/
LOCATION:2 Broke Art Teachers\, 4505 Weddington Square\,\, Pikeville\, KY\, 41501\, United States
CATEGORIES:Other
ATTACH;FMTTYPE=image/jpeg:https://visitpikeville.com/wp-content/uploads/2026/02/after-school.jpg
END:VEVENT
END:VCALENDAR