BEGIN:VCALENDAR
VERSION:2.0
PRODID:-//Visit Pikeville - ECPv6.15.20//NONSGML v1.0//EN
CALSCALE:GREGORIAN
METHOD:PUBLISH
X-WR-CALNAME:Visit Pikeville
X-ORIGINAL-URL:https://visitpikeville.com
X-WR-CALDESC:Events for Visit Pikeville
REFRESH-INTERVAL;VALUE=DURATION:PT1H
X-Robots-Tag:noindex
X-PUBLISHED-TTL:PT1H
BEGIN:VTIMEZONE
TZID:America/Kentucky/Louisville
BEGIN:DAYLIGHT
TZOFFSETFROM:-0500
TZOFFSETTO:-0400
TZNAME:EDT
DTSTART:20250309T070000
END:DAYLIGHT
BEGIN:STANDARD
TZOFFSETFROM:-0400
TZOFFSETTO:-0500
TZNAME:EST
DTSTART:20251102T060000
END:STANDARD
BEGIN:DAYLIGHT
TZOFFSETFROM:-0500
TZOFFSETTO:-0400
TZNAME:EDT
DTSTART:20260308T070000
END:DAYLIGHT
BEGIN:STANDARD
TZOFFSETFROM:-0400
TZOFFSETTO:-0500
TZNAME:EST
DTSTART:20261101T060000
END:STANDARD
BEGIN:DAYLIGHT
TZOFFSETFROM:-0500
TZOFFSETTO:-0400
TZNAME:EDT
DTSTART:20270314T070000
END:DAYLIGHT
BEGIN:STANDARD
TZOFFSETFROM:-0400
TZOFFSETTO:-0500
TZNAME:EST
DTSTART:20271107T060000
END:STANDARD
END:VTIMEZONE
BEGIN:VEVENT
DTSTART;TZID=America/Kentucky/Louisville:20260123T173000
DTEND;TZID=America/Kentucky/Louisville:20260123T193000
DTSTAMP:20260421T203256
CREATED:20260119T155726Z
LAST-MODIFIED:20260119T155726Z
UID:72626-1769189400-1769196600@visitpikeville.com
SUMMARY:FUN FRIDAY PAINT CLASS
DESCRIPTION:Join us Friday\, Jan. 23 at 5:30 PM for a super fun night of painting!\n $25 per painter\n Beginner-friendly & pre-drawn\n You choose your painting!\n\n\nGrab your friends\, pick your favorite design\, and let’s paint the night away!\n Private message us to reserve your seat — spots are limited!\n\n\n Perfect for a girls’ night\, date night\, or just a fun Friday out!
URL:https://visitpikeville.com/event/fun-friday-paint-class-2/
LOCATION:2 Broke Art Teachers\, 4505 Weddington Square\,\, Pikeville\, KY\, 41501\, United States
CATEGORIES:Other
ATTACH;FMTTYPE=image/jpeg:https://visitpikeville.com/wp-content/uploads/2026/01/FUN-JAN-23.jpg
END:VEVENT
BEGIN:VEVENT
DTSTART;TZID=America/Kentucky/Louisville:20260123T190000
DTEND;TZID=America/Kentucky/Louisville:20260123T210000
DTSTAMP:20260421T203257
CREATED:20260106T183719Z
LAST-MODIFIED:20260106T183719Z
UID:72378-1769194800-1769202000@visitpikeville.com
SUMMARY:Open Mic Night
DESCRIPTION:Join us downstairs at Brothers Wright Distilling Co.
URL:https://visitpikeville.com/event/open-mic-night-4-2-2/
LOCATION:Brothers Wright Distilling Co.\, 2nd Street\, Pikeville\, KY\, 41501\, United States
CATEGORIES:Other
ATTACH;FMTTYPE=image/jpeg:https://visitpikeville.com/wp-content/uploads/2026/01/bro-wright.jpg
END:VEVENT
END:VCALENDAR