BEGIN:VCALENDAR
VERSION:2.0
PRODID:-//Visit Pikeville - ECPv6.15.20//NONSGML v1.0//EN
CALSCALE:GREGORIAN
METHOD:PUBLISH
X-WR-CALNAME:Visit Pikeville
X-ORIGINAL-URL:https://visitpikeville.com
X-WR-CALDESC:Events for Visit Pikeville
REFRESH-INTERVAL;VALUE=DURATION:PT1H
X-Robots-Tag:noindex
X-PUBLISHED-TTL:PT1H
BEGIN:VTIMEZONE
TZID:America/Kentucky/Louisville
BEGIN:DAYLIGHT
TZOFFSETFROM:-0500
TZOFFSETTO:-0400
TZNAME:EDT
DTSTART:20250309T070000
END:DAYLIGHT
BEGIN:STANDARD
TZOFFSETFROM:-0400
TZOFFSETTO:-0500
TZNAME:EST
DTSTART:20251102T060000
END:STANDARD
BEGIN:DAYLIGHT
TZOFFSETFROM:-0500
TZOFFSETTO:-0400
TZNAME:EDT
DTSTART:20260308T070000
END:DAYLIGHT
BEGIN:STANDARD
TZOFFSETFROM:-0400
TZOFFSETTO:-0500
TZNAME:EST
DTSTART:20261101T060000
END:STANDARD
BEGIN:DAYLIGHT
TZOFFSETFROM:-0500
TZOFFSETTO:-0400
TZNAME:EDT
DTSTART:20270314T070000
END:DAYLIGHT
BEGIN:STANDARD
TZOFFSETFROM:-0400
TZOFFSETTO:-0500
TZNAME:EST
DTSTART:20271107T060000
END:STANDARD
END:VTIMEZONE
BEGIN:VEVENT
DTSTART;TZID=America/Kentucky/Louisville:20260102T180000
DTEND;TZID=America/Kentucky/Louisville:20260102T210000
DTSTAMP:20260421T203259
CREATED:20251117T195433Z
LAST-MODIFIED:20251117T195433Z
UID:71415-1767376800-1767387600@visitpikeville.com
SUMMARY:Global Fleming Clan Scottish Society Gathering
DESCRIPTION:Save the Date! \nJoin us for the Global Fleming Clan Scottish Society Gathering — a celebration of heritage\, fellowship\, and fine spirits!\n\n\n January 2\, 2026\n 6:00–9:00 PM EST\n Brothers Wright Distillery\, Pikeville\, KY\n\n\n Tickets:\n• $40 General Admission\n• $75 Couples Ticket\n• $20 Whiskey Flight Tasting + Distillery Tour\n• $20 Livestream Access (Donation link available)\n\n\n Raffle Tickets: $5 each or 5 for $20\nMust be 21+ to win. Prizes include a bottle of bourbon and themed gift baskets!\n\n\nCelebrate Scottish pride with an evening of camaraderie\, tasting\, and tradition.\n\n\n Purchase tickets at clanflemingintl.org
URL:https://visitpikeville.com/event/global-fleming-clan-scottish-society-gathering/
LOCATION:Brothers Wright Distilling Co.\, 2nd Street\, Pikeville\, KY\, 41501\, United States
CATEGORIES:Other
ATTACH;FMTTYPE=image/jpeg:https://visitpikeville.com/wp-content/uploads/2025/11/scottish.jpg
END:VEVENT
END:VCALENDAR