BEGIN:VCALENDAR
VERSION:2.0
PRODID:-//Visit Pikeville - ECPv6.15.20//NONSGML v1.0//EN
CALSCALE:GREGORIAN
METHOD:PUBLISH
X-ORIGINAL-URL:https://visitpikeville.com
X-WR-CALDESC:Events for Visit Pikeville
REFRESH-INTERVAL;VALUE=DURATION:PT1H
X-Robots-Tag:noindex
X-PUBLISHED-TTL:PT1H
BEGIN:VTIMEZONE
TZID:America/Kentucky/Louisville
BEGIN:DAYLIGHT
TZOFFSETFROM:-0500
TZOFFSETTO:-0400
TZNAME:EDT
DTSTART:20240310T070000
END:DAYLIGHT
BEGIN:STANDARD
TZOFFSETFROM:-0400
TZOFFSETTO:-0500
TZNAME:EST
DTSTART:20241103T060000
END:STANDARD
BEGIN:DAYLIGHT
TZOFFSETFROM:-0500
TZOFFSETTO:-0400
TZNAME:EDT
DTSTART:20250309T070000
END:DAYLIGHT
BEGIN:STANDARD
TZOFFSETFROM:-0400
TZOFFSETTO:-0500
TZNAME:EST
DTSTART:20251102T060000
END:STANDARD
BEGIN:DAYLIGHT
TZOFFSETFROM:-0500
TZOFFSETTO:-0400
TZNAME:EDT
DTSTART:20260308T070000
END:DAYLIGHT
BEGIN:STANDARD
TZOFFSETFROM:-0400
TZOFFSETTO:-0500
TZNAME:EST
DTSTART:20261101T060000
END:STANDARD
END:VTIMEZONE
BEGIN:VEVENT
DTSTART;TZID=America/Kentucky/Louisville:20251227T130000
DTEND;TZID=America/Kentucky/Louisville:20251227T150000
DTSTAMP:20260421T221519
CREATED:20251222T124614Z
LAST-MODIFIED:20251222T124614Z
UID:72109-1766840400-1766847600@visitpikeville.com
SUMMARY:FAMILY PAINT CLASS
DESCRIPTION:FAMILY PAINT CLASS – THIS SATURDAY! \n\n\n Like & Share to invite your family and friends!\n\n\nJoin us at 2 Broke Art Teachers for a fun-filled Family Paint Class on\n Saturday\, December 27\, 2025\n 1:00 PM\n\n\n Choose from 9 adorable winter & holiday designs — perfect for kids and adults!\n $20 per painter\n Family-friendly • No experience needed\n\n\nAll supplies are included\, and canvases are pre-drawn so everyone can relax and have fun creating together \n\n\n Private message us to reserve your spot\nSpots are limited and these fill fast!
URL:https://visitpikeville.com/event/family-paint-class-14/
LOCATION:2 Broke Art Teachers\, 4505 Weddington Square\,\, Pikeville\, KY\, 41501\, United States
CATEGORIES:Other
ATTACH;FMTTYPE=image/jpeg:https://visitpikeville.com/wp-content/uploads/2025/12/family-paint-1227.jpg
END:VEVENT
BEGIN:VEVENT
DTSTART;TZID=America/Kentucky/Louisville:20251227T170000
DTEND;TZID=America/Kentucky/Louisville:20251227T190000
DTSTAMP:20260421T221519
CREATED:20251222T124832Z
LAST-MODIFIED:20251222T124832Z
UID:72112-1766854800-1766862000@visitpikeville.com
SUMMARY:Paint Night
DESCRIPTION: Paint Night Choices – Saturday\, December 27 @ 5:00 PM Please like and share or tag a friend who may like to paint:)Join us for a fun and relaxing paint class where YOU choose what you paint!We’ll guide you step-by-step — no experience needed  Choose from 6 different designs (see numbered options in the photo ) Saturday\, Dec. 27 5:00 PM $25 per painter 2 Broke Art Teachers Studio All supplies included Pre-drawn canvases Customize colors & details Perfect for friends\, family\, or a night out Spots are limited! Private message us to reserve your seat Like • Share • Tag your painting buddy!
URL:https://visitpikeville.com/event/paint-night-4/
LOCATION:2 Broke Art Teachers\, 4505 Weddington Square\,\, Pikeville\, KY\, 41501\, United States
CATEGORIES:Other
ATTACH;FMTTYPE=image/jpeg:https://visitpikeville.com/wp-content/uploads/2025/12/paint-night-1227-5.jpg
END:VEVENT
END:VCALENDAR