BEGIN:VCALENDAR
VERSION:2.0
PRODID:-//Visit Pikeville - ECPv6.15.20//NONSGML v1.0//EN
CALSCALE:GREGORIAN
METHOD:PUBLISH
X-ORIGINAL-URL:https://visitpikeville.com
X-WR-CALDESC:Events for Visit Pikeville
REFRESH-INTERVAL;VALUE=DURATION:PT1H
X-Robots-Tag:noindex
X-PUBLISHED-TTL:PT1H
BEGIN:VTIMEZONE
TZID:America/Kentucky/Louisville
BEGIN:DAYLIGHT
TZOFFSETFROM:-0500
TZOFFSETTO:-0400
TZNAME:EDT
DTSTART:20240310T070000
END:DAYLIGHT
BEGIN:STANDARD
TZOFFSETFROM:-0400
TZOFFSETTO:-0500
TZNAME:EST
DTSTART:20241103T060000
END:STANDARD
BEGIN:DAYLIGHT
TZOFFSETFROM:-0500
TZOFFSETTO:-0400
TZNAME:EDT
DTSTART:20250309T070000
END:DAYLIGHT
BEGIN:STANDARD
TZOFFSETFROM:-0400
TZOFFSETTO:-0500
TZNAME:EST
DTSTART:20251102T060000
END:STANDARD
BEGIN:DAYLIGHT
TZOFFSETFROM:-0500
TZOFFSETTO:-0400
TZNAME:EDT
DTSTART:20260308T070000
END:DAYLIGHT
BEGIN:STANDARD
TZOFFSETFROM:-0400
TZOFFSETTO:-0500
TZNAME:EST
DTSTART:20261101T060000
END:STANDARD
END:VTIMEZONE
BEGIN:VEVENT
DTSTART;TZID=America/Kentucky/Louisville:20251205T180000
DTEND;TZID=America/Kentucky/Louisville:20251205T200000
DTSTAMP:20260421T221443
CREATED:20251203T180449Z
LAST-MODIFIED:20251203T180449Z
UID:71952-1764957600-1764964800@visitpikeville.com
SUMMARY:Sound of the Seasons
DESCRIPTION:Free Concert
URL:https://visitpikeville.com/event/sound-of-the-seasons/
LOCATION:Pikeville United Methodist Church\, 107 Main St\,\, Pikeville\, KY\, 41501\, United States
CATEGORIES:Other
ATTACH;FMTTYPE=image/jpeg:https://visitpikeville.com/wp-content/uploads/2025/12/sounds-scaled.jpg
END:VEVENT
BEGIN:VEVENT
DTSTART;TZID=America/Kentucky/Louisville:20251205T183000
DTEND;TZID=America/Kentucky/Louisville:20251205T203000
DTSTAMP:20260421T221443
CREATED:20251110T174745Z
LAST-MODIFIED:20251110T174745Z
UID:71127-1764959400-1764966600@visitpikeville.com
SUMMARY:Ornament Night at Hope Haven
DESCRIPTION:Let’s kick off the Christmas season with creativity\, cocoa\, and community!\nJoin us on Friday\, December 5th at 6:30 PM for a fun night of crafting beautiful Christmas ornaments and enjoying sweet fellowship.  \n Includes 2 ornaments & refreshments\n All supplies provided\n Sign up in-store or message us on Facebook\n All participants receive a 10% off coupon for Hope Haven! \nLet’s create\, connect\, and celebrate the true JOY of the season — together!
URL:https://visitpikeville.com/event/ornament-night-at-hope-haven/
LOCATION:Hope Haven Boutique\, 1946 South Mayo Trail\,\, Pikeville\, KY\, 41501\, United States
CATEGORIES:Other
ATTACH;FMTTYPE=image/jpeg:https://visitpikeville.com/wp-content/uploads/2025/11/ornament.jpeg
END:VEVENT
BEGIN:VEVENT
DTSTART;TZID=America/Kentucky/Louisville:20251205T193000
DTEND;TZID=America/Kentucky/Louisville:20251205T223000
DTSTAMP:20260421T221443
CREATED:20251203T180634Z
LAST-MODIFIED:20251203T180634Z
UID:71956-1764963000-1764973800@visitpikeville.com
SUMMARY:Dalton Moore
DESCRIPTION:@Bank253
URL:https://visitpikeville.com/event/dalton-moore/
LOCATION:Bank 253\, 253 2nd St\,\, Pikeville\, KY\, 41501\, United States
CATEGORIES:Other
ATTACH;FMTTYPE=image/jpeg:https://visitpikeville.com/wp-content/uploads/2025/12/dalton-moore.jpg
END:VEVENT
END:VCALENDAR