BEGIN:VCALENDAR
VERSION:2.0
PRODID:-//Visit Pikeville - ECPv6.15.20//NONSGML v1.0//EN
CALSCALE:GREGORIAN
METHOD:PUBLISH
X-ORIGINAL-URL:https://visitpikeville.com
X-WR-CALDESC:Events for Visit Pikeville
REFRESH-INTERVAL;VALUE=DURATION:PT1H
X-Robots-Tag:noindex
X-PUBLISHED-TTL:PT1H
BEGIN:VTIMEZONE
TZID:America/Kentucky/Louisville
BEGIN:DAYLIGHT
TZOFFSETFROM:-0500
TZOFFSETTO:-0400
TZNAME:EDT
DTSTART:20240310T070000
END:DAYLIGHT
BEGIN:STANDARD
TZOFFSETFROM:-0400
TZOFFSETTO:-0500
TZNAME:EST
DTSTART:20241103T060000
END:STANDARD
BEGIN:DAYLIGHT
TZOFFSETFROM:-0500
TZOFFSETTO:-0400
TZNAME:EDT
DTSTART:20250309T070000
END:DAYLIGHT
BEGIN:STANDARD
TZOFFSETFROM:-0400
TZOFFSETTO:-0500
TZNAME:EST
DTSTART:20251102T060000
END:STANDARD
BEGIN:DAYLIGHT
TZOFFSETFROM:-0500
TZOFFSETTO:-0400
TZNAME:EDT
DTSTART:20260308T070000
END:DAYLIGHT
BEGIN:STANDARD
TZOFFSETFROM:-0400
TZOFFSETTO:-0500
TZNAME:EST
DTSTART:20261101T060000
END:STANDARD
END:VTIMEZONE
BEGIN:VEVENT
DTSTART;TZID=America/Kentucky/Louisville:20251129T130000
DTEND;TZID=America/Kentucky/Louisville:20251129T150000
DTSTAMP:20260421T234242
CREATED:20251124T151320Z
LAST-MODIFIED:20251124T151320Z
UID:71691-1764421200-1764428400@visitpikeville.com
SUMMARY:Family Paint Class
DESCRIPTION:We are offering 2 classes to paint these beloved characters to help kick off the Christmas season. No painting experience needed – canvases are pre-drawn. Private message to reserve!
URL:https://visitpikeville.com/event/family-paint-class-11-2/
LOCATION:2 Broke Art Teachers\, 4505 Weddington Square\,\, Pikeville\, KY\, 41501\, United States
CATEGORIES:Other
ATTACH;FMTTYPE=image/jpeg:https://visitpikeville.com/wp-content/uploads/2025/11/family-nov-25.jpg
END:VEVENT
BEGIN:VEVENT
DTSTART;TZID=America/Kentucky/Louisville:20251129T130000
DTEND;TZID=America/Kentucky/Louisville:20251129T170000
DTSTAMP:20260421T234242
CREATED:20251031T175245Z
LAST-MODIFIED:20251031T175245Z
UID:70517-1764421200-1764435600@visitpikeville.com
SUMMARY:Open War Gaming
DESCRIPTION:The Gaming Co @ 1:00pm
URL:https://visitpikeville.com/event/rpg-day-with-steven-2-4-2/
LOCATION:The Gaming Co.\, 265 Hambley Boulevard\,\, Pikeville\, KY\, 41501\, United States
CATEGORIES:Other
ATTACH;FMTTYPE=image/jpeg:https://visitpikeville.com/wp-content/uploads/2025/10/gaming-.jpg
END:VEVENT
BEGIN:VEVENT
DTSTART;TZID=America/Kentucky/Louisville:20251129T130000
DTEND;TZID=America/Kentucky/Louisville:20251129T170000
DTSTAMP:20260421T234242
CREATED:20251031T191154Z
LAST-MODIFIED:20251031T191154Z
UID:70563-1764421200-1764435600@visitpikeville.com
SUMMARY:RPG Day with Steven
DESCRIPTION:@The Gaming Co
URL:https://visitpikeville.com/event/rpg-day-with-steven-3-2-2-2/
LOCATION:The Gaming Co.\, 265 Hambley Boulevard\,\, Pikeville\, KY\, 41501\, United States
CATEGORIES:Other
ATTACH;FMTTYPE=image/jpeg:https://visitpikeville.com/wp-content/uploads/2025/10/gaming-.jpg
END:VEVENT
BEGIN:VEVENT
DTSTART;TZID=America/Kentucky/Louisville:20251129T160000
DTEND;TZID=America/Kentucky/Louisville:20251129T200000
DTSTAMP:20260421T234242
CREATED:20251031T192802Z
LAST-MODIFIED:20251031T192802Z
UID:70572-1764432000-1764446400@visitpikeville.com
SUMMARY:Pokemon TCG Expanded with Hailey
DESCRIPTION:@The Gaming Co.
URL:https://visitpikeville.com/event/pokemon-tcg-standard-with-hailey-2-2-2/
LOCATION:The Gaming Co.\, 265 Hambley Boulevard\,\, Pikeville\, KY\, 41501\, United States
CATEGORIES:Other
ATTACH;FMTTYPE=image/jpeg:https://visitpikeville.com/wp-content/uploads/2025/10/gaming-.jpg
END:VEVENT
BEGIN:VEVENT
DTSTART;TZID=America/Kentucky/Louisville:20251129T170000
DTEND;TZID=America/Kentucky/Louisville:20251129T190000
DTSTAMP:20260421T234242
CREATED:20251124T151517Z
LAST-MODIFIED:20251124T151517Z
UID:71693-1764435600-1764442800@visitpikeville.com
SUMMARY:CHRISTMAS MOVIE NIGHT PAINT PARTY
DESCRIPTION:Saturday\, Nov. 29 @ 5:00 • $25\nPick YOUR favorite Christmas movie theme!\nWe’ve packed this class with iconic holiday favorites you know and love. \n\n\nChoose from SIX festive designs:\n The Grinch \n A Christmas Story (Pink Bunny Suit!) \n The Leg Lamp\n National Lampoon’s Christmas Vacation (the cat!) \n Christmas Vacation—that unforgettable tree haul! \n Rudolph with that shining nose \n\n\nPerfect for families\, girls’ night\, date night\, or a “just-because-we-love-Christmas-movies” night!\n\n\n Step-by-step instruction\n All supplies included\n No experience needed\n Customize colors your way!
URL:https://visitpikeville.com/event/christmas-movie-night-paint-party/
LOCATION:2 Broke Art Teachers\, 4505 Weddington Square\,\, Pikeville\, KY\, 41501\, United States
CATEGORIES:Other
ATTACH;FMTTYPE=image/jpeg:https://visitpikeville.com/wp-content/uploads/2025/11/christmas-movie.jpg
END:VEVENT
END:VCALENDAR