BEGIN:VCALENDAR
VERSION:2.0
PRODID:-//Visit Pikeville - ECPv6.15.20//NONSGML v1.0//EN
CALSCALE:GREGORIAN
METHOD:PUBLISH
X-ORIGINAL-URL:https://visitpikeville.com
X-WR-CALDESC:Events for Visit Pikeville
REFRESH-INTERVAL;VALUE=DURATION:PT1H
X-Robots-Tag:noindex
X-PUBLISHED-TTL:PT1H
BEGIN:VTIMEZONE
TZID:America/Kentucky/Louisville
BEGIN:DAYLIGHT
TZOFFSETFROM:-0500
TZOFFSETTO:-0400
TZNAME:EDT
DTSTART:20240310T070000
END:DAYLIGHT
BEGIN:STANDARD
TZOFFSETFROM:-0400
TZOFFSETTO:-0500
TZNAME:EST
DTSTART:20241103T060000
END:STANDARD
BEGIN:DAYLIGHT
TZOFFSETFROM:-0500
TZOFFSETTO:-0400
TZNAME:EDT
DTSTART:20250309T070000
END:DAYLIGHT
BEGIN:STANDARD
TZOFFSETFROM:-0400
TZOFFSETTO:-0500
TZNAME:EST
DTSTART:20251102T060000
END:STANDARD
BEGIN:DAYLIGHT
TZOFFSETFROM:-0500
TZOFFSETTO:-0400
TZNAME:EDT
DTSTART:20260308T070000
END:DAYLIGHT
BEGIN:STANDARD
TZOFFSETFROM:-0400
TZOFFSETTO:-0500
TZNAME:EST
DTSTART:20261101T060000
END:STANDARD
END:VTIMEZONE
BEGIN:VEVENT
DTSTART;TZID=America/Kentucky/Louisville:20251122T130000
DTEND;TZID=America/Kentucky/Louisville:20251122T150000
DTSTAMP:20260421T234403
CREATED:20251117T200246Z
LAST-MODIFIED:20251117T200246Z
UID:71421-1763816400-1763823600@visitpikeville.com
SUMMARY:FAMILY PAINT CLASS
DESCRIPTION:Join 2 Broke Art Teachers for a fun and festive afternoon of creativity!\nBring the whole family and pick your favorite design from 9 adorable holiday options! \n\n\n Saturday\, Nov. 22\, 2025\n 1:00 PM\n $20 each\n 2 Broke Art Teachers – Pikeville\, KY\n\n\nNo experience needed\nPerfect for kids\, parents\, grandparents\, and holiday memory-making. \n\n\n Choose from:\n Snoopy under the stars\n Christmas Elf\n Tree-topped car\n Snowman + tree\n Cozy snowman face\n Gingerbread girl\n Gingerbread boy\n Bluey Santa\n Rudolph with the glowing nose\n\n\n Seats fill fast!
URL:https://visitpikeville.com/event/family-paint-class-10/
LOCATION:2 Broke Art Teachers\, 4505 Weddington Square\,\, Pikeville\, KY\, 41501\, United States
CATEGORIES:Other
ATTACH;FMTTYPE=image/jpeg:https://visitpikeville.com/wp-content/uploads/2025/11/FAMILY-PAINT-NOV-22.jpg
END:VEVENT
BEGIN:VEVENT
DTSTART;TZID=America/Kentucky/Louisville:20251122T130000
DTEND;TZID=America/Kentucky/Louisville:20251122T160000
DTSTAMP:20260421T234403
CREATED:20251031T192036Z
LAST-MODIFIED:20251031T192103Z
UID:70567-1763816400-1763827200@visitpikeville.com
SUMMARY:Pokemon TCG Standard with Hailey
DESCRIPTION:@The Gaming Co.
URL:https://visitpikeville.com/event/pokemon-tcg-standard-with-hailey-2/
LOCATION:The Gaming Co.\, 265 Hambley Boulevard\,\, Pikeville\, KY\, 41501\, United States
CATEGORIES:Other
ATTACH;FMTTYPE=image/jpeg:https://visitpikeville.com/wp-content/uploads/2025/10/gaming-.jpg
END:VEVENT
BEGIN:VEVENT
DTSTART;TZID=America/Kentucky/Louisville:20251122T130000
DTEND;TZID=America/Kentucky/Louisville:20251122T170000
DTSTAMP:20260421T234403
CREATED:20251031T190713Z
LAST-MODIFIED:20251031T190713Z
UID:70561-1763816400-1763830800@visitpikeville.com
SUMMARY:RPG Day with Steven
DESCRIPTION:@The Gaming Co
URL:https://visitpikeville.com/event/rpg-day-with-steven-3-2-2/
LOCATION:The Gaming Co.\, 265 Hambley Boulevard\,\, Pikeville\, KY\, 41501\, United States
CATEGORIES:Other
ATTACH;FMTTYPE=image/jpeg:https://visitpikeville.com/wp-content/uploads/2025/10/gaming-.jpg
END:VEVENT
BEGIN:VEVENT
DTSTART;TZID=America/Kentucky/Louisville:20251122T170000
DTEND;TZID=America/Kentucky/Louisville:20251122T190000
DTSTAMP:20260421T234403
CREATED:20251117T200502Z
LAST-MODIFIED:20251117T200502Z
UID:71424-1763830800-1763838000@visitpikeville.com
SUMMARY:CHRISTMAS COW PAINT CLASS
DESCRIPTION:Join us for a fun and festive evening as we paint this adorable Christmas Cow—complete with Santa hat and holiday wreath! This is the perfect way to kick off the season with creativity\, friends\, and lots of laughs. \n\n\n Saturday\, November 22\n 5:00 PM\n Step-by-step demonstration (No experience needed!)\n $25 per painter\n\n\nBring a friend\, make it a date night\, or enjoy a little holiday “me time”!
URL:https://visitpikeville.com/event/christmas-cow-paint-class/
LOCATION:2 Broke Art Teachers\, 4505 Weddington Square\,\, Pikeville\, KY\, 41501\, United States
CATEGORIES:Other
ATTACH;FMTTYPE=image/jpeg:https://visitpikeville.com/wp-content/uploads/2025/11/CHRISTMAS-COW.jpg
END:VEVENT
BEGIN:VEVENT
DTSTART;TZID=America/Kentucky/Louisville:20251122T193000
DTEND;TZID=America/Kentucky/Louisville:20251122T223000
DTSTAMP:20260421T234403
CREATED:20251110T133602Z
LAST-MODIFIED:20251110T133602Z
UID:71089-1763839800-1763850600@visitpikeville.com
SUMMARY:Ryan Clevenger
DESCRIPTION:  \n@7:30pm – 10:30pm
URL:https://visitpikeville.com/event/live-music-at-bank-253-3-2-2-2-2-2-2-2-2-2-2-2-2-2-2-2-2-2-2-2-2-2-2-2-2-2-2-2-2-2-2-2-2-2-2-2-2-2-3-2/
LOCATION:Bank 253\, 253 2nd St\,\, Pikeville\, KY\, 41501\, United States
CATEGORIES:Other
ATTACH;FMTTYPE=image/jpeg:https://visitpikeville.com/wp-content/uploads/2025/09/BANK-253.jpg
END:VEVENT
END:VCALENDAR