BEGIN:VCALENDAR
VERSION:2.0
PRODID:-//Visit Pikeville - ECPv6.15.20//NONSGML v1.0//EN
CALSCALE:GREGORIAN
METHOD:PUBLISH
X-ORIGINAL-URL:https://visitpikeville.com
X-WR-CALDESC:Events for Visit Pikeville
REFRESH-INTERVAL;VALUE=DURATION:PT1H
X-Robots-Tag:noindex
X-PUBLISHED-TTL:PT1H
BEGIN:VTIMEZONE
TZID:America/Kentucky/Louisville
BEGIN:DAYLIGHT
TZOFFSETFROM:-0500
TZOFFSETTO:-0400
TZNAME:EDT
DTSTART:20240310T070000
END:DAYLIGHT
BEGIN:STANDARD
TZOFFSETFROM:-0400
TZOFFSETTO:-0500
TZNAME:EST
DTSTART:20241103T060000
END:STANDARD
BEGIN:DAYLIGHT
TZOFFSETFROM:-0500
TZOFFSETTO:-0400
TZNAME:EDT
DTSTART:20250309T070000
END:DAYLIGHT
BEGIN:STANDARD
TZOFFSETFROM:-0400
TZOFFSETTO:-0500
TZNAME:EST
DTSTART:20251102T060000
END:STANDARD
BEGIN:DAYLIGHT
TZOFFSETFROM:-0500
TZOFFSETTO:-0400
TZNAME:EDT
DTSTART:20260308T070000
END:DAYLIGHT
BEGIN:STANDARD
TZOFFSETFROM:-0400
TZOFFSETTO:-0500
TZNAME:EST
DTSTART:20261101T060000
END:STANDARD
END:VTIMEZONE
BEGIN:VEVENT
DTSTART;TZID=America/Kentucky/Louisville:20251120T173000
DTEND;TZID=America/Kentucky/Louisville:20251120T193000
DTSTAMP:20260421T234241
CREATED:20251117T200633Z
LAST-MODIFIED:20251117T200633Z
UID:71427-1763659800-1763667000@visitpikeville.com
SUMMARY:SNOWMAN PINE PAINT NIGHT
DESCRIPTION:Join us Thursday\, November 20th at 5:30 PM for this magical winter painting!\n\n\nWe’ll be creating this adorable Snowman Ornament surrounded by snowy pine branches—perfect for your holiday décor! \n\n\n Step-by-step demonstration\n Pre-drawn 16×20 canvas\n $25 per painter\n Please\, no kiddos under 10\n\n\nWhether you’re a beginner or a seasoned painter\, we make it fun and easy. Grab a friend and come paint with us!
URL:https://visitpikeville.com/event/snowman-pine-paint-night/
LOCATION:2 Broke Art Teachers\, 4505 Weddington Square\,\, Pikeville\, KY\, 41501\, United States
CATEGORIES:Other
ATTACH;FMTTYPE=image/jpeg:https://visitpikeville.com/wp-content/uploads/2025/11/SNOWMAN-PINE.jpg
END:VEVENT
BEGIN:VEVENT
DTSTART;TZID=America/Kentucky/Louisville:20251120T173000
DTEND;TZID=America/Kentucky/Louisville:20251120T210000
DTSTAMP:20260421T234241
CREATED:20251031T175553Z
LAST-MODIFIED:20251031T175553Z
UID:70527-1763659800-1763672400@visitpikeville.com
SUMMARY:Open War Gaming
DESCRIPTION:The Gaming Co @ 5:30pm
URL:https://visitpikeville.com/event/rpg-day-with-steven-2-3-3-2-2-2-2-2-2/
LOCATION:The Gaming Co.\, 265 Hambley Boulevard\,\, Pikeville\, KY\, 41501\, United States
CATEGORIES:Other
ATTACH;FMTTYPE=image/jpeg:https://visitpikeville.com/wp-content/uploads/2025/10/gaming-.jpg
END:VEVENT
BEGIN:VEVENT
DTSTART;TZID=America/Kentucky/Louisville:20251120T173000
DTEND;TZID=America/Kentucky/Louisville:20251120T210000
DTSTAMP:20260421T234241
CREATED:20251031T181401Z
LAST-MODIFIED:20251031T181401Z
UID:70542-1763659800-1763672400@visitpikeville.com
SUMMARY:Board Game Night With Nathan
DESCRIPTION:@The Gaming Co.
URL:https://visitpikeville.com/event/board-game-night-with-nathan-2-2/
LOCATION:The Gaming Co.\, 265 Hambley Boulevard\,\, Pikeville\, KY\, 41501\, United States
CATEGORIES:Other
ATTACH;FMTTYPE=image/jpeg:https://visitpikeville.com/wp-content/uploads/2025/10/board-game.jpg
END:VEVENT
BEGIN:VEVENT
DTSTART;TZID=America/Kentucky/Louisville:20251120T190000
DTEND;TZID=America/Kentucky/Louisville:20251120T210000
DTSTAMP:20260421T234241
CREATED:20251110T133922Z
LAST-MODIFIED:20251110T133922Z
UID:71091-1763665200-1763672400@visitpikeville.com
SUMMARY:Trivia Night
DESCRIPTION:November 20th\, 2025\, El Hasa Shriners are headed back to Pikeville\, KY thanks to Brothers Wright Distilling Co. for another Shriners Children’s Lexington Live Trivia!! If you find your schedule free and would like to come out and assist us with this wonderful endeavor while also supporting a great local business\, we would love to have you. We have successfully raised $10\,258.00 since January 2025 toward this cause\, with two (2) months left. Thank you to all of our contestants\, supporters and especially our hosts in our two (2) locations: Honey B’s Restaurant & Lounge in Paintsville\, KY and Brothers Wright Distilling Co. in Pikeville\, KY!!
URL:https://visitpikeville.com/event/trivia-night-10/
LOCATION:Brothers Wright Distilling Co.\, 2nd Street\, Pikeville\, KY\, 41501\, United States
CATEGORIES:Other
ATTACH;FMTTYPE=image/jpeg:https://visitpikeville.com/wp-content/uploads/2025/11/trivia-night.jpg
END:VEVENT
END:VCALENDAR