BEGIN:VCALENDAR
VERSION:2.0
PRODID:-//Visit Pikeville - ECPv6.15.20//NONSGML v1.0//EN
CALSCALE:GREGORIAN
METHOD:PUBLISH
X-WR-CALNAME:Visit Pikeville
X-ORIGINAL-URL:https://visitpikeville.com
X-WR-CALDESC:Events for Visit Pikeville
REFRESH-INTERVAL;VALUE=DURATION:PT1H
X-Robots-Tag:noindex
X-PUBLISHED-TTL:PT1H
BEGIN:VTIMEZONE
TZID:America/Kentucky/Louisville
BEGIN:DAYLIGHT
TZOFFSETFROM:-0500
TZOFFSETTO:-0400
TZNAME:EDT
DTSTART:20240310T070000
END:DAYLIGHT
BEGIN:STANDARD
TZOFFSETFROM:-0400
TZOFFSETTO:-0500
TZNAME:EST
DTSTART:20241103T060000
END:STANDARD
BEGIN:DAYLIGHT
TZOFFSETFROM:-0500
TZOFFSETTO:-0400
TZNAME:EDT
DTSTART:20250309T070000
END:DAYLIGHT
BEGIN:STANDARD
TZOFFSETFROM:-0400
TZOFFSETTO:-0500
TZNAME:EST
DTSTART:20251102T060000
END:STANDARD
BEGIN:DAYLIGHT
TZOFFSETFROM:-0500
TZOFFSETTO:-0400
TZNAME:EDT
DTSTART:20260308T070000
END:DAYLIGHT
BEGIN:STANDARD
TZOFFSETFROM:-0400
TZOFFSETTO:-0500
TZNAME:EST
DTSTART:20261101T060000
END:STANDARD
END:VTIMEZONE
BEGIN:VEVENT
DTSTART;TZID=America/Kentucky/Louisville:20251114T213000
DTEND;TZID=America/Kentucky/Louisville:20251115T010000
DTSTAMP:20260421T234140
CREATED:20251110T132246Z
LAST-MODIFIED:20251110T132246Z
UID:71076-1763155800-1763168400@visitpikeville.com
SUMMARY:Live DJ at Bank 253
DESCRIPTION:  \n@9:30pm – 1:00am
URL:https://visitpikeville.com/event/live-music-at-bank-253-3-2-2-2-2-2-2-2-2-2-2-2-2-2-2-2-2-2-2-2-2-2-2-2-2-2-2-2-2-2-2-2-2-2-2-2-2-2/
LOCATION:Bank 253\, 253 2nd St\,\, Pikeville\, KY\, 41501\, United States
CATEGORIES:Other
ATTACH;FMTTYPE=image/jpeg:https://visitpikeville.com/wp-content/uploads/2025/09/BANK-253.jpg
END:VEVENT
BEGIN:VEVENT
DTSTART;VALUE=DATE:20251115
DTEND;VALUE=DATE:20251116
DTSTAMP:20260421T234140
CREATED:20251110T132407Z
LAST-MODIFIED:20251110T132407Z
UID:71078-1763164800-1763251199@visitpikeville.com
SUMMARY:Cory Harris
DESCRIPTION:@ Brothers Wright
URL:https://visitpikeville.com/event/kayla-smith-2/
LOCATION:Brothers Wright Distilling Co.\, 2nd Street\, Pikeville\, KY\, 41501\, United States
CATEGORIES:Other
ATTACH;FMTTYPE=image/jpeg:https://visitpikeville.com/wp-content/uploads/2025/11/brothers-wright.jpg
END:VEVENT
BEGIN:VEVENT
DTSTART;TZID=America/Kentucky/Louisville:20251115T130000
DTEND;TZID=America/Kentucky/Louisville:20251115T170000
DTSTAMP:20260421T234140
CREATED:20251031T190552Z
LAST-MODIFIED:20251031T190552Z
UID:70559-1763211600-1763226000@visitpikeville.com
SUMMARY:RPG Day with Steven
DESCRIPTION:@The Gaming Co
URL:https://visitpikeville.com/event/rpg-day-with-steven-3-2/
LOCATION:The Gaming Co.\, 265 Hambley Boulevard\,\, Pikeville\, KY\, 41501\, United States
CATEGORIES:Other
ATTACH;FMTTYPE=image/jpeg:https://visitpikeville.com/wp-content/uploads/2025/10/gaming-.jpg
END:VEVENT
BEGIN:VEVENT
DTSTART;TZID=America/Kentucky/Louisville:20251115T130000
DTEND;TZID=America/Kentucky/Louisville:20251115T200000
DTSTAMP:20260421T234140
CREATED:20251110T143053Z
LAST-MODIFIED:20251110T143053Z
UID:71108-1763211600-1763236800@visitpikeville.com
SUMMARY:FAMILY PAINT CLASS
DESCRIPTION:FAMILY PAINT CLASS FUN! \nJoin 2 Broke Art Teachers on Saturday\, November 15\, 2025 for TWO festive paint sessions filled with creativity\, laughter\, and holiday cheer! \n\n\n Times: 1:00 PM & 5:00 PM\n Cost: $20 per painter\n Location: 2 Broke Art Teachers Studio\, Pikeville\, KY\n\n\nPick your favorite from 9 adorable holiday designs — from cheerful snowmen and Santa Claus to the Grinch\, penguins\, gingerbread friends\, poinsettias\, and more! \n\n\n Perfect for all ages — no experience needed!\n Everything you need is included — just show up ready to paint and have fun!\n\n\n Private Message us to reserve your spot today!\nSeats fill fast — bring your family or besties and make memories that will last all season long.
URL:https://visitpikeville.com/event/family-paint-class-9/
LOCATION:2 Broke Art Teachers\, 4505 Weddington Square\,\, Pikeville\, KY\, 41501\, United States
CATEGORIES:Other
ATTACH;FMTTYPE=image/jpeg:https://visitpikeville.com/wp-content/uploads/2025/11/family.jpg
END:VEVENT
BEGIN:VEVENT
DTSTART;TZID=America/Kentucky/Louisville:20251115T160000
DTEND;TZID=America/Kentucky/Louisville:20251115T200000
DTSTAMP:20260421T234140
CREATED:20251031T192642Z
LAST-MODIFIED:20251031T192717Z
UID:70570-1763222400-1763236800@visitpikeville.com
SUMMARY:Pokemon TCG Expanded with Hailey
DESCRIPTION:@The Gaming Co.
URL:https://visitpikeville.com/event/pokemon-tcg-standard-with-hailey-2-2/
LOCATION:The Gaming Co.\, 265 Hambley Boulevard\,\, Pikeville\, KY\, 41501\, United States
CATEGORIES:Other
ATTACH;FMTTYPE=image/jpeg:https://visitpikeville.com/wp-content/uploads/2025/10/gaming-.jpg
END:VEVENT
BEGIN:VEVENT
DTSTART;TZID=America/Kentucky/Louisville:20251115T213000
DTEND;TZID=America/Kentucky/Louisville:20251116T010000
DTSTAMP:20260421T234140
CREATED:20251110T132731Z
LAST-MODIFIED:20251110T132731Z
UID:71080-1763242200-1763254800@visitpikeville.com
SUMMARY:MMA Cage Wars After Party
DESCRIPTION:  \n@9:30pm – 1:00am
URL:https://visitpikeville.com/event/live-music-at-bank-253-3-2-2-2-2-2-2-2-2-2-2-2-2-2-2-2-2-2-2-2-2-2-2-2-2-2-2-2-2-2-2-2-2-2-2-2-2-2-2/
LOCATION:Bank 253\, 253 2nd St\,\, Pikeville\, KY\, 41501\, United States
CATEGORIES:Other
ATTACH;FMTTYPE=image/jpeg:https://visitpikeville.com/wp-content/uploads/2025/09/BANK-253.jpg
END:VEVENT
END:VCALENDAR