BEGIN:VCALENDAR
VERSION:2.0
PRODID:-//Visit Pikeville - ECPv6.15.20//NONSGML v1.0//EN
CALSCALE:GREGORIAN
METHOD:PUBLISH
X-ORIGINAL-URL:https://visitpikeville.com
X-WR-CALDESC:Events for Visit Pikeville
REFRESH-INTERVAL;VALUE=DURATION:PT1H
X-Robots-Tag:noindex
X-PUBLISHED-TTL:PT1H
BEGIN:VTIMEZONE
TZID:America/Kentucky/Louisville
BEGIN:DAYLIGHT
TZOFFSETFROM:-0500
TZOFFSETTO:-0400
TZNAME:EDT
DTSTART:20240310T070000
END:DAYLIGHT
BEGIN:STANDARD
TZOFFSETFROM:-0400
TZOFFSETTO:-0500
TZNAME:EST
DTSTART:20241103T060000
END:STANDARD
BEGIN:DAYLIGHT
TZOFFSETFROM:-0500
TZOFFSETTO:-0400
TZNAME:EDT
DTSTART:20250309T070000
END:DAYLIGHT
BEGIN:STANDARD
TZOFFSETFROM:-0400
TZOFFSETTO:-0500
TZNAME:EST
DTSTART:20251102T060000
END:STANDARD
BEGIN:DAYLIGHT
TZOFFSETFROM:-0500
TZOFFSETTO:-0400
TZNAME:EDT
DTSTART:20260308T070000
END:DAYLIGHT
BEGIN:STANDARD
TZOFFSETFROM:-0400
TZOFFSETTO:-0500
TZNAME:EST
DTSTART:20261101T060000
END:STANDARD
END:VTIMEZONE
BEGIN:VEVENT
DTSTART;VALUE=DATE:20251114
DTEND;VALUE=DATE:20251115
DTSTAMP:20260421T234240
CREATED:20251110T125643Z
LAST-MODIFIED:20251110T125643Z
UID:71060-1763078400-1763164799@visitpikeville.com
SUMMARY:Zach Williams Pre-Show/ Post-Show Party
DESCRIPTION:@The Mine 606
URL:https://visitpikeville.com/event/mystery-beer-monday-2-2/
LOCATION:The Mine 606\, 121 Main St\, Pikeville\, KY\, 41501\, United States
CATEGORIES:Other
ATTACH;FMTTYPE=image/jpeg:https://visitpikeville.com/wp-content/uploads/2025/11/mine-events.jpg
END:VEVENT
BEGIN:VEVENT
DTSTART;VALUE=DATE:20251114
DTEND;VALUE=DATE:20251115
DTSTAMP:20260421T234240
CREATED:20251031T185610Z
LAST-MODIFIED:20251031T185610Z
UID:70551-1763078400-1763164799@visitpikeville.com
SUMMARY:FNM: Casual Commander with Travis
DESCRIPTION:@ 6:00pm
URL:https://visitpikeville.com/event/fnm-spider-man-play-booster-draft-with-travis-2/
LOCATION:The Gaming Co.\, 265 Hambley Boulevard\,\, Pikeville\, KY\, 41501\, United States
CATEGORIES:Other
ATTACH;FMTTYPE=image/jpeg:https://visitpikeville.com/wp-content/uploads/2025/10/gaming-.jpg
END:VEVENT
BEGIN:VEVENT
DTSTART;VALUE=DATE:20251114
DTEND;VALUE=DATE:20251115
DTSTAMP:20260421T234240
CREATED:20251110T131943Z
LAST-MODIFIED:20251110T131943Z
UID:71073-1763078400-1763164799@visitpikeville.com
SUMMARY:Kayla Smith
DESCRIPTION:@ Brothers Wright
URL:https://visitpikeville.com/event/kayla-smith/
LOCATION:Brothers Wright Distilling Co.\, 2nd Street\, Pikeville\, KY\, 41501\, United States
CATEGORIES:Other
ATTACH;FMTTYPE=image/jpeg:https://visitpikeville.com/wp-content/uploads/2025/11/brothers-wright.jpg
END:VEVENT
BEGIN:VEVENT
DTSTART;TZID=America/Kentucky/Louisville:20251114T173000
DTEND;TZID=America/Kentucky/Louisville:20251114T203000
DTSTAMP:20260421T234240
CREATED:20251110T143223Z
LAST-MODIFIED:20251110T143223Z
UID:71111-1763141400-1763152200@visitpikeville.com
SUMMARY:Friday Night Paint
DESCRIPTION:Friday Night Paint Party! \nJoin us Friday\, November 14th at 5:30 PM for a fun\, festive night of painting — just $25 per person!\n\n\nChoose your favorite holiday design from the lineup below:\n Rudolph with the glowing nose \n Bumble the Abominable Snowman \n Winter Galaxy Swirl \n Cozy Snowman \n “Nice List” Santa Scroll \n Classic Red Truck with Tree \n\n\n— no experience needed!\nSeats fill up fast\, so grab your spot now! \n Private Message us to reserve your seat.
URL:https://visitpikeville.com/event/friday-night-paint/
LOCATION:2 Broke Art Teachers\, 4505 Weddington Square\,\, Pikeville\, KY\, 41501\, United States
CATEGORIES:Other
ATTACH;FMTTYPE=image/jpeg:https://visitpikeville.com/wp-content/uploads/2025/11/friday-night.jpg
END:VEVENT
BEGIN:VEVENT
DTSTART;TZID=America/Kentucky/Louisville:20251114T173000
DTEND;TZID=America/Kentucky/Louisville:20251114T210000
DTSTAMP:20260421T234240
CREATED:20251031T175434Z
LAST-MODIFIED:20251031T175434Z
UID:70523-1763141400-1763154000@visitpikeville.com
SUMMARY:Open War Gaming
DESCRIPTION:The Gaming Co @ 5:30pm
URL:https://visitpikeville.com/event/rpg-day-with-steven-2-3-3-2-2-2-2/
LOCATION:The Gaming Co.\, 265 Hambley Boulevard\,\, Pikeville\, KY\, 41501\, United States
CATEGORIES:Other
ATTACH;FMTTYPE=image/jpeg:https://visitpikeville.com/wp-content/uploads/2025/10/gaming-.jpg
END:VEVENT
BEGIN:VEVENT
DTSTART;TZID=America/Kentucky/Louisville:20251114T180000
DTEND;TZID=America/Kentucky/Louisville:20251114T200000
DTSTAMP:20260421T234240
CREATED:20250929T133209Z
LAST-MODIFIED:20250929T133209Z
UID:68998-1763143200-1763150400@visitpikeville.com
SUMMARY:LIVE MMA weigh-ins
DESCRIPTION:Nightmare Promotions LIVE MMA weigh-ins on Friday\, Nov 14th at 6pm. Check out all the fun at Buffalo Wild Wings Pikeville Ky! Come eat some delicious food and join us for the weigh-ins!\nSchmidt Family Restaurant Group\n#MMA #BWW #bwwpikeville #nightmare
URL:https://visitpikeville.com/event/live-mma-weigh-ins/
LOCATION:Buffalo Wild Wings\, 163 Lee Ave\,\, Pikeville\, KY\, 41501\, United States
CATEGORIES:Appalachian Wireless Arena,Other
ATTACH;FMTTYPE=image/jpeg:https://visitpikeville.com/wp-content/uploads/2025/09/weighin.jpg
END:VEVENT
BEGIN:VEVENT
DTSTART;TZID=America/Kentucky/Louisville:20251114T213000
DTEND;TZID=America/Kentucky/Louisville:20251115T010000
DTSTAMP:20260421T234240
CREATED:20251110T132246Z
LAST-MODIFIED:20251110T132246Z
UID:71076-1763155800-1763168400@visitpikeville.com
SUMMARY:Live DJ at Bank 253
DESCRIPTION:  \n@9:30pm – 1:00am
URL:https://visitpikeville.com/event/live-music-at-bank-253-3-2-2-2-2-2-2-2-2-2-2-2-2-2-2-2-2-2-2-2-2-2-2-2-2-2-2-2-2-2-2-2-2-2-2-2-2-2/
LOCATION:Bank 253\, 253 2nd St\,\, Pikeville\, KY\, 41501\, United States
CATEGORIES:Other
ATTACH;FMTTYPE=image/jpeg:https://visitpikeville.com/wp-content/uploads/2025/09/BANK-253.jpg
END:VEVENT
END:VCALENDAR