BEGIN:VCALENDAR
VERSION:2.0
PRODID:-//Visit Pikeville - ECPv6.15.20//NONSGML v1.0//EN
CALSCALE:GREGORIAN
METHOD:PUBLISH
X-ORIGINAL-URL:https://visitpikeville.com
X-WR-CALDESC:Events for Visit Pikeville
REFRESH-INTERVAL;VALUE=DURATION:PT1H
X-Robots-Tag:noindex
X-PUBLISHED-TTL:PT1H
BEGIN:VTIMEZONE
TZID:America/Kentucky/Louisville
BEGIN:DAYLIGHT
TZOFFSETFROM:-0500
TZOFFSETTO:-0400
TZNAME:EDT
DTSTART:20240310T070000
END:DAYLIGHT
BEGIN:STANDARD
TZOFFSETFROM:-0400
TZOFFSETTO:-0500
TZNAME:EST
DTSTART:20241103T060000
END:STANDARD
BEGIN:DAYLIGHT
TZOFFSETFROM:-0500
TZOFFSETTO:-0400
TZNAME:EDT
DTSTART:20250309T070000
END:DAYLIGHT
BEGIN:STANDARD
TZOFFSETFROM:-0400
TZOFFSETTO:-0500
TZNAME:EST
DTSTART:20251102T060000
END:STANDARD
BEGIN:DAYLIGHT
TZOFFSETFROM:-0500
TZOFFSETTO:-0400
TZNAME:EDT
DTSTART:20260308T070000
END:DAYLIGHT
BEGIN:STANDARD
TZOFFSETFROM:-0400
TZOFFSETTO:-0500
TZNAME:EST
DTSTART:20261101T060000
END:STANDARD
END:VTIMEZONE
BEGIN:VEVENT
DTSTART;TZID=America/Kentucky/Louisville:20251023T170000
DTEND;TZID=America/Kentucky/Louisville:20251023T190000
DTSTAMP:20260422T024241
CREATED:20251020T150312Z
LAST-MODIFIED:20251020T150312Z
UID:70087-1761238800-1761246000@visitpikeville.com
SUMMARY:Veterans and Family Cookout
DESCRIPTION:Thursday of Fall Conference October 23rd the post will be having a COOKOUT at the Pikeville Veterans Memorial Park at 5 pm . We will have corn hole set up \, hotdogs \, etc. ( directions are look for the big airplane when you come into Pikeville)
URL:https://visitpikeville.com/event/veterans-and-family-cookout/
LOCATION:Pikeville Veterans Memorial Park\, 119 2nd Street\, Pikeville\, KY\, 41501\, United States
CATEGORIES:Other
ATTACH;FMTTYPE=image/jpeg:https://visitpikeville.com/wp-content/uploads/2025/10/veteran-e1760972585911.jpg
END:VEVENT
BEGIN:VEVENT
DTSTART;TZID=America/Kentucky/Louisville:20251023T173000
DTEND;TZID=America/Kentucky/Louisville:20251023T193000
DTSTAMP:20260422T024241
CREATED:20251020T145157Z
LAST-MODIFIED:20251020T145157Z
UID:70073-1761240600-1761247800@visitpikeville.com
SUMMARY:Fall Lantern Paint Class
DESCRIPTION:Fall Lantern Paint Class \nWednesday\, October 23rd at 5:30 PM\nCozy fall vibes\, glowing lanterns\, pumpkins & leaves—perfect for your autumn décor!\n\n\n No drawing required – lantern is pre-sketched\n Step-by-step instruction\n Customize your colors and accents (pumpkins\, leaves\, berries\, glow!)\n 16×20 Canvas – $25 per painter\n\n\nBring your friends\, family\, or make it a relaxing night for yourself!\nPrivate message to reserve your seat – spots are limited!\n\n\n#falllantern #paintnight #2BrokeArtTeachers #fallvibes #glowlantern
URL:https://visitpikeville.com/event/fall-lantern-paint-class-2/
LOCATION:2 Broke Art Teachers\, 4505 Weddington Square\,\, Pikeville\, KY\, 41501\, United States
CATEGORIES:Other
ATTACH;FMTTYPE=image/jpeg:https://visitpikeville.com/wp-content/uploads/2025/10/lantern-1.jpg
END:VEVENT
BEGIN:VEVENT
DTSTART;TZID=America/Kentucky/Louisville:20251023T180000
DTEND;TZID=America/Kentucky/Louisville:20251023T210000
DTSTAMP:20260422T024241
CREATED:20251020T141547Z
LAST-MODIFIED:20251020T141547Z
UID:70062-1761242400-1761253200@visitpikeville.com
SUMMARY:Halloween Trivia
DESCRIPTION:We’re proud to host a great night for a great cause!\nJoin us this Thursday October 23rd as El Hasa Shriners brings Shriners Hospitals for Children – Lexington Live Trivia to Brothers Wright Distilling Co. on Second Street in downtown Pikeville.\n\n\nBring your team and put your knowledge to the test. Teams of four\, $10 per person. All proceeds will benefit Shriners Hospitals for Children – Lexington.\n\n\n Registration starts at 6:00 PM\n First question drops at 7:00 PM\n Costumes are welcome!\n\n\nWe’re honored to partner with the Shriners for this special event and look forward to a fun night supporting an incredible cause.\n\n\nPlease drink responsibly.\n\n\n#BWDC #BrothersWrightDistillingCo #DuelingBarrels #PikevilleKY #Shriners #ShrinersHospitalsForChildren #TriviaNight #LiveTrivia #Fundraiser #KentuckyEvents #DowntownPikeville #DrinkResponsibly #Bourbon #KentuckyBourbon #BWDC #kentuckybourbon #friendsofcoal #brotherswright
URL:https://visitpikeville.com/event/halloween-trivia/
LOCATION:Brothers Wright Distilling Co.\, 2nd Street\, Pikeville\, KY\, 41501\, United States
CATEGORIES:Other
ATTACH;FMTTYPE=image/jpeg:https://visitpikeville.com/wp-content/uploads/2025/10/trivia.jpg
END:VEVENT
END:VCALENDAR