BEGIN:VCALENDAR
VERSION:2.0
PRODID:-//Visit Pikeville - ECPv6.15.20//NONSGML v1.0//EN
CALSCALE:GREGORIAN
METHOD:PUBLISH
X-ORIGINAL-URL:https://visitpikeville.com
X-WR-CALDESC:Events for Visit Pikeville
REFRESH-INTERVAL;VALUE=DURATION:PT1H
X-Robots-Tag:noindex
X-PUBLISHED-TTL:PT1H
BEGIN:VTIMEZONE
TZID:America/Kentucky/Louisville
BEGIN:DAYLIGHT
TZOFFSETFROM:-0500
TZOFFSETTO:-0400
TZNAME:EDT
DTSTART:20240310T070000
END:DAYLIGHT
BEGIN:STANDARD
TZOFFSETFROM:-0400
TZOFFSETTO:-0500
TZNAME:EST
DTSTART:20241103T060000
END:STANDARD
BEGIN:DAYLIGHT
TZOFFSETFROM:-0500
TZOFFSETTO:-0400
TZNAME:EDT
DTSTART:20250309T070000
END:DAYLIGHT
BEGIN:STANDARD
TZOFFSETFROM:-0400
TZOFFSETTO:-0500
TZNAME:EST
DTSTART:20251102T060000
END:STANDARD
BEGIN:DAYLIGHT
TZOFFSETFROM:-0500
TZOFFSETTO:-0400
TZNAME:EDT
DTSTART:20260308T070000
END:DAYLIGHT
BEGIN:STANDARD
TZOFFSETFROM:-0400
TZOFFSETTO:-0500
TZNAME:EST
DTSTART:20261101T060000
END:STANDARD
END:VTIMEZONE
BEGIN:VEVENT
DTSTART;TZID=America/Kentucky/Louisville:20251008T190000
DTEND;TZID=America/Kentucky/Louisville:20251008T210000
DTSTAMP:20260422T024226
CREATED:20251006T130452Z
LAST-MODIFIED:20251006T130452Z
UID:69326-1759950000-1759957200@visitpikeville.com
SUMMARY:Open Mic Night
DESCRIPTION:Open Mic Night every Wednesday! \n\n\nJoin us upstairs at Dueling Barrels for Open Mic Night from 7–9 PM. Musicians\, singers\, and performers of all kinds are welcome to take the stage — or just come enjoy the local talent and a good drink. \n\n\n Use the blue door entrance at 244 Second Street\, downtown Pikeville.\n\n\nPlease drink responsibly.
URL:https://visitpikeville.com/event/open-mic-night-3/
LOCATION:Dueling Barrels\, 226 2nd Street\, Pikeville\, KY\, 41501\, United States
CATEGORIES:Other
ATTACH;FMTTYPE=image/jpeg:https://visitpikeville.com/wp-content/uploads/2025/10/open-mic.jpg
END:VEVENT
BEGIN:VEVENT
DTSTART;TZID=America/Kentucky/Louisville:20251008T193000
DTEND;TZID=America/Kentucky/Louisville:20251008T213000
DTSTAMP:20260422T024226
CREATED:20251006T130001Z
LAST-MODIFIED:20251006T130001Z
UID:69322-1759951800-1759959000@visitpikeville.com
SUMMARY:Bingo Night
DESCRIPTION:@ The Mine 606
URL:https://visitpikeville.com/event/bingo-night-2-2-2-2-2-2-2-2-2/
LOCATION:The Mine 606\, 121 Main St\, Pikeville\, KY\, 41501\, United States
CATEGORIES:Other
ATTACH;FMTTYPE=image/jpeg:https://visitpikeville.com/wp-content/uploads/2025/06/mine.jpg
END:VEVENT
END:VCALENDAR