BEGIN:VCALENDAR
VERSION:2.0
PRODID:-//Visit Pikeville - ECPv6.15.20//NONSGML v1.0//EN
CALSCALE:GREGORIAN
METHOD:PUBLISH
X-ORIGINAL-URL:https://visitpikeville.com
X-WR-CALDESC:Events for Visit Pikeville
REFRESH-INTERVAL;VALUE=DURATION:PT1H
X-Robots-Tag:noindex
X-PUBLISHED-TTL:PT1H
BEGIN:VTIMEZONE
TZID:America/Kentucky/Louisville
BEGIN:DAYLIGHT
TZOFFSETFROM:-0500
TZOFFSETTO:-0400
TZNAME:EDT
DTSTART:20240310T070000
END:DAYLIGHT
BEGIN:STANDARD
TZOFFSETFROM:-0400
TZOFFSETTO:-0500
TZNAME:EST
DTSTART:20241103T060000
END:STANDARD
BEGIN:DAYLIGHT
TZOFFSETFROM:-0500
TZOFFSETTO:-0400
TZNAME:EDT
DTSTART:20250309T070000
END:DAYLIGHT
BEGIN:STANDARD
TZOFFSETFROM:-0400
TZOFFSETTO:-0500
TZNAME:EST
DTSTART:20251102T060000
END:STANDARD
BEGIN:DAYLIGHT
TZOFFSETFROM:-0500
TZOFFSETTO:-0400
TZNAME:EDT
DTSTART:20260308T070000
END:DAYLIGHT
BEGIN:STANDARD
TZOFFSETFROM:-0400
TZOFFSETTO:-0500
TZNAME:EST
DTSTART:20261101T060000
END:STANDARD
END:VTIMEZONE
BEGIN:VEVENT
DTSTART;TZID=America/Kentucky/Louisville:20250927T120000
DTEND;TZID=America/Kentucky/Louisville:20250927T190000
DTSTAMP:20260422T041821
CREATED:20250707T144119Z
LAST-MODIFIED:20250707T144119Z
UID:65707-1758974400-1758999600@visitpikeville.com
SUMMARY:PIKEVILLE PRIDE 2025
DESCRIPTION: Saturday\, September 27\, 2025 12PM – 7PM Appalachian Wireless Arena Plaza126 Main Street\, Pikeville\, KY\nGet ready because Pikeville Pride is BACK for our 6th annual celebration of love\, inclusion\, and unapologetic queer joy in the heart of the mountains!\nJoin us in downtown Pikeville for a full day of entertainment\, community\, and celebration featuring:\n DRAG SHOWS from an amazing lineup of queens\, kings\, and all that’s in-between LIVE MUSIC from local and regional talent SPECIAL GUEST SPEAKERS you won’t want to miss Local vendors including artists\, crafters\, and small businesses Food trucks and drinks including beer for 21+ attendees Family-friendly\, all-ages fun!\nFREE general admission tickets are available now and required for entry. Help us plan and keep things safe by grabbing yours early: https://bit.ly/PikevillePride2025\n Whether you’ve been with us since the beginning or this is your first Pride\, we welcome YOU because in Pikeville and throughout Appalachia\, you belong here!\nFollow us on Facebook and Instagram for updates\, sneak peeks\, and announcements leading up to the big day.
URL:https://visitpikeville.com/event/pikeville-pride-2025/
LOCATION:Appalachian Wireless Arena Plaza\, 126 Main Street\, Pikeville\, KY\, 41501\, United States
CATEGORIES:Other
ATTACH;FMTTYPE=image/jpeg:https://visitpikeville.com/wp-content/uploads/2025/07/pride.jpg
END:VEVENT
BEGIN:VEVENT
DTSTART;TZID=America/Kentucky/Louisville:20250927T193000
DTEND;TZID=America/Kentucky/Louisville:20250927T223000
DTSTAMP:20260422T041821
CREATED:20250908T145552Z
LAST-MODIFIED:20250908T145552Z
UID:68209-1759001400-1759012200@visitpikeville.com
SUMMARY:Live Music at Bank 253
DESCRIPTION:  \n7:30 – 10:30 pm
URL:https://visitpikeville.com/event/live-music-at-bank-253-3-2-2-2-2-2-2-2-2-2-2-2-2-2-2-2-2-2-2-2-2-2-2-2-2-2-2-2-2-2-2-2-2-2-3-2/
LOCATION:Bank 253\, 253 2nd St\,\, Pikeville\, KY\, 41501\, United States
CATEGORIES:Other
ATTACH;FMTTYPE=image/jpeg:https://visitpikeville.com/wp-content/uploads/2025/09/BANK-253.jpg
END:VEVENT
END:VCALENDAR